BEGIN:VCALENDAR
VERSION:2.0
PRODID:-//La Otra Orilla - ECPv6.15.17//NONSGML v1.0//EN
CALSCALE:GREGORIAN
METHOD:PUBLISH
X-ORIGINAL-URL:https://laotraorilla.net
X-WR-CALDESC:Évènements pour La Otra Orilla
REFRESH-INTERVAL;VALUE=DURATION:PT1H
X-Robots-Tag:noindex
X-PUBLISHED-TTL:PT1H
BEGIN:VTIMEZONE
TZID:UTC
BEGIN:STANDARD
TZOFFSETFROM:+0000
TZOFFSETTO:+0000
TZNAME:UTC
DTSTART:20240101T000000
END:STANDARD
END:VTIMEZONE
BEGIN:VEVENT
DTSTART;TZID=UTC:20250916T180000
DTEND;TZID=UTC:20250916T191500
DTSTAMP:20260421T182644
CREATED:20251008T181617Z
LAST-MODIFIED:20251110T225806Z
UID:10000210-1758045600-1758050100@laotraorilla.net
SUMMARY:Flamenco adultes - Niveau intermédiaire – technique et bulerias | Automne 2025
DESCRIPTION:Avec Myriam Allard
URL:https://laotraorilla.net/activite/flamenco-adultes-niveau-intermediaire-technique-et-bulerias/2025-09-16/
LOCATION:Studio La Lola\, 137\, Saint-Ferdinand – local 227\, Montréal\, Québec\, H4C 2S6\, Canada
CATEGORIES:Flamenco adultes
ATTACH;FMTTYPE=image/jpeg:https://laotraorilla.net/wp-content/uploads/2025/09/Vignette_Cours_Adultes-1200.jpg
ORGANIZER;CN="La Otra Orilla":MAILTO:info@laotraorilla.net
END:VEVENT
BEGIN:VEVENT
DTSTART;TZID=UTC:20250916T193000
DTEND;TZID=UTC:20250916T210000
DTSTAMP:20260421T182644
CREATED:20251008T181937Z
LAST-MODIFIED:20251110T230918Z
UID:10000226-1758051000-1758056400@laotraorilla.net
SUMMARY:Flamenco adultes - Niveau avancé – technique et improvisation | Automne 2025
DESCRIPTION:Avec Myriam Allard\n**15 heures de cours sur 10 semaines\, répétitions autonomes au studio les 11 novembre et 2 décembre
URL:https://laotraorilla.net/activite/flamenco-adultes-niveau-avance-technique-et-improvisation-2/2025-09-16/
LOCATION:Studio La Lola\, 137\, Saint-Ferdinand – local 227\, Montréal\, Québec\, H4C 2S6\, Canada
CATEGORIES:Flamenco adultes
ATTACH;FMTTYPE=image/jpeg:https://laotraorilla.net/wp-content/uploads/2025/09/Vignette_Cours_Adultes-1200.jpg
ORGANIZER;CN="La Otra Orilla":MAILTO:info@laotraorilla.net
END:VEVENT
BEGIN:VEVENT
DTSTART;TZID=UTC:20250917T180000
DTEND;TZID=UTC:20250917T191500
DTSTAMP:20260421T182644
CREATED:20250912T200454Z
LAST-MODIFIED:20251110T230938Z
UID:10000008-1758132000-1758136500@laotraorilla.net
SUMMARY:Flamenco adultes - Niveau débutant – tangos | Automne 2025
DESCRIPTION:Avec Sandra Matos
URL:https://laotraorilla.net/activite/flamenco-adultes-niveau-debutant-tangos/2025-09-17/
LOCATION:Studio La Lola\, 137\, Saint-Ferdinand – local 227\, Montréal\, Québec\, H4C 2S6\, Canada
CATEGORIES:Flamenco adultes
ATTACH;FMTTYPE=image/jpeg:https://laotraorilla.net/wp-content/uploads/2025/09/Vignette_Cours_Adultes-1200.jpg
ORGANIZER;CN="La Otra Orilla":MAILTO:info@laotraorilla.net
END:VEVENT
BEGIN:VEVENT
DTSTART;TZID=UTC:20250917T193000
DTEND;TZID=UTC:20250917T204500
DTSTAMP:20260421T182644
CREATED:20250912T201042Z
LAST-MODIFIED:20251110T230952Z
UID:10000004-1758137400-1758141900@laotraorilla.net
SUMMARY:Flamenco adultes - Niveau débutant/inter – technique | Automne 2025
DESCRIPTION:(*éventail requis)\nAvec Sandra Matos
URL:https://laotraorilla.net/activite/flamenco-adultes-niveau-debutant-inter-technique/2025-09-17/
LOCATION:Studio La Lola\, 137\, Saint-Ferdinand – local 227\, Montréal\, Québec\, H4C 2S6\, Canada
CATEGORIES:Flamenco adultes
ATTACH;FMTTYPE=image/jpeg:https://laotraorilla.net/wp-content/uploads/2025/09/Vignette_Cours_Adultes-1200.jpg
ORGANIZER;CN="La Otra Orilla":MAILTO:info@laotraorilla.net
END:VEVENT
BEGIN:VEVENT
DTSTART;TZID=UTC:20250919T190000
DTEND;TZID=UTC:20250919T210000
DTSTAMP:20260421T182644
CREATED:20251008T182748Z
LAST-MODIFIED:20251110T231010Z
UID:10000265-1758308400-1758315600@laotraorilla.net
SUMMARY:Flamenco adultes - Ateliers – pratiques Sevillanas | Automne 2025
DESCRIPTION:Avec Sandra Matos ou Timmy Gonzalez
URL:https://laotraorilla.net/activite/flamenco-adultes-ateliers-pratiques-sevillanas-2/2025-09-19/
LOCATION:Studio La Lola\, 137\, Saint-Ferdinand – local 227\, Montréal\, Québec\, H4C 2S6\, Canada
CATEGORIES:Flamenco adultes
ATTACH;FMTTYPE=image/jpeg:https://laotraorilla.net/wp-content/uploads/2025/09/Vignette_Cours_Adultes-1200.jpg
ORGANIZER;CN="La Otra Orilla":MAILTO:info@laotraorilla.net
END:VEVENT
BEGIN:VEVENT
DTSTART;TZID=UTC:20250920T121500
DTEND;TZID=UTC:20250920T133000
DTSTAMP:20260421T182644
CREATED:20251008T180724Z
LAST-MODIFIED:20251110T230855Z
UID:10000174-1758370500-1758375000@laotraorilla.net
SUMMARY:Flamenco adultes - Classe technique de niveau général | Automne 2025
DESCRIPTION:Avec Timmy Gonzalez
URL:https://laotraorilla.net/activite/flamenco-adultes-classe-technique-de-niveau-general/2025-09-20/
LOCATION:Studio La Lola\, 137\, Saint-Ferdinand – local 227\, Montréal\, Québec\, H4C 2S6\, Canada
CATEGORIES:Flamenco adultes
ATTACH;FMTTYPE=image/jpeg:https://laotraorilla.net/wp-content/uploads/2025/09/Vignette_Cours_Adultes-1200.jpg
ORGANIZER;CN="La Otra Orilla":MAILTO:info@laotraorilla.net
END:VEVENT
BEGIN:VEVENT
DTSTART;TZID=UTC:20250920T121500
DTEND;TZID=UTC:20250920T140000
DTSTAMP:20260421T182644
CREATED:20251008T181308Z
LAST-MODIFIED:20251110T230836Z
UID:10000186-1758370500-1758376800@laotraorilla.net
SUMMARY:Flamenco adultes - Classe technique générale ET castagnettes | Automne 2025
DESCRIPTION:Avec Timmy Gonzalez
URL:https://laotraorilla.net/activite/flamenco-adultes-classe-technique-generale-et-castagnettes/2025-09-20/
LOCATION:Studio La Lola\, 137\, Saint-Ferdinand – local 227\, Montréal\, Québec\, H4C 2S6\, Canada
CATEGORIES:Flamenco adultes
ATTACH;FMTTYPE=image/jpeg:https://laotraorilla.net/wp-content/uploads/2025/09/Vignette_Cours_Adultes-1200.jpg
ORGANIZER;CN="La Otra Orilla":MAILTO:info@laotraorilla.net
END:VEVENT
BEGIN:VEVENT
DTSTART;TZID=UTC:20250920T143000
DTEND;TZID=UTC:20250920T163000
DTSTAMP:20260421T182644
CREATED:20251008T182424Z
LAST-MODIFIED:20251110T230005Z
UID:10000257-1758378600-1758385800@laotraorilla.net
SUMMARY:Flamenco adultes - Bata de cola : technique | Automne 2025
DESCRIPTION:COMPLET \nAvec Myriam Allard
URL:https://laotraorilla.net/activite/flamenco-adultes-bata-de-cola-technique-2-automne-2025/2025-09-20/
LOCATION:Studio La Lola\, 137\, Saint-Ferdinand – local 227\, Montréal\, Québec\, H4C 2S6\, Canada
CATEGORIES:Flamenco adultes
ATTACH;FMTTYPE=image/jpeg:https://laotraorilla.net/wp-content/uploads/2025/09/Vignette_Cours_Adultes-1200.jpg
ORGANIZER;CN="La Otra Orilla":MAILTO:info@laotraorilla.net
END:VEVENT
BEGIN:VEVENT
DTSTART;TZID=UTC:20250923T180000
DTEND;TZID=UTC:20250923T191500
DTSTAMP:20260421T182644
CREATED:20251008T181617Z
LAST-MODIFIED:20251110T225806Z
UID:10000211-1758650400-1758654900@laotraorilla.net
SUMMARY:Flamenco adultes - Niveau intermédiaire – technique et bulerias | Automne 2025
DESCRIPTION:Avec Myriam Allard
URL:https://laotraorilla.net/activite/flamenco-adultes-niveau-intermediaire-technique-et-bulerias/2025-09-23/
LOCATION:Studio La Lola\, 137\, Saint-Ferdinand – local 227\, Montréal\, Québec\, H4C 2S6\, Canada
CATEGORIES:Flamenco adultes
ATTACH;FMTTYPE=image/jpeg:https://laotraorilla.net/wp-content/uploads/2025/09/Vignette_Cours_Adultes-1200.jpg
ORGANIZER;CN="La Otra Orilla":MAILTO:info@laotraorilla.net
END:VEVENT
BEGIN:VEVENT
DTSTART;TZID=UTC:20250923T193000
DTEND;TZID=UTC:20250923T210000
DTSTAMP:20260421T182644
CREATED:20251008T181937Z
LAST-MODIFIED:20251110T230918Z
UID:10000234-1758655800-1758661200@laotraorilla.net
SUMMARY:Flamenco adultes - Niveau avancé – technique et improvisation | Automne 2025
DESCRIPTION:Avec Myriam Allard\n**15 heures de cours sur 10 semaines\, répétitions autonomes au studio les 11 novembre et 2 décembre
URL:https://laotraorilla.net/activite/flamenco-adultes-niveau-avance-technique-et-improvisation-2/2025-09-23/
LOCATION:Studio La Lola\, 137\, Saint-Ferdinand – local 227\, Montréal\, Québec\, H4C 2S6\, Canada
CATEGORIES:Flamenco adultes
ATTACH;FMTTYPE=image/jpeg:https://laotraorilla.net/wp-content/uploads/2025/09/Vignette_Cours_Adultes-1200.jpg
ORGANIZER;CN="La Otra Orilla":MAILTO:info@laotraorilla.net
END:VEVENT
BEGIN:VEVENT
DTSTART;TZID=UTC:20250924T180000
DTEND;TZID=UTC:20250924T191500
DTSTAMP:20260421T182644
CREATED:20250912T200454Z
LAST-MODIFIED:20251110T230938Z
UID:10000009-1758736800-1758741300@laotraorilla.net
SUMMARY:Flamenco adultes - Niveau débutant – tangos | Automne 2025
DESCRIPTION:Avec Sandra Matos
URL:https://laotraorilla.net/activite/flamenco-adultes-niveau-debutant-tangos/2025-09-24/
LOCATION:Studio La Lola\, 137\, Saint-Ferdinand – local 227\, Montréal\, Québec\, H4C 2S6\, Canada
CATEGORIES:Flamenco adultes
ATTACH;FMTTYPE=image/jpeg:https://laotraorilla.net/wp-content/uploads/2025/09/Vignette_Cours_Adultes-1200.jpg
ORGANIZER;CN="La Otra Orilla":MAILTO:info@laotraorilla.net
END:VEVENT
BEGIN:VEVENT
DTSTART;TZID=UTC:20250924T193000
DTEND;TZID=UTC:20250924T204500
DTSTAMP:20260421T182644
CREATED:20250912T201042Z
LAST-MODIFIED:20251110T230952Z
UID:10000136-1758742200-1758746700@laotraorilla.net
SUMMARY:Flamenco adultes - Niveau débutant/inter – technique | Automne 2025
DESCRIPTION:(*éventail requis)\nAvec Sandra Matos
URL:https://laotraorilla.net/activite/flamenco-adultes-niveau-debutant-inter-technique/2025-09-24/
LOCATION:Studio La Lola\, 137\, Saint-Ferdinand – local 227\, Montréal\, Québec\, H4C 2S6\, Canada
CATEGORIES:Flamenco adultes
ATTACH;FMTTYPE=image/jpeg:https://laotraorilla.net/wp-content/uploads/2025/09/Vignette_Cours_Adultes-1200.jpg
ORGANIZER;CN="La Otra Orilla":MAILTO:info@laotraorilla.net
END:VEVENT
BEGIN:VEVENT
DTSTART;TZID=UTC:20250927T121500
DTEND;TZID=UTC:20250927T133000
DTSTAMP:20260421T182644
CREATED:20251008T180724Z
LAST-MODIFIED:20251110T230855Z
UID:10000175-1758975300-1758979800@laotraorilla.net
SUMMARY:Flamenco adultes - Classe technique de niveau général | Automne 2025
DESCRIPTION:Avec Timmy Gonzalez
URL:https://laotraorilla.net/activite/flamenco-adultes-classe-technique-de-niveau-general/2025-09-27/
LOCATION:Studio La Lola\, 137\, Saint-Ferdinand – local 227\, Montréal\, Québec\, H4C 2S6\, Canada
CATEGORIES:Flamenco adultes
ATTACH;FMTTYPE=image/jpeg:https://laotraorilla.net/wp-content/uploads/2025/09/Vignette_Cours_Adultes-1200.jpg
ORGANIZER;CN="La Otra Orilla":MAILTO:info@laotraorilla.net
END:VEVENT
BEGIN:VEVENT
DTSTART;TZID=UTC:20250927T121500
DTEND;TZID=UTC:20250927T140000
DTSTAMP:20260421T182644
CREATED:20251008T181308Z
LAST-MODIFIED:20251110T230836Z
UID:10000187-1758975300-1758981600@laotraorilla.net
SUMMARY:Flamenco adultes - Classe technique générale ET castagnettes | Automne 2025
DESCRIPTION:Avec Timmy Gonzalez
URL:https://laotraorilla.net/activite/flamenco-adultes-classe-technique-generale-et-castagnettes/2025-09-27/
LOCATION:Studio La Lola\, 137\, Saint-Ferdinand – local 227\, Montréal\, Québec\, H4C 2S6\, Canada
CATEGORIES:Flamenco adultes
ATTACH;FMTTYPE=image/jpeg:https://laotraorilla.net/wp-content/uploads/2025/09/Vignette_Cours_Adultes-1200.jpg
ORGANIZER;CN="La Otra Orilla":MAILTO:info@laotraorilla.net
END:VEVENT
BEGIN:VEVENT
DTSTART;TZID=UTC:20250930T180000
DTEND;TZID=UTC:20250930T191500
DTSTAMP:20260421T182644
CREATED:20251008T181617Z
LAST-MODIFIED:20251110T225806Z
UID:10000212-1759255200-1759259700@laotraorilla.net
SUMMARY:Flamenco adultes - Niveau intermédiaire – technique et bulerias | Automne 2025
DESCRIPTION:Avec Myriam Allard
URL:https://laotraorilla.net/activite/flamenco-adultes-niveau-intermediaire-technique-et-bulerias/2025-09-30/
LOCATION:Studio La Lola\, 137\, Saint-Ferdinand – local 227\, Montréal\, Québec\, H4C 2S6\, Canada
CATEGORIES:Flamenco adultes
ATTACH;FMTTYPE=image/jpeg:https://laotraorilla.net/wp-content/uploads/2025/09/Vignette_Cours_Adultes-1200.jpg
ORGANIZER;CN="La Otra Orilla":MAILTO:info@laotraorilla.net
END:VEVENT
BEGIN:VEVENT
DTSTART;TZID=UTC:20250930T193000
DTEND;TZID=UTC:20250930T210000
DTSTAMP:20260421T182644
CREATED:20251008T181937Z
LAST-MODIFIED:20251110T230918Z
UID:10000235-1759260600-1759266000@laotraorilla.net
SUMMARY:Flamenco adultes - Niveau avancé – technique et improvisation | Automne 2025
DESCRIPTION:Avec Myriam Allard\n**15 heures de cours sur 10 semaines\, répétitions autonomes au studio les 11 novembre et 2 décembre
URL:https://laotraorilla.net/activite/flamenco-adultes-niveau-avance-technique-et-improvisation-2/2025-09-30/
LOCATION:Studio La Lola\, 137\, Saint-Ferdinand – local 227\, Montréal\, Québec\, H4C 2S6\, Canada
CATEGORIES:Flamenco adultes
ATTACH;FMTTYPE=image/jpeg:https://laotraorilla.net/wp-content/uploads/2025/09/Vignette_Cours_Adultes-1200.jpg
ORGANIZER;CN="La Otra Orilla":MAILTO:info@laotraorilla.net
END:VEVENT
END:VCALENDAR