BEGIN:VCALENDAR
VERSION:2.0
PRODID:-//La Otra Orilla - ECPv6.15.17//NONSGML v1.0//EN
CALSCALE:GREGORIAN
METHOD:PUBLISH
X-ORIGINAL-URL:https://laotraorilla.net
X-WR-CALDESC:Évènements pour La Otra Orilla
REFRESH-INTERVAL;VALUE=DURATION:PT1H
X-Robots-Tag:noindex
X-PUBLISHED-TTL:PT1H
BEGIN:VTIMEZONE
TZID:UTC
BEGIN:STANDARD
TZOFFSETFROM:+0000
TZOFFSETTO:+0000
TZNAME:UTC
DTSTART:20240101T000000
END:STANDARD
END:VTIMEZONE
BEGIN:VEVENT
DTSTART;TZID=UTC:20251001T180000
DTEND;TZID=UTC:20251001T191500
DTSTAMP:20260421T165106
CREATED:20250912T200454Z
LAST-MODIFIED:20251110T230938Z
UID:10000010-1759341600-1759346100@laotraorilla.net
SUMMARY:Flamenco adultes - Niveau débutant – tangos | Automne 2025
DESCRIPTION:Avec Sandra Matos
URL:https://laotraorilla.net/activite/flamenco-adultes-niveau-debutant-tangos/2025-10-01/
LOCATION:Studio La Lola\, 137\, Saint-Ferdinand – local 227\, Montréal\, Québec\, H4C 2S6\, Canada
CATEGORIES:Flamenco adultes
ATTACH;FMTTYPE=image/jpeg:https://laotraorilla.net/wp-content/uploads/2025/09/Vignette_Cours_Adultes-1200.jpg
ORGANIZER;CN="La Otra Orilla":MAILTO:info@laotraorilla.net
END:VEVENT
BEGIN:VEVENT
DTSTART;TZID=UTC:20251001T193000
DTEND;TZID=UTC:20251001T204500
DTSTAMP:20260421T165106
CREATED:20250912T201042Z
LAST-MODIFIED:20251110T230952Z
UID:10000137-1759347000-1759351500@laotraorilla.net
SUMMARY:Flamenco adultes - Niveau débutant/inter – technique | Automne 2025
DESCRIPTION:(*éventail requis)\nAvec Sandra Matos
URL:https://laotraorilla.net/activite/flamenco-adultes-niveau-debutant-inter-technique/2025-10-01/
LOCATION:Studio La Lola\, 137\, Saint-Ferdinand – local 227\, Montréal\, Québec\, H4C 2S6\, Canada
CATEGORIES:Flamenco adultes
ATTACH;FMTTYPE=image/jpeg:https://laotraorilla.net/wp-content/uploads/2025/09/Vignette_Cours_Adultes-1200.jpg
ORGANIZER;CN="La Otra Orilla":MAILTO:info@laotraorilla.net
END:VEVENT
BEGIN:VEVENT
DTSTART;TZID=UTC:20251004T121500
DTEND;TZID=UTC:20251004T133000
DTSTAMP:20260421T165106
CREATED:20251008T180724Z
LAST-MODIFIED:20251110T230855Z
UID:10000176-1759580100-1759584600@laotraorilla.net
SUMMARY:Flamenco adultes - Classe technique de niveau général | Automne 2025
DESCRIPTION:Avec Timmy Gonzalez
URL:https://laotraorilla.net/activite/flamenco-adultes-classe-technique-de-niveau-general/2025-10-04/
LOCATION:Studio La Lola\, 137\, Saint-Ferdinand – local 227\, Montréal\, Québec\, H4C 2S6\, Canada
CATEGORIES:Flamenco adultes
ATTACH;FMTTYPE=image/jpeg:https://laotraorilla.net/wp-content/uploads/2025/09/Vignette_Cours_Adultes-1200.jpg
ORGANIZER;CN="La Otra Orilla":MAILTO:info@laotraorilla.net
END:VEVENT
BEGIN:VEVENT
DTSTART;TZID=UTC:20251004T121500
DTEND;TZID=UTC:20251004T140000
DTSTAMP:20260421T165106
CREATED:20251008T181308Z
LAST-MODIFIED:20251110T230836Z
UID:10000188-1759580100-1759586400@laotraorilla.net
SUMMARY:Flamenco adultes - Classe technique générale ET castagnettes | Automne 2025
DESCRIPTION:Avec Timmy Gonzalez
URL:https://laotraorilla.net/activite/flamenco-adultes-classe-technique-generale-et-castagnettes/2025-10-04/
LOCATION:Studio La Lola\, 137\, Saint-Ferdinand – local 227\, Montréal\, Québec\, H4C 2S6\, Canada
CATEGORIES:Flamenco adultes
ATTACH;FMTTYPE=image/jpeg:https://laotraorilla.net/wp-content/uploads/2025/09/Vignette_Cours_Adultes-1200.jpg
ORGANIZER;CN="La Otra Orilla":MAILTO:info@laotraorilla.net
END:VEVENT
BEGIN:VEVENT
DTSTART;TZID=UTC:20251004T143000
DTEND;TZID=UTC:20251004T163000
DTSTAMP:20260421T165106
CREATED:20251008T182424Z
LAST-MODIFIED:20251110T230005Z
UID:10000258-1759588200-1759595400@laotraorilla.net
SUMMARY:Flamenco adultes - Bata de cola : technique | Automne 2025
DESCRIPTION:COMPLET \nAvec Myriam Allard
URL:https://laotraorilla.net/activite/flamenco-adultes-bata-de-cola-technique-2-automne-2025/2025-10-04/
LOCATION:Studio La Lola\, 137\, Saint-Ferdinand – local 227\, Montréal\, Québec\, H4C 2S6\, Canada
CATEGORIES:Flamenco adultes
ATTACH;FMTTYPE=image/jpeg:https://laotraorilla.net/wp-content/uploads/2025/09/Vignette_Cours_Adultes-1200.jpg
ORGANIZER;CN="La Otra Orilla":MAILTO:info@laotraorilla.net
END:VEVENT
BEGIN:VEVENT
DTSTART;TZID=UTC:20251007T180000
DTEND;TZID=UTC:20251007T191500
DTSTAMP:20260421T165106
CREATED:20251008T181617Z
LAST-MODIFIED:20251110T225806Z
UID:10000213-1759860000-1759864500@laotraorilla.net
SUMMARY:Flamenco adultes - Niveau intermédiaire – technique et bulerias | Automne 2025
DESCRIPTION:Avec Myriam Allard
URL:https://laotraorilla.net/activite/flamenco-adultes-niveau-intermediaire-technique-et-bulerias/2025-10-07/
LOCATION:Studio La Lola\, 137\, Saint-Ferdinand – local 227\, Montréal\, Québec\, H4C 2S6\, Canada
CATEGORIES:Flamenco adultes
ATTACH;FMTTYPE=image/jpeg:https://laotraorilla.net/wp-content/uploads/2025/09/Vignette_Cours_Adultes-1200.jpg
ORGANIZER;CN="La Otra Orilla":MAILTO:info@laotraorilla.net
END:VEVENT
BEGIN:VEVENT
DTSTART;TZID=UTC:20251007T193000
DTEND;TZID=UTC:20251007T210000
DTSTAMP:20260421T165106
CREATED:20251008T181937Z
LAST-MODIFIED:20251110T230918Z
UID:10000236-1759865400-1759870800@laotraorilla.net
SUMMARY:Flamenco adultes - Niveau avancé – technique et improvisation | Automne 2025
DESCRIPTION:Avec Myriam Allard\n**15 heures de cours sur 10 semaines\, répétitions autonomes au studio les 11 novembre et 2 décembre
URL:https://laotraorilla.net/activite/flamenco-adultes-niveau-avance-technique-et-improvisation-2/2025-10-07/
LOCATION:Studio La Lola\, 137\, Saint-Ferdinand – local 227\, Montréal\, Québec\, H4C 2S6\, Canada
CATEGORIES:Flamenco adultes
ATTACH;FMTTYPE=image/jpeg:https://laotraorilla.net/wp-content/uploads/2025/09/Vignette_Cours_Adultes-1200.jpg
ORGANIZER;CN="La Otra Orilla":MAILTO:info@laotraorilla.net
END:VEVENT
BEGIN:VEVENT
DTSTART;TZID=UTC:20251008T180000
DTEND;TZID=UTC:20251008T191500
DTSTAMP:20260421T165106
CREATED:20250912T200454Z
LAST-MODIFIED:20251110T230938Z
UID:10000011-1759946400-1759950900@laotraorilla.net
SUMMARY:Flamenco adultes - Niveau débutant – tangos | Automne 2025
DESCRIPTION:Avec Sandra Matos
URL:https://laotraorilla.net/activite/flamenco-adultes-niveau-debutant-tangos/2025-10-08/
LOCATION:Studio La Lola\, 137\, Saint-Ferdinand – local 227\, Montréal\, Québec\, H4C 2S6\, Canada
CATEGORIES:Flamenco adultes
ATTACH;FMTTYPE=image/jpeg:https://laotraorilla.net/wp-content/uploads/2025/09/Vignette_Cours_Adultes-1200.jpg
ORGANIZER;CN="La Otra Orilla":MAILTO:info@laotraorilla.net
END:VEVENT
BEGIN:VEVENT
DTSTART;TZID=UTC:20251008T193000
DTEND;TZID=UTC:20251008T204500
DTSTAMP:20260421T165106
CREATED:20250912T201042Z
LAST-MODIFIED:20251110T230952Z
UID:10000138-1759951800-1759956300@laotraorilla.net
SUMMARY:Flamenco adultes - Niveau débutant/inter – technique | Automne 2025
DESCRIPTION:(*éventail requis)\nAvec Sandra Matos
URL:https://laotraorilla.net/activite/flamenco-adultes-niveau-debutant-inter-technique/2025-10-08/
LOCATION:Studio La Lola\, 137\, Saint-Ferdinand – local 227\, Montréal\, Québec\, H4C 2S6\, Canada
CATEGORIES:Flamenco adultes
ATTACH;FMTTYPE=image/jpeg:https://laotraorilla.net/wp-content/uploads/2025/09/Vignette_Cours_Adultes-1200.jpg
ORGANIZER;CN="La Otra Orilla":MAILTO:info@laotraorilla.net
END:VEVENT
BEGIN:VEVENT
DTSTART;TZID=UTC:20251010T190000
DTEND;TZID=UTC:20251010T210000
DTSTAMP:20260421T165106
CREATED:20251008T182748Z
LAST-MODIFIED:20251110T231010Z
UID:10000266-1760122800-1760130000@laotraorilla.net
SUMMARY:Flamenco adultes - Ateliers – pratiques Sevillanas | Automne 2025
DESCRIPTION:Avec Sandra Matos ou Timmy Gonzalez
URL:https://laotraorilla.net/activite/flamenco-adultes-ateliers-pratiques-sevillanas-2/2025-10-10/
LOCATION:Studio La Lola\, 137\, Saint-Ferdinand – local 227\, Montréal\, Québec\, H4C 2S6\, Canada
CATEGORIES:Flamenco adultes
ATTACH;FMTTYPE=image/jpeg:https://laotraorilla.net/wp-content/uploads/2025/09/Vignette_Cours_Adultes-1200.jpg
ORGANIZER;CN="La Otra Orilla":MAILTO:info@laotraorilla.net
END:VEVENT
BEGIN:VEVENT
DTSTART;TZID=UTC:20251011T121500
DTEND;TZID=UTC:20251011T133000
DTSTAMP:20260421T165106
CREATED:20251008T180724Z
LAST-MODIFIED:20251110T230855Z
UID:10000177-1760184900-1760189400@laotraorilla.net
SUMMARY:Flamenco adultes - Classe technique de niveau général | Automne 2025
DESCRIPTION:Avec Timmy Gonzalez
URL:https://laotraorilla.net/activite/flamenco-adultes-classe-technique-de-niveau-general/2025-10-11/
LOCATION:Studio La Lola\, 137\, Saint-Ferdinand – local 227\, Montréal\, Québec\, H4C 2S6\, Canada
CATEGORIES:Flamenco adultes
ATTACH;FMTTYPE=image/jpeg:https://laotraorilla.net/wp-content/uploads/2025/09/Vignette_Cours_Adultes-1200.jpg
ORGANIZER;CN="La Otra Orilla":MAILTO:info@laotraorilla.net
END:VEVENT
BEGIN:VEVENT
DTSTART;TZID=UTC:20251011T121500
DTEND;TZID=UTC:20251011T140000
DTSTAMP:20260421T165106
CREATED:20251008T181308Z
LAST-MODIFIED:20251110T230836Z
UID:10000189-1760184900-1760191200@laotraorilla.net
SUMMARY:Flamenco adultes - Classe technique générale ET castagnettes | Automne 2025
DESCRIPTION:Avec Timmy Gonzalez
URL:https://laotraorilla.net/activite/flamenco-adultes-classe-technique-generale-et-castagnettes/2025-10-11/
LOCATION:Studio La Lola\, 137\, Saint-Ferdinand – local 227\, Montréal\, Québec\, H4C 2S6\, Canada
CATEGORIES:Flamenco adultes
ATTACH;FMTTYPE=image/jpeg:https://laotraorilla.net/wp-content/uploads/2025/09/Vignette_Cours_Adultes-1200.jpg
ORGANIZER;CN="La Otra Orilla":MAILTO:info@laotraorilla.net
END:VEVENT
BEGIN:VEVENT
DTSTART;TZID=UTC:20251014T180000
DTEND;TZID=UTC:20251014T191500
DTSTAMP:20260421T165106
CREATED:20251008T181617Z
LAST-MODIFIED:20251110T225806Z
UID:10000214-1760464800-1760469300@laotraorilla.net
SUMMARY:Flamenco adultes - Niveau intermédiaire – technique et bulerias | Automne 2025
DESCRIPTION:Avec Myriam Allard
URL:https://laotraorilla.net/activite/flamenco-adultes-niveau-intermediaire-technique-et-bulerias/2025-10-14/
LOCATION:Studio La Lola\, 137\, Saint-Ferdinand – local 227\, Montréal\, Québec\, H4C 2S6\, Canada
CATEGORIES:Flamenco adultes
ATTACH;FMTTYPE=image/jpeg:https://laotraorilla.net/wp-content/uploads/2025/09/Vignette_Cours_Adultes-1200.jpg
ORGANIZER;CN="La Otra Orilla":MAILTO:info@laotraorilla.net
END:VEVENT
BEGIN:VEVENT
DTSTART;TZID=UTC:20251014T193000
DTEND;TZID=UTC:20251014T210000
DTSTAMP:20260421T165106
CREATED:20251008T181937Z
LAST-MODIFIED:20251110T230918Z
UID:10000237-1760470200-1760475600@laotraorilla.net
SUMMARY:Flamenco adultes - Niveau avancé – technique et improvisation | Automne 2025
DESCRIPTION:Avec Myriam Allard\n**15 heures de cours sur 10 semaines\, répétitions autonomes au studio les 11 novembre et 2 décembre
URL:https://laotraorilla.net/activite/flamenco-adultes-niveau-avance-technique-et-improvisation-2/2025-10-14/
LOCATION:Studio La Lola\, 137\, Saint-Ferdinand – local 227\, Montréal\, Québec\, H4C 2S6\, Canada
CATEGORIES:Flamenco adultes
ATTACH;FMTTYPE=image/jpeg:https://laotraorilla.net/wp-content/uploads/2025/09/Vignette_Cours_Adultes-1200.jpg
ORGANIZER;CN="La Otra Orilla":MAILTO:info@laotraorilla.net
END:VEVENT
BEGIN:VEVENT
DTSTART;TZID=UTC:20251015T180000
DTEND;TZID=UTC:20251015T191500
DTSTAMP:20260421T165106
CREATED:20250912T200454Z
LAST-MODIFIED:20251110T230938Z
UID:10000012-1760551200-1760555700@laotraorilla.net
SUMMARY:Flamenco adultes - Niveau débutant – tangos | Automne 2025
DESCRIPTION:Avec Sandra Matos
URL:https://laotraorilla.net/activite/flamenco-adultes-niveau-debutant-tangos/2025-10-15/
LOCATION:Studio La Lola\, 137\, Saint-Ferdinand – local 227\, Montréal\, Québec\, H4C 2S6\, Canada
CATEGORIES:Flamenco adultes
ATTACH;FMTTYPE=image/jpeg:https://laotraorilla.net/wp-content/uploads/2025/09/Vignette_Cours_Adultes-1200.jpg
ORGANIZER;CN="La Otra Orilla":MAILTO:info@laotraorilla.net
END:VEVENT
BEGIN:VEVENT
DTSTART;TZID=UTC:20251015T193000
DTEND;TZID=UTC:20251015T204500
DTSTAMP:20260421T165106
CREATED:20250912T201042Z
LAST-MODIFIED:20251110T230952Z
UID:10000139-1760556600-1760561100@laotraorilla.net
SUMMARY:Flamenco adultes - Niveau débutant/inter – technique | Automne 2025
DESCRIPTION:(*éventail requis)\nAvec Sandra Matos
URL:https://laotraorilla.net/activite/flamenco-adultes-niveau-debutant-inter-technique/2025-10-15/
LOCATION:Studio La Lola\, 137\, Saint-Ferdinand – local 227\, Montréal\, Québec\, H4C 2S6\, Canada
CATEGORIES:Flamenco adultes
ATTACH;FMTTYPE=image/jpeg:https://laotraorilla.net/wp-content/uploads/2025/09/Vignette_Cours_Adultes-1200.jpg
ORGANIZER;CN="La Otra Orilla":MAILTO:info@laotraorilla.net
END:VEVENT
BEGIN:VEVENT
DTSTART;TZID=UTC:20251018T121500
DTEND;TZID=UTC:20251018T133000
DTSTAMP:20260421T165106
CREATED:20251008T180724Z
LAST-MODIFIED:20251110T230855Z
UID:10000178-1760789700-1760794200@laotraorilla.net
SUMMARY:Flamenco adultes - Classe technique de niveau général | Automne 2025
DESCRIPTION:Avec Timmy Gonzalez
URL:https://laotraorilla.net/activite/flamenco-adultes-classe-technique-de-niveau-general/2025-10-18/
LOCATION:Studio La Lola\, 137\, Saint-Ferdinand – local 227\, Montréal\, Québec\, H4C 2S6\, Canada
CATEGORIES:Flamenco adultes
ATTACH;FMTTYPE=image/jpeg:https://laotraorilla.net/wp-content/uploads/2025/09/Vignette_Cours_Adultes-1200.jpg
ORGANIZER;CN="La Otra Orilla":MAILTO:info@laotraorilla.net
END:VEVENT
BEGIN:VEVENT
DTSTART;TZID=UTC:20251018T121500
DTEND;TZID=UTC:20251018T140000
DTSTAMP:20260421T165106
CREATED:20251008T181308Z
LAST-MODIFIED:20251110T230836Z
UID:10000190-1760789700-1760796000@laotraorilla.net
SUMMARY:Flamenco adultes - Classe technique générale ET castagnettes | Automne 2025
DESCRIPTION:Avec Timmy Gonzalez
URL:https://laotraorilla.net/activite/flamenco-adultes-classe-technique-generale-et-castagnettes/2025-10-18/
LOCATION:Studio La Lola\, 137\, Saint-Ferdinand – local 227\, Montréal\, Québec\, H4C 2S6\, Canada
CATEGORIES:Flamenco adultes
ATTACH;FMTTYPE=image/jpeg:https://laotraorilla.net/wp-content/uploads/2025/09/Vignette_Cours_Adultes-1200.jpg
ORGANIZER;CN="La Otra Orilla":MAILTO:info@laotraorilla.net
END:VEVENT
BEGIN:VEVENT
DTSTART;TZID=UTC:20251018T143000
DTEND;TZID=UTC:20251018T163000
DTSTAMP:20260421T165106
CREATED:20251008T182424Z
LAST-MODIFIED:20251110T230005Z
UID:10000259-1760797800-1760805000@laotraorilla.net
SUMMARY:Flamenco adultes - Bata de cola : technique | Automne 2025
DESCRIPTION:COMPLET \nAvec Myriam Allard
URL:https://laotraorilla.net/activite/flamenco-adultes-bata-de-cola-technique-2-automne-2025/2025-10-18/
LOCATION:Studio La Lola\, 137\, Saint-Ferdinand – local 227\, Montréal\, Québec\, H4C 2S6\, Canada
CATEGORIES:Flamenco adultes
ATTACH;FMTTYPE=image/jpeg:https://laotraorilla.net/wp-content/uploads/2025/09/Vignette_Cours_Adultes-1200.jpg
ORGANIZER;CN="La Otra Orilla":MAILTO:info@laotraorilla.net
END:VEVENT
BEGIN:VEVENT
DTSTART;TZID=UTC:20251021T180000
DTEND;TZID=UTC:20251021T191500
DTSTAMP:20260421T165106
CREATED:20251008T181617Z
LAST-MODIFIED:20251110T225806Z
UID:10000215-1761069600-1761074100@laotraorilla.net
SUMMARY:Flamenco adultes - Niveau intermédiaire – technique et bulerias | Automne 2025
DESCRIPTION:Avec Myriam Allard
URL:https://laotraorilla.net/activite/flamenco-adultes-niveau-intermediaire-technique-et-bulerias/2025-10-21/
LOCATION:Studio La Lola\, 137\, Saint-Ferdinand – local 227\, Montréal\, Québec\, H4C 2S6\, Canada
CATEGORIES:Flamenco adultes
ATTACH;FMTTYPE=image/jpeg:https://laotraorilla.net/wp-content/uploads/2025/09/Vignette_Cours_Adultes-1200.jpg
ORGANIZER;CN="La Otra Orilla":MAILTO:info@laotraorilla.net
END:VEVENT
BEGIN:VEVENT
DTSTART;TZID=UTC:20251021T193000
DTEND;TZID=UTC:20251021T210000
DTSTAMP:20260421T165106
CREATED:20251008T181937Z
LAST-MODIFIED:20251110T230918Z
UID:10000238-1761075000-1761080400@laotraorilla.net
SUMMARY:Flamenco adultes - Niveau avancé – technique et improvisation | Automne 2025
DESCRIPTION:Avec Myriam Allard\n**15 heures de cours sur 10 semaines\, répétitions autonomes au studio les 11 novembre et 2 décembre
URL:https://laotraorilla.net/activite/flamenco-adultes-niveau-avance-technique-et-improvisation-2/2025-10-21/
LOCATION:Studio La Lola\, 137\, Saint-Ferdinand – local 227\, Montréal\, Québec\, H4C 2S6\, Canada
CATEGORIES:Flamenco adultes
ATTACH;FMTTYPE=image/jpeg:https://laotraorilla.net/wp-content/uploads/2025/09/Vignette_Cours_Adultes-1200.jpg
ORGANIZER;CN="La Otra Orilla":MAILTO:info@laotraorilla.net
END:VEVENT
BEGIN:VEVENT
DTSTART;TZID=UTC:20251022T180000
DTEND;TZID=UTC:20251022T191500
DTSTAMP:20260421T165106
CREATED:20250912T200454Z
LAST-MODIFIED:20251110T230938Z
UID:10000013-1761156000-1761160500@laotraorilla.net
SUMMARY:Flamenco adultes - Niveau débutant – tangos | Automne 2025
DESCRIPTION:Avec Sandra Matos
URL:https://laotraorilla.net/activite/flamenco-adultes-niveau-debutant-tangos/2025-10-22/
LOCATION:Studio La Lola\, 137\, Saint-Ferdinand – local 227\, Montréal\, Québec\, H4C 2S6\, Canada
CATEGORIES:Flamenco adultes
ATTACH;FMTTYPE=image/jpeg:https://laotraorilla.net/wp-content/uploads/2025/09/Vignette_Cours_Adultes-1200.jpg
ORGANIZER;CN="La Otra Orilla":MAILTO:info@laotraorilla.net
END:VEVENT
BEGIN:VEVENT
DTSTART;TZID=UTC:20251022T193000
DTEND;TZID=UTC:20251022T204500
DTSTAMP:20260421T165106
CREATED:20250912T201042Z
LAST-MODIFIED:20251110T230952Z
UID:10000140-1761161400-1761165900@laotraorilla.net
SUMMARY:Flamenco adultes - Niveau débutant/inter – technique | Automne 2025
DESCRIPTION:(*éventail requis)\nAvec Sandra Matos
URL:https://laotraorilla.net/activite/flamenco-adultes-niveau-debutant-inter-technique/2025-10-22/
LOCATION:Studio La Lola\, 137\, Saint-Ferdinand – local 227\, Montréal\, Québec\, H4C 2S6\, Canada
CATEGORIES:Flamenco adultes
ATTACH;FMTTYPE=image/jpeg:https://laotraorilla.net/wp-content/uploads/2025/09/Vignette_Cours_Adultes-1200.jpg
ORGANIZER;CN="La Otra Orilla":MAILTO:info@laotraorilla.net
END:VEVENT
BEGIN:VEVENT
DTSTART;TZID=UTC:20251025T121500
DTEND;TZID=UTC:20251025T133000
DTSTAMP:20260421T165106
CREATED:20251008T180724Z
LAST-MODIFIED:20251110T230855Z
UID:10000179-1761394500-1761399000@laotraorilla.net
SUMMARY:Flamenco adultes - Classe technique de niveau général | Automne 2025
DESCRIPTION:Avec Timmy Gonzalez
URL:https://laotraorilla.net/activite/flamenco-adultes-classe-technique-de-niveau-general/2025-10-25/
LOCATION:Studio La Lola\, 137\, Saint-Ferdinand – local 227\, Montréal\, Québec\, H4C 2S6\, Canada
CATEGORIES:Flamenco adultes
ATTACH;FMTTYPE=image/jpeg:https://laotraorilla.net/wp-content/uploads/2025/09/Vignette_Cours_Adultes-1200.jpg
ORGANIZER;CN="La Otra Orilla":MAILTO:info@laotraorilla.net
END:VEVENT
BEGIN:VEVENT
DTSTART;TZID=UTC:20251025T121500
DTEND;TZID=UTC:20251025T140000
DTSTAMP:20260421T165106
CREATED:20251008T181308Z
LAST-MODIFIED:20251110T230836Z
UID:10000191-1761394500-1761400800@laotraorilla.net
SUMMARY:Flamenco adultes - Classe technique générale ET castagnettes | Automne 2025
DESCRIPTION:Avec Timmy Gonzalez
URL:https://laotraorilla.net/activite/flamenco-adultes-classe-technique-generale-et-castagnettes/2025-10-25/
LOCATION:Studio La Lola\, 137\, Saint-Ferdinand – local 227\, Montréal\, Québec\, H4C 2S6\, Canada
CATEGORIES:Flamenco adultes
ATTACH;FMTTYPE=image/jpeg:https://laotraorilla.net/wp-content/uploads/2025/09/Vignette_Cours_Adultes-1200.jpg
ORGANIZER;CN="La Otra Orilla":MAILTO:info@laotraorilla.net
END:VEVENT
BEGIN:VEVENT
DTSTART;TZID=UTC:20251028T180000
DTEND;TZID=UTC:20251028T191500
DTSTAMP:20260421T165106
CREATED:20251008T181617Z
LAST-MODIFIED:20251110T225806Z
UID:10000216-1761674400-1761678900@laotraorilla.net
SUMMARY:Flamenco adultes - Niveau intermédiaire – technique et bulerias | Automne 2025
DESCRIPTION:Avec Myriam Allard
URL:https://laotraorilla.net/activite/flamenco-adultes-niveau-intermediaire-technique-et-bulerias/2025-10-28/
LOCATION:Studio La Lola\, 137\, Saint-Ferdinand – local 227\, Montréal\, Québec\, H4C 2S6\, Canada
CATEGORIES:Flamenco adultes
ATTACH;FMTTYPE=image/jpeg:https://laotraorilla.net/wp-content/uploads/2025/09/Vignette_Cours_Adultes-1200.jpg
ORGANIZER;CN="La Otra Orilla":MAILTO:info@laotraorilla.net
END:VEVENT
BEGIN:VEVENT
DTSTART;TZID=UTC:20251028T193000
DTEND;TZID=UTC:20251028T210000
DTSTAMP:20260421T165106
CREATED:20251008T181937Z
LAST-MODIFIED:20251110T230918Z
UID:10000239-1761679800-1761685200@laotraorilla.net
SUMMARY:Flamenco adultes - Niveau avancé – technique et improvisation | Automne 2025
DESCRIPTION:Avec Myriam Allard\n**15 heures de cours sur 10 semaines\, répétitions autonomes au studio les 11 novembre et 2 décembre
URL:https://laotraorilla.net/activite/flamenco-adultes-niveau-avance-technique-et-improvisation-2/2025-10-28/
LOCATION:Studio La Lola\, 137\, Saint-Ferdinand – local 227\, Montréal\, Québec\, H4C 2S6\, Canada
CATEGORIES:Flamenco adultes
ATTACH;FMTTYPE=image/jpeg:https://laotraorilla.net/wp-content/uploads/2025/09/Vignette_Cours_Adultes-1200.jpg
ORGANIZER;CN="La Otra Orilla":MAILTO:info@laotraorilla.net
END:VEVENT
BEGIN:VEVENT
DTSTART;TZID=UTC:20251029T180000
DTEND;TZID=UTC:20251029T191500
DTSTAMP:20260421T165106
CREATED:20250912T200454Z
LAST-MODIFIED:20251110T230938Z
UID:10000014-1761760800-1761765300@laotraorilla.net
SUMMARY:Flamenco adultes - Niveau débutant – tangos | Automne 2025
DESCRIPTION:Avec Sandra Matos
URL:https://laotraorilla.net/activite/flamenco-adultes-niveau-debutant-tangos/2025-10-29/
LOCATION:Studio La Lola\, 137\, Saint-Ferdinand – local 227\, Montréal\, Québec\, H4C 2S6\, Canada
CATEGORIES:Flamenco adultes
ATTACH;FMTTYPE=image/jpeg:https://laotraorilla.net/wp-content/uploads/2025/09/Vignette_Cours_Adultes-1200.jpg
ORGANIZER;CN="La Otra Orilla":MAILTO:info@laotraorilla.net
END:VEVENT
BEGIN:VEVENT
DTSTART;TZID=UTC:20251029T193000
DTEND;TZID=UTC:20251029T204500
DTSTAMP:20260421T165106
CREATED:20250912T201042Z
LAST-MODIFIED:20251110T230952Z
UID:10000141-1761766200-1761770700@laotraorilla.net
SUMMARY:Flamenco adultes - Niveau débutant/inter – technique | Automne 2025
DESCRIPTION:(*éventail requis)\nAvec Sandra Matos
URL:https://laotraorilla.net/activite/flamenco-adultes-niveau-debutant-inter-technique/2025-10-29/
LOCATION:Studio La Lola\, 137\, Saint-Ferdinand – local 227\, Montréal\, Québec\, H4C 2S6\, Canada
CATEGORIES:Flamenco adultes
ATTACH;FMTTYPE=image/jpeg:https://laotraorilla.net/wp-content/uploads/2025/09/Vignette_Cours_Adultes-1200.jpg
ORGANIZER;CN="La Otra Orilla":MAILTO:info@laotraorilla.net
END:VEVENT
END:VCALENDAR