BEGIN:VCALENDAR
VERSION:2.0
PRODID:-//La Otra Orilla - ECPv6.15.17//NONSGML v1.0//EN
CALSCALE:GREGORIAN
METHOD:PUBLISH
X-ORIGINAL-URL:https://laotraorilla.net
X-WR-CALDESC:Évènements pour La Otra Orilla
REFRESH-INTERVAL;VALUE=DURATION:PT1H
X-Robots-Tag:noindex
X-PUBLISHED-TTL:PT1H
BEGIN:VTIMEZONE
TZID:UTC
BEGIN:STANDARD
TZOFFSETFROM:+0000
TZOFFSETTO:+0000
TZNAME:UTC
DTSTART:20240101T000000
END:STANDARD
END:VTIMEZONE
BEGIN:VEVENT
DTSTART;TZID=UTC:20251202T180000
DTEND;TZID=UTC:20251202T191500
DTSTAMP:20260421T132536
CREATED:20251008T181617Z
LAST-MODIFIED:20251110T225806Z
UID:10000221-1764698400-1764702900@laotraorilla.net
SUMMARY:Flamenco adultes - Niveau intermédiaire – technique et bulerias | Automne 2025
DESCRIPTION:Avec Myriam Allard
URL:https://laotraorilla.net/activite/flamenco-adultes-niveau-intermediaire-technique-et-bulerias/2025-12-02/
LOCATION:Studio La Lola\, 137\, Saint-Ferdinand – local 227\, Montréal\, Québec\, H4C 2S6\, Canada
CATEGORIES:Flamenco adultes
ATTACH;FMTTYPE=image/jpeg:https://laotraorilla.net/wp-content/uploads/2025/09/Vignette_Cours_Adultes-1200.jpg
ORGANIZER;CN="La Otra Orilla":MAILTO:info@laotraorilla.net
END:VEVENT
BEGIN:VEVENT
DTSTART;TZID=UTC:20251202T193000
DTEND;TZID=UTC:20251202T210000
DTSTAMP:20260421T132536
CREATED:20251008T181937Z
LAST-MODIFIED:20251110T230918Z
UID:10000244-1764703800-1764709200@laotraorilla.net
SUMMARY:Flamenco adultes - Niveau avancé – technique et improvisation | Automne 2025
DESCRIPTION:Avec Myriam Allard\n**15 heures de cours sur 10 semaines\, répétitions autonomes au studio les 11 novembre et 2 décembre
URL:https://laotraorilla.net/activite/flamenco-adultes-niveau-avance-technique-et-improvisation-2/2025-12-02/
LOCATION:Studio La Lola\, 137\, Saint-Ferdinand – local 227\, Montréal\, Québec\, H4C 2S6\, Canada
CATEGORIES:Flamenco adultes
ATTACH;FMTTYPE=image/jpeg:https://laotraorilla.net/wp-content/uploads/2025/09/Vignette_Cours_Adultes-1200.jpg
ORGANIZER;CN="La Otra Orilla":MAILTO:info@laotraorilla.net
END:VEVENT
BEGIN:VEVENT
DTSTART;TZID=UTC:20251203T180000
DTEND;TZID=UTC:20251203T191500
DTSTAMP:20260421T132536
CREATED:20250912T200454Z
LAST-MODIFIED:20251110T230938Z
UID:10000019-1764784800-1764789300@laotraorilla.net
SUMMARY:Flamenco adultes - Niveau débutant – tangos | Automne 2025
DESCRIPTION:Avec Sandra Matos
URL:https://laotraorilla.net/activite/flamenco-adultes-niveau-debutant-tangos/2025-12-03/
LOCATION:Studio La Lola\, 137\, Saint-Ferdinand – local 227\, Montréal\, Québec\, H4C 2S6\, Canada
CATEGORIES:Flamenco adultes
ATTACH;FMTTYPE=image/jpeg:https://laotraorilla.net/wp-content/uploads/2025/09/Vignette_Cours_Adultes-1200.jpg
ORGANIZER;CN="La Otra Orilla":MAILTO:info@laotraorilla.net
END:VEVENT
BEGIN:VEVENT
DTSTART;TZID=UTC:20251203T193000
DTEND;TZID=UTC:20251203T204500
DTSTAMP:20260421T132536
CREATED:20250912T201042Z
LAST-MODIFIED:20251110T230952Z
UID:10000146-1764790200-1764794700@laotraorilla.net
SUMMARY:Flamenco adultes - Niveau débutant/inter – technique | Automne 2025
DESCRIPTION:(*éventail requis)\nAvec Sandra Matos
URL:https://laotraorilla.net/activite/flamenco-adultes-niveau-debutant-inter-technique/2025-12-03/
LOCATION:Studio La Lola\, 137\, Saint-Ferdinand – local 227\, Montréal\, Québec\, H4C 2S6\, Canada
CATEGORIES:Flamenco adultes
ATTACH;FMTTYPE=image/jpeg:https://laotraorilla.net/wp-content/uploads/2025/09/Vignette_Cours_Adultes-1200.jpg
ORGANIZER;CN="La Otra Orilla":MAILTO:info@laotraorilla.net
END:VEVENT
BEGIN:VEVENT
DTSTART;TZID=UTC:20251205T190000
DTEND;TZID=UTC:20251205T210000
DTSTAMP:20260421T132536
CREATED:20251008T182748Z
LAST-MODIFIED:20251110T231010Z
UID:10000268-1764961200-1764968400@laotraorilla.net
SUMMARY:Flamenco adultes - Ateliers – pratiques Sevillanas | Automne 2025
DESCRIPTION:Avec Sandra Matos ou Timmy Gonzalez
URL:https://laotraorilla.net/activite/flamenco-adultes-ateliers-pratiques-sevillanas-2/2025-12-05/
LOCATION:Studio La Lola\, 137\, Saint-Ferdinand – local 227\, Montréal\, Québec\, H4C 2S6\, Canada
CATEGORIES:Flamenco adultes
ATTACH;FMTTYPE=image/jpeg:https://laotraorilla.net/wp-content/uploads/2025/09/Vignette_Cours_Adultes-1200.jpg
ORGANIZER;CN="La Otra Orilla":MAILTO:info@laotraorilla.net
END:VEVENT
BEGIN:VEVENT
DTSTART;TZID=UTC:20251206T121500
DTEND;TZID=UTC:20251206T133000
DTSTAMP:20260421T132536
CREATED:20251008T180724Z
LAST-MODIFIED:20251110T230855Z
UID:10000185-1765023300-1765027800@laotraorilla.net
SUMMARY:Flamenco adultes - Classe technique de niveau général | Automne 2025
DESCRIPTION:Avec Timmy Gonzalez
URL:https://laotraorilla.net/activite/flamenco-adultes-classe-technique-de-niveau-general/2025-12-06/
LOCATION:Studio La Lola\, 137\, Saint-Ferdinand – local 227\, Montréal\, Québec\, H4C 2S6\, Canada
CATEGORIES:Flamenco adultes
ATTACH;FMTTYPE=image/jpeg:https://laotraorilla.net/wp-content/uploads/2025/09/Vignette_Cours_Adultes-1200.jpg
ORGANIZER;CN="La Otra Orilla":MAILTO:info@laotraorilla.net
END:VEVENT
BEGIN:VEVENT
DTSTART;TZID=UTC:20251206T121500
DTEND;TZID=UTC:20251206T140000
DTSTAMP:20260421T132536
CREATED:20251008T181308Z
LAST-MODIFIED:20251110T230836Z
UID:10000197-1765023300-1765029600@laotraorilla.net
SUMMARY:Flamenco adultes - Classe technique générale ET castagnettes | Automne 2025
DESCRIPTION:Avec Timmy Gonzalez
URL:https://laotraorilla.net/activite/flamenco-adultes-classe-technique-generale-et-castagnettes/2025-12-06/
LOCATION:Studio La Lola\, 137\, Saint-Ferdinand – local 227\, Montréal\, Québec\, H4C 2S6\, Canada
CATEGORIES:Flamenco adultes
ATTACH;FMTTYPE=image/jpeg:https://laotraorilla.net/wp-content/uploads/2025/09/Vignette_Cours_Adultes-1200.jpg
ORGANIZER;CN="La Otra Orilla":MAILTO:info@laotraorilla.net
END:VEVENT
END:VCALENDAR