BEGIN:VCALENDAR
VERSION:2.0
PRODID:-//La Otra Orilla - ECPv6.15.17//NONSGML v1.0//EN
CALSCALE:GREGORIAN
METHOD:PUBLISH
X-WR-CALNAME:La Otra Orilla
X-ORIGINAL-URL:https://laotraorilla.net
X-WR-CALDESC:Évènements pour La Otra Orilla
REFRESH-INTERVAL;VALUE=DURATION:PT1H
X-Robots-Tag:noindex
X-PUBLISHED-TTL:PT1H
BEGIN:VTIMEZONE
TZID:America/New_York
BEGIN:DAYLIGHT
TZOFFSETFROM:-0500
TZOFFSETTO:-0400
TZNAME:EDT
DTSTART:20250309T070000
END:DAYLIGHT
BEGIN:STANDARD
TZOFFSETFROM:-0400
TZOFFSETTO:-0500
TZNAME:EST
DTSTART:20251102T060000
END:STANDARD
BEGIN:DAYLIGHT
TZOFFSETFROM:-0500
TZOFFSETTO:-0400
TZNAME:EDT
DTSTART:20260308T070000
END:DAYLIGHT
BEGIN:STANDARD
TZOFFSETFROM:-0400
TZOFFSETTO:-0500
TZNAME:EST
DTSTART:20261101T060000
END:STANDARD
BEGIN:DAYLIGHT
TZOFFSETFROM:-0500
TZOFFSETTO:-0400
TZNAME:EDT
DTSTART:20270314T070000
END:DAYLIGHT
BEGIN:STANDARD
TZOFFSETFROM:-0400
TZOFFSETTO:-0500
TZNAME:EST
DTSTART:20271107T060000
END:STANDARD
END:VTIMEZONE
BEGIN:VEVENT
DTSTART;TZID=America/New_York:20260110T121500
DTEND;TZID=America/New_York:20260110T133000
DTSTAMP:20260421T113331
CREATED:20251208T210014Z
LAST-MODIFIED:20251208T213121Z
UID:10000881-1768047300-1768051800@laotraorilla.net
SUMMARY:Flamenco adultes - cours de castagnettes - seguiriya | Hiver 2026
DESCRIPTION:avec Timmy González
URL:https://laotraorilla.net/activite/flamenco-adultes-cours-de-castagnettes-seguiriya-hiver-2026/2026-01-10/
LOCATION:Studio La Lola\, 137\, Saint-Ferdinand – local 227\, Montréal\, Québec\, H4C 2S6\, Canada
CATEGORIES:Flamenco adultes
ATTACH;FMTTYPE=image/jpeg:https://laotraorilla.net/wp-content/uploads/2025/09/Vignette_Cours_Adultes-1200.jpg
ORGANIZER;CN="La Otra Orilla":MAILTO:info@laotraorilla.net
END:VEVENT
BEGIN:VEVENT
DTSTART;TZID=America/New_York:20260113T180000
DTEND;TZID=America/New_York:20260113T191500
DTSTAMP:20260421T113331
CREATED:20251208T202109Z
LAST-MODIFIED:20251208T204730Z
UID:10000723-1768327200-1768331700@laotraorilla.net
SUMMARY:Flamenco adultes - niveau intermédiaire - bulerías | Hiver 2026
DESCRIPTION:avec Myriam Allard
URL:https://laotraorilla.net/activite/flamenco-adultes-niveau-intermediaire-bulerias-hiver-2026/2026-01-13/
LOCATION:Studio La Lola\, 137\, Saint-Ferdinand – local 227\, Montréal\, Québec\, H4C 2S6\, Canada
CATEGORIES:Flamenco adultes
ATTACH;FMTTYPE=image/jpeg:https://laotraorilla.net/wp-content/uploads/2025/09/Vignette_Cours_Adultes-1200.jpg
ORGANIZER;CN="La Otra Orilla":MAILTO:info@laotraorilla.net
END:VEVENT
BEGIN:VEVENT
DTSTART;TZID=America/New_York:20260113T193000
DTEND;TZID=America/New_York:20260113T210000
DTSTAMP:20260421T113331
CREATED:20251208T204340Z
LAST-MODIFIED:20260107T182335Z
UID:10000755-1768332600-1768338000@laotraorilla.net
SUMMARY:Flamenco adultes - niveau avancé - tarantos | Hiver 2026
DESCRIPTION:avec Myriam Allard
URL:https://laotraorilla.net/activite/flamenco-adultes-niveau-avance-tarantos-hiver-2026/2026-01-13/
LOCATION:Studio La Lola\, 137\, Saint-Ferdinand – local 227\, Montréal\, Québec\, H4C 2S6\, Canada
CATEGORIES:Flamenco adultes
ATTACH;FMTTYPE=image/jpeg:https://laotraorilla.net/wp-content/uploads/2025/09/Vignette_Cours_Adultes-1200.jpg
ORGANIZER;CN="La Otra Orilla":MAILTO:info@laotraorilla.net
END:VEVENT
BEGIN:VEVENT
DTSTART;TZID=America/New_York:20260114T180000
DTEND;TZID=America/New_York:20260114T191500
DTSTAMP:20260421T113331
CREATED:20251111T215759Z
LAST-MODIFIED:20251111T215759Z
UID:10000514-1768413600-1768418100@laotraorilla.net
SUMMARY:Flamenco adultes - Niveau débutant – tangos | Hiver 2026
DESCRIPTION:Avec Sandra Matos
URL:https://laotraorilla.net/activite/flamenco-adultes-niveau-debutant-tangos-hiver-2026/2026-01-14/
LOCATION:Studio La Lola\, 137\, Saint-Ferdinand – local 227\, Montréal\, Québec\, H4C 2S6\, Canada
CATEGORIES:Flamenco adultes
ATTACH;FMTTYPE=image/jpeg:https://laotraorilla.net/wp-content/uploads/2025/09/Vignette_Cours_Adultes-1200.jpg
ORGANIZER;CN="La Otra Orilla":MAILTO:info@laotraorilla.net
END:VEVENT
BEGIN:VEVENT
DTSTART;TZID=America/New_York:20260114T193000
DTEND;TZID=America/New_York:20260114T204500
DTSTAMP:20260421T113331
CREATED:20251126T160342Z
LAST-MODIFIED:20251126T160426Z
UID:10000691-1768419000-1768423500@laotraorilla.net
SUMMARY:Flamenco adultes - Niveau débutant/inter – guajira | Hiver 2026
DESCRIPTION:Avec Sandra Matos \n*Éventail requis
URL:https://laotraorilla.net/activite/flamenco-adultes-niveau-debutant-inter-guajira-hiver-2026/2026-01-14/
LOCATION:Studio La Lola\, 137\, Saint-Ferdinand – local 227\, Montréal\, Québec\, H4C 2S6\, Canada
CATEGORIES:Flamenco adultes
ATTACH;FMTTYPE=image/jpeg:https://laotraorilla.net/wp-content/uploads/2025/09/Vignette_Cours_Adultes-1200.jpg
ORGANIZER;CN="La Otra Orilla":MAILTO:info@laotraorilla.net
END:VEVENT
BEGIN:VEVENT
DTSTART;TZID=America/New_York:20260116T190000
DTEND;TZID=America/New_York:20260116T210000
DTSTAMP:20260421T113331
CREATED:20251211T001346Z
LAST-MODIFIED:20260401T150719Z
UID:10000997-1768590000-1768597200@laotraorilla.net
SUMMARY:Flamenco adultes - ateliers pratiques - sevillanas | Hiver 2026
DESCRIPTION:avec Timmy González ou Sandra Matos \n  \nInscriptions
URL:https://laotraorilla.net/activite/flamenco-adultes-ateliers-pratique-sevillanas-hiver-2026/2026-01-16/
LOCATION:Studio La Lola\, 137\, Saint-Ferdinand – local 227\, Montréal\, Québec\, H4C 2S6\, Canada
CATEGORIES:Flamenco adultes
ATTACH;FMTTYPE=image/jpeg:https://laotraorilla.net/wp-content/uploads/2026/04/Sevillanas_atelier-1.jpg
ORGANIZER;CN="La Otra Orilla":MAILTO:info@laotraorilla.net
END:VEVENT
BEGIN:VEVENT
DTSTART;TZID=America/New_York:20260117T121500
DTEND;TZID=America/New_York:20260117T133000
DTSTAMP:20260421T113331
CREATED:20251208T210014Z
LAST-MODIFIED:20251208T213121Z
UID:10000787-1768652100-1768656600@laotraorilla.net
SUMMARY:Flamenco adultes - cours de castagnettes - seguiriya | Hiver 2026
DESCRIPTION:avec Timmy González
URL:https://laotraorilla.net/activite/flamenco-adultes-cours-de-castagnettes-seguiriya-hiver-2026/2026-01-17/
LOCATION:Studio La Lola\, 137\, Saint-Ferdinand – local 227\, Montréal\, Québec\, H4C 2S6\, Canada
CATEGORIES:Flamenco adultes
ATTACH;FMTTYPE=image/jpeg:https://laotraorilla.net/wp-content/uploads/2025/09/Vignette_Cours_Adultes-1200.jpg
ORGANIZER;CN="La Otra Orilla":MAILTO:info@laotraorilla.net
END:VEVENT
BEGIN:VEVENT
DTSTART;TZID=America/New_York:20260117T140000
DTEND;TZID=America/New_York:20260117T160000
DTSTAMP:20260421T113331
CREATED:20251211T000028Z
LAST-MODIFIED:20251211T171432Z
UID:10000883-1768658400-1768665600@laotraorilla.net
SUMMARY:Flamenco adultes - Bata de cola - technique | Hiver 2026
DESCRIPTION:avec Myriam Allard
URL:https://laotraorilla.net/activite/flamenco-adultes-bata-de-cola-technique-hiver-2026/2026-01-17/
LOCATION:Studio La Lola\, 137\, Saint-Ferdinand – local 227\, Montréal\, Québec\, H4C 2S6\, Canada
CATEGORIES:Flamenco adultes
ATTACH;FMTTYPE=image/jpeg:https://laotraorilla.net/wp-content/uploads/2025/09/Vignette_Cours_Adultes-1200.jpg
ORGANIZER;CN="La Otra Orilla":MAILTO:info@laotraorilla.net
END:VEVENT
BEGIN:VEVENT
DTSTART;TZID=America/New_York:20260120T180000
DTEND;TZID=America/New_York:20260120T191500
DTSTAMP:20260421T113331
CREATED:20251208T202109Z
LAST-MODIFIED:20251208T204730Z
UID:10000724-1768932000-1768936500@laotraorilla.net
SUMMARY:Flamenco adultes - niveau intermédiaire - bulerías | Hiver 2026
DESCRIPTION:avec Myriam Allard
URL:https://laotraorilla.net/activite/flamenco-adultes-niveau-intermediaire-bulerias-hiver-2026/2026-01-20/
LOCATION:Studio La Lola\, 137\, Saint-Ferdinand – local 227\, Montréal\, Québec\, H4C 2S6\, Canada
CATEGORIES:Flamenco adultes
ATTACH;FMTTYPE=image/jpeg:https://laotraorilla.net/wp-content/uploads/2025/09/Vignette_Cours_Adultes-1200.jpg
ORGANIZER;CN="La Otra Orilla":MAILTO:info@laotraorilla.net
END:VEVENT
BEGIN:VEVENT
DTSTART;TZID=America/New_York:20260120T193000
DTEND;TZID=America/New_York:20260120T210000
DTSTAMP:20260421T113331
CREATED:20251208T204340Z
LAST-MODIFIED:20260107T182335Z
UID:10000756-1768937400-1768942800@laotraorilla.net
SUMMARY:Flamenco adultes - niveau avancé - tarantos | Hiver 2026
DESCRIPTION:avec Myriam Allard
URL:https://laotraorilla.net/activite/flamenco-adultes-niveau-avance-tarantos-hiver-2026/2026-01-20/
LOCATION:Studio La Lola\, 137\, Saint-Ferdinand – local 227\, Montréal\, Québec\, H4C 2S6\, Canada
CATEGORIES:Flamenco adultes
ATTACH;FMTTYPE=image/jpeg:https://laotraorilla.net/wp-content/uploads/2025/09/Vignette_Cours_Adultes-1200.jpg
ORGANIZER;CN="La Otra Orilla":MAILTO:info@laotraorilla.net
END:VEVENT
BEGIN:VEVENT
DTSTART;TZID=America/New_York:20260121T180000
DTEND;TZID=America/New_York:20260121T191500
DTSTAMP:20260421T113331
CREATED:20251111T215759Z
LAST-MODIFIED:20251111T215759Z
UID:10000515-1769018400-1769022900@laotraorilla.net
SUMMARY:Flamenco adultes - Niveau débutant – tangos | Hiver 2026
DESCRIPTION:Avec Sandra Matos
URL:https://laotraorilla.net/activite/flamenco-adultes-niveau-debutant-tangos-hiver-2026/2026-01-21/
LOCATION:Studio La Lola\, 137\, Saint-Ferdinand – local 227\, Montréal\, Québec\, H4C 2S6\, Canada
CATEGORIES:Flamenco adultes
ATTACH;FMTTYPE=image/jpeg:https://laotraorilla.net/wp-content/uploads/2025/09/Vignette_Cours_Adultes-1200.jpg
ORGANIZER;CN="La Otra Orilla":MAILTO:info@laotraorilla.net
END:VEVENT
BEGIN:VEVENT
DTSTART;TZID=America/New_York:20260121T193000
DTEND;TZID=America/New_York:20260121T204500
DTSTAMP:20260421T113331
CREATED:20251126T160342Z
LAST-MODIFIED:20251126T160426Z
UID:10000692-1769023800-1769028300@laotraorilla.net
SUMMARY:Flamenco adultes - Niveau débutant/inter – guajira | Hiver 2026
DESCRIPTION:Avec Sandra Matos \n*Éventail requis
URL:https://laotraorilla.net/activite/flamenco-adultes-niveau-debutant-inter-guajira-hiver-2026/2026-01-21/
LOCATION:Studio La Lola\, 137\, Saint-Ferdinand – local 227\, Montréal\, Québec\, H4C 2S6\, Canada
CATEGORIES:Flamenco adultes
ATTACH;FMTTYPE=image/jpeg:https://laotraorilla.net/wp-content/uploads/2025/09/Vignette_Cours_Adultes-1200.jpg
ORGANIZER;CN="La Otra Orilla":MAILTO:info@laotraorilla.net
END:VEVENT
BEGIN:VEVENT
DTSTART;TZID=America/New_York:20260124T121500
DTEND;TZID=America/New_York:20260124T133000
DTSTAMP:20260421T113331
CREATED:20251208T210014Z
LAST-MODIFIED:20251208T213121Z
UID:10000788-1769256900-1769261400@laotraorilla.net
SUMMARY:Flamenco adultes - cours de castagnettes - seguiriya | Hiver 2026
DESCRIPTION:avec Timmy González
URL:https://laotraorilla.net/activite/flamenco-adultes-cours-de-castagnettes-seguiriya-hiver-2026/2026-01-24/
LOCATION:Studio La Lola\, 137\, Saint-Ferdinand – local 227\, Montréal\, Québec\, H4C 2S6\, Canada
CATEGORIES:Flamenco adultes
ATTACH;FMTTYPE=image/jpeg:https://laotraorilla.net/wp-content/uploads/2025/09/Vignette_Cours_Adultes-1200.jpg
ORGANIZER;CN="La Otra Orilla":MAILTO:info@laotraorilla.net
END:VEVENT
BEGIN:VEVENT
DTSTART;TZID=America/New_York:20260127T180000
DTEND;TZID=America/New_York:20260127T191500
DTSTAMP:20260421T113331
CREATED:20251208T202109Z
LAST-MODIFIED:20251208T204730Z
UID:10000725-1769536800-1769541300@laotraorilla.net
SUMMARY:Flamenco adultes - niveau intermédiaire - bulerías | Hiver 2026
DESCRIPTION:avec Myriam Allard
URL:https://laotraorilla.net/activite/flamenco-adultes-niveau-intermediaire-bulerias-hiver-2026/2026-01-27/
LOCATION:Studio La Lola\, 137\, Saint-Ferdinand – local 227\, Montréal\, Québec\, H4C 2S6\, Canada
CATEGORIES:Flamenco adultes
ATTACH;FMTTYPE=image/jpeg:https://laotraorilla.net/wp-content/uploads/2025/09/Vignette_Cours_Adultes-1200.jpg
ORGANIZER;CN="La Otra Orilla":MAILTO:info@laotraorilla.net
END:VEVENT
BEGIN:VEVENT
DTSTART;TZID=America/New_York:20260128T180000
DTEND;TZID=America/New_York:20260128T191500
DTSTAMP:20260421T113331
CREATED:20251111T215759Z
LAST-MODIFIED:20251111T215759Z
UID:10000516-1769623200-1769627700@laotraorilla.net
SUMMARY:Flamenco adultes - Niveau débutant – tangos | Hiver 2026
DESCRIPTION:Avec Sandra Matos
URL:https://laotraorilla.net/activite/flamenco-adultes-niveau-debutant-tangos-hiver-2026/2026-01-28/
LOCATION:Studio La Lola\, 137\, Saint-Ferdinand – local 227\, Montréal\, Québec\, H4C 2S6\, Canada
CATEGORIES:Flamenco adultes
ATTACH;FMTTYPE=image/jpeg:https://laotraorilla.net/wp-content/uploads/2025/09/Vignette_Cours_Adultes-1200.jpg
ORGANIZER;CN="La Otra Orilla":MAILTO:info@laotraorilla.net
END:VEVENT
BEGIN:VEVENT
DTSTART;TZID=America/New_York:20260128T193000
DTEND;TZID=America/New_York:20260128T204500
DTSTAMP:20260421T113331
CREATED:20251126T160342Z
LAST-MODIFIED:20251126T160426Z
UID:10000693-1769628600-1769633100@laotraorilla.net
SUMMARY:Flamenco adultes - Niveau débutant/inter – guajira | Hiver 2026
DESCRIPTION:Avec Sandra Matos \n*Éventail requis
URL:https://laotraorilla.net/activite/flamenco-adultes-niveau-debutant-inter-guajira-hiver-2026/2026-01-28/
LOCATION:Studio La Lola\, 137\, Saint-Ferdinand – local 227\, Montréal\, Québec\, H4C 2S6\, Canada
CATEGORIES:Flamenco adultes
ATTACH;FMTTYPE=image/jpeg:https://laotraorilla.net/wp-content/uploads/2025/09/Vignette_Cours_Adultes-1200.jpg
ORGANIZER;CN="La Otra Orilla":MAILTO:info@laotraorilla.net
END:VEVENT
BEGIN:VEVENT
DTSTART;TZID=America/New_York:20260131T121500
DTEND;TZID=America/New_York:20260131T133000
DTSTAMP:20260421T113331
CREATED:20251208T210014Z
LAST-MODIFIED:20251208T213121Z
UID:10000789-1769861700-1769866200@laotraorilla.net
SUMMARY:Flamenco adultes - cours de castagnettes - seguiriya | Hiver 2026
DESCRIPTION:avec Timmy González
URL:https://laotraorilla.net/activite/flamenco-adultes-cours-de-castagnettes-seguiriya-hiver-2026/2026-01-31/
LOCATION:Studio La Lola\, 137\, Saint-Ferdinand – local 227\, Montréal\, Québec\, H4C 2S6\, Canada
CATEGORIES:Flamenco adultes
ATTACH;FMTTYPE=image/jpeg:https://laotraorilla.net/wp-content/uploads/2025/09/Vignette_Cours_Adultes-1200.jpg
ORGANIZER;CN="La Otra Orilla":MAILTO:info@laotraorilla.net
END:VEVENT
END:VCALENDAR