BEGIN:VCALENDAR
VERSION:2.0
PRODID:-//La Otra Orilla - ECPv6.15.17//NONSGML v1.0//EN
CALSCALE:GREGORIAN
METHOD:PUBLISH
X-ORIGINAL-URL:https://laotraorilla.net
X-WR-CALDESC:Évènements pour La Otra Orilla
REFRESH-INTERVAL;VALUE=DURATION:PT1H
X-Robots-Tag:noindex
X-PUBLISHED-TTL:PT1H
BEGIN:VTIMEZONE
TZID:America/New_York
BEGIN:DAYLIGHT
TZOFFSETFROM:-0500
TZOFFSETTO:-0400
TZNAME:EDT
DTSTART:20250309T070000
END:DAYLIGHT
BEGIN:STANDARD
TZOFFSETFROM:-0400
TZOFFSETTO:-0500
TZNAME:EST
DTSTART:20251102T060000
END:STANDARD
BEGIN:DAYLIGHT
TZOFFSETFROM:-0500
TZOFFSETTO:-0400
TZNAME:EDT
DTSTART:20260308T070000
END:DAYLIGHT
BEGIN:STANDARD
TZOFFSETFROM:-0400
TZOFFSETTO:-0500
TZNAME:EST
DTSTART:20261101T060000
END:STANDARD
BEGIN:DAYLIGHT
TZOFFSETFROM:-0500
TZOFFSETTO:-0400
TZNAME:EDT
DTSTART:20270314T070000
END:DAYLIGHT
BEGIN:STANDARD
TZOFFSETFROM:-0400
TZOFFSETTO:-0500
TZNAME:EST
DTSTART:20271107T060000
END:STANDARD
END:VTIMEZONE
BEGIN:VEVENT
DTSTART;TZID=America/New_York:20260203T180000
DTEND;TZID=America/New_York:20260203T191500
DTSTAMP:20260421T094956
CREATED:20251208T202109Z
LAST-MODIFIED:20251208T204730Z
UID:10000726-1770141600-1770146100@laotraorilla.net
SUMMARY:Flamenco adultes - niveau intermédiaire - bulerías | Hiver 2026
DESCRIPTION:avec Myriam Allard
URL:https://laotraorilla.net/activite/flamenco-adultes-niveau-intermediaire-bulerias-hiver-2026/2026-02-03/
LOCATION:Studio La Lola\, 137\, Saint-Ferdinand – local 227\, Montréal\, Québec\, H4C 2S6\, Canada
CATEGORIES:Flamenco adultes
ATTACH;FMTTYPE=image/jpeg:https://laotraorilla.net/wp-content/uploads/2025/09/Vignette_Cours_Adultes-1200.jpg
ORGANIZER;CN="La Otra Orilla":MAILTO:info@laotraorilla.net
END:VEVENT
BEGIN:VEVENT
DTSTART;TZID=America/New_York:20260203T193000
DTEND;TZID=America/New_York:20260203T210000
DTSTAMP:20260421T094956
CREATED:20251208T204340Z
LAST-MODIFIED:20260107T182335Z
UID:10001009-1770147000-1770152400@laotraorilla.net
SUMMARY:Flamenco adultes - niveau avancé - tarantos | Hiver 2026
DESCRIPTION:avec Myriam Allard
URL:https://laotraorilla.net/activite/flamenco-adultes-niveau-avance-tarantos-hiver-2026/2026-02-03/
LOCATION:Studio La Lola\, 137\, Saint-Ferdinand – local 227\, Montréal\, Québec\, H4C 2S6\, Canada
CATEGORIES:Flamenco adultes
ATTACH;FMTTYPE=image/jpeg:https://laotraorilla.net/wp-content/uploads/2025/09/Vignette_Cours_Adultes-1200.jpg
ORGANIZER;CN="La Otra Orilla":MAILTO:info@laotraorilla.net
END:VEVENT
BEGIN:VEVENT
DTSTART;TZID=America/New_York:20260204T180000
DTEND;TZID=America/New_York:20260204T191500
DTSTAMP:20260421T094956
CREATED:20251111T215759Z
LAST-MODIFIED:20251111T215759Z
UID:10000517-1770228000-1770232500@laotraorilla.net
SUMMARY:Flamenco adultes - Niveau débutant – tangos | Hiver 2026
DESCRIPTION:Avec Sandra Matos
URL:https://laotraorilla.net/activite/flamenco-adultes-niveau-debutant-tangos-hiver-2026/2026-02-04/
LOCATION:Studio La Lola\, 137\, Saint-Ferdinand – local 227\, Montréal\, Québec\, H4C 2S6\, Canada
CATEGORIES:Flamenco adultes
ATTACH;FMTTYPE=image/jpeg:https://laotraorilla.net/wp-content/uploads/2025/09/Vignette_Cours_Adultes-1200.jpg
ORGANIZER;CN="La Otra Orilla":MAILTO:info@laotraorilla.net
END:VEVENT
BEGIN:VEVENT
DTSTART;TZID=America/New_York:20260204T193000
DTEND;TZID=America/New_York:20260204T204500
DTSTAMP:20260421T094956
CREATED:20251126T160342Z
LAST-MODIFIED:20251126T160426Z
UID:10000694-1770233400-1770237900@laotraorilla.net
SUMMARY:Flamenco adultes - Niveau débutant/inter – guajira | Hiver 2026
DESCRIPTION:Avec Sandra Matos \n*Éventail requis
URL:https://laotraorilla.net/activite/flamenco-adultes-niveau-debutant-inter-guajira-hiver-2026/2026-02-04/
LOCATION:Studio La Lola\, 137\, Saint-Ferdinand – local 227\, Montréal\, Québec\, H4C 2S6\, Canada
CATEGORIES:Flamenco adultes
ATTACH;FMTTYPE=image/jpeg:https://laotraorilla.net/wp-content/uploads/2025/09/Vignette_Cours_Adultes-1200.jpg
ORGANIZER;CN="La Otra Orilla":MAILTO:info@laotraorilla.net
END:VEVENT
BEGIN:VEVENT
DTSTART;TZID=America/New_York:20260207T121500
DTEND;TZID=America/New_York:20260207T133000
DTSTAMP:20260421T094956
CREATED:20251208T210014Z
LAST-MODIFIED:20251208T213121Z
UID:10000790-1770466500-1770471000@laotraorilla.net
SUMMARY:Flamenco adultes - cours de castagnettes - seguiriya | Hiver 2026
DESCRIPTION:avec Timmy González
URL:https://laotraorilla.net/activite/flamenco-adultes-cours-de-castagnettes-seguiriya-hiver-2026/2026-02-07/
LOCATION:Studio La Lola\, 137\, Saint-Ferdinand – local 227\, Montréal\, Québec\, H4C 2S6\, Canada
CATEGORIES:Flamenco adultes
ATTACH;FMTTYPE=image/jpeg:https://laotraorilla.net/wp-content/uploads/2025/09/Vignette_Cours_Adultes-1200.jpg
ORGANIZER;CN="La Otra Orilla":MAILTO:info@laotraorilla.net
END:VEVENT
BEGIN:VEVENT
DTSTART;TZID=America/New_York:20260207T140000
DTEND;TZID=America/New_York:20260207T160000
DTSTAMP:20260421T094956
CREATED:20251211T000028Z
LAST-MODIFIED:20251211T171432Z
UID:10000884-1770472800-1770480000@laotraorilla.net
SUMMARY:Flamenco adultes - Bata de cola - technique | Hiver 2026
DESCRIPTION:avec Myriam Allard
URL:https://laotraorilla.net/activite/flamenco-adultes-bata-de-cola-technique-hiver-2026/2026-02-07/
LOCATION:Studio La Lola\, 137\, Saint-Ferdinand – local 227\, Montréal\, Québec\, H4C 2S6\, Canada
CATEGORIES:Flamenco adultes
ATTACH;FMTTYPE=image/jpeg:https://laotraorilla.net/wp-content/uploads/2025/09/Vignette_Cours_Adultes-1200.jpg
ORGANIZER;CN="La Otra Orilla":MAILTO:info@laotraorilla.net
END:VEVENT
BEGIN:VEVENT
DTSTART;TZID=America/New_York:20260210T180000
DTEND;TZID=America/New_York:20260210T191500
DTSTAMP:20260421T094956
CREATED:20251208T202109Z
LAST-MODIFIED:20251208T204730Z
UID:10000727-1770746400-1770750900@laotraorilla.net
SUMMARY:Flamenco adultes - niveau intermédiaire - bulerías | Hiver 2026
DESCRIPTION:avec Myriam Allard
URL:https://laotraorilla.net/activite/flamenco-adultes-niveau-intermediaire-bulerias-hiver-2026/2026-02-10/
LOCATION:Studio La Lola\, 137\, Saint-Ferdinand – local 227\, Montréal\, Québec\, H4C 2S6\, Canada
CATEGORIES:Flamenco adultes
ATTACH;FMTTYPE=image/jpeg:https://laotraorilla.net/wp-content/uploads/2025/09/Vignette_Cours_Adultes-1200.jpg
ORGANIZER;CN="La Otra Orilla":MAILTO:info@laotraorilla.net
END:VEVENT
BEGIN:VEVENT
DTSTART;TZID=America/New_York:20260210T193000
DTEND;TZID=America/New_York:20260210T210000
DTSTAMP:20260421T094956
CREATED:20251208T204340Z
LAST-MODIFIED:20260107T182335Z
UID:10000759-1770751800-1770757200@laotraorilla.net
SUMMARY:Flamenco adultes - niveau avancé - tarantos | Hiver 2026
DESCRIPTION:avec Myriam Allard
URL:https://laotraorilla.net/activite/flamenco-adultes-niveau-avance-tarantos-hiver-2026/2026-02-10/
LOCATION:Studio La Lola\, 137\, Saint-Ferdinand – local 227\, Montréal\, Québec\, H4C 2S6\, Canada
CATEGORIES:Flamenco adultes
ATTACH;FMTTYPE=image/jpeg:https://laotraorilla.net/wp-content/uploads/2025/09/Vignette_Cours_Adultes-1200.jpg
ORGANIZER;CN="La Otra Orilla":MAILTO:info@laotraorilla.net
END:VEVENT
BEGIN:VEVENT
DTSTART;TZID=America/New_York:20260211T180000
DTEND;TZID=America/New_York:20260211T191500
DTSTAMP:20260421T094956
CREATED:20251111T215759Z
LAST-MODIFIED:20251111T215759Z
UID:10000518-1770832800-1770837300@laotraorilla.net
SUMMARY:Flamenco adultes - Niveau débutant – tangos | Hiver 2026
DESCRIPTION:Avec Sandra Matos
URL:https://laotraorilla.net/activite/flamenco-adultes-niveau-debutant-tangos-hiver-2026/2026-02-11/
LOCATION:Studio La Lola\, 137\, Saint-Ferdinand – local 227\, Montréal\, Québec\, H4C 2S6\, Canada
CATEGORIES:Flamenco adultes
ATTACH;FMTTYPE=image/jpeg:https://laotraorilla.net/wp-content/uploads/2025/09/Vignette_Cours_Adultes-1200.jpg
ORGANIZER;CN="La Otra Orilla":MAILTO:info@laotraorilla.net
END:VEVENT
BEGIN:VEVENT
DTSTART;TZID=America/New_York:20260211T193000
DTEND;TZID=America/New_York:20260211T204500
DTSTAMP:20260421T094956
CREATED:20251126T160342Z
LAST-MODIFIED:20251126T160426Z
UID:10000695-1770838200-1770842700@laotraorilla.net
SUMMARY:Flamenco adultes - Niveau débutant/inter – guajira | Hiver 2026
DESCRIPTION:Avec Sandra Matos \n*Éventail requis
URL:https://laotraorilla.net/activite/flamenco-adultes-niveau-debutant-inter-guajira-hiver-2026/2026-02-11/
LOCATION:Studio La Lola\, 137\, Saint-Ferdinand – local 227\, Montréal\, Québec\, H4C 2S6\, Canada
CATEGORIES:Flamenco adultes
ATTACH;FMTTYPE=image/jpeg:https://laotraorilla.net/wp-content/uploads/2025/09/Vignette_Cours_Adultes-1200.jpg
ORGANIZER;CN="La Otra Orilla":MAILTO:info@laotraorilla.net
END:VEVENT
BEGIN:VEVENT
DTSTART;TZID=America/New_York:20260213T190000
DTEND;TZID=America/New_York:20260213T210000
DTSTAMP:20260421T094956
CREATED:20251211T001346Z
LAST-MODIFIED:20260401T150719Z
UID:10001000-1771009200-1771016400@laotraorilla.net
SUMMARY:Flamenco adultes - ateliers pratiques - sevillanas | Hiver 2026
DESCRIPTION:avec Timmy González ou Sandra Matos \n  \nInscriptions
URL:https://laotraorilla.net/activite/flamenco-adultes-ateliers-pratique-sevillanas-hiver-2026/2026-02-13/
LOCATION:Studio La Lola\, 137\, Saint-Ferdinand – local 227\, Montréal\, Québec\, H4C 2S6\, Canada
CATEGORIES:Flamenco adultes
ATTACH;FMTTYPE=image/jpeg:https://laotraorilla.net/wp-content/uploads/2026/04/Sevillanas_atelier-1.jpg
ORGANIZER;CN="La Otra Orilla":MAILTO:info@laotraorilla.net
END:VEVENT
BEGIN:VEVENT
DTSTART;TZID=America/New_York:20260214T121500
DTEND;TZID=America/New_York:20260214T133000
DTSTAMP:20260421T094956
CREATED:20251208T210014Z
LAST-MODIFIED:20251208T213121Z
UID:10000791-1771071300-1771075800@laotraorilla.net
SUMMARY:Flamenco adultes - cours de castagnettes - seguiriya | Hiver 2026
DESCRIPTION:avec Timmy González
URL:https://laotraorilla.net/activite/flamenco-adultes-cours-de-castagnettes-seguiriya-hiver-2026/2026-02-14/
LOCATION:Studio La Lola\, 137\, Saint-Ferdinand – local 227\, Montréal\, Québec\, H4C 2S6\, Canada
CATEGORIES:Flamenco adultes
ATTACH;FMTTYPE=image/jpeg:https://laotraorilla.net/wp-content/uploads/2025/09/Vignette_Cours_Adultes-1200.jpg
ORGANIZER;CN="La Otra Orilla":MAILTO:info@laotraorilla.net
END:VEVENT
BEGIN:VEVENT
DTSTART;TZID=America/New_York:20260217T180000
DTEND;TZID=America/New_York:20260217T191500
DTSTAMP:20260421T094956
CREATED:20251208T202109Z
LAST-MODIFIED:20251208T204730Z
UID:10000728-1771351200-1771355700@laotraorilla.net
SUMMARY:Flamenco adultes - niveau intermédiaire - bulerías | Hiver 2026
DESCRIPTION:avec Myriam Allard
URL:https://laotraorilla.net/activite/flamenco-adultes-niveau-intermediaire-bulerias-hiver-2026/2026-02-17/
LOCATION:Studio La Lola\, 137\, Saint-Ferdinand – local 227\, Montréal\, Québec\, H4C 2S6\, Canada
CATEGORIES:Flamenco adultes
ATTACH;FMTTYPE=image/jpeg:https://laotraorilla.net/wp-content/uploads/2025/09/Vignette_Cours_Adultes-1200.jpg
ORGANIZER;CN="La Otra Orilla":MAILTO:info@laotraorilla.net
END:VEVENT
BEGIN:VEVENT
DTSTART;TZID=America/New_York:20260218T180000
DTEND;TZID=America/New_York:20260218T191500
DTSTAMP:20260421T094956
CREATED:20251111T215759Z
LAST-MODIFIED:20251111T215759Z
UID:10000519-1771437600-1771442100@laotraorilla.net
SUMMARY:Flamenco adultes - Niveau débutant – tangos | Hiver 2026
DESCRIPTION:Avec Sandra Matos
URL:https://laotraorilla.net/activite/flamenco-adultes-niveau-debutant-tangos-hiver-2026/2026-02-18/
LOCATION:Studio La Lola\, 137\, Saint-Ferdinand – local 227\, Montréal\, Québec\, H4C 2S6\, Canada
CATEGORIES:Flamenco adultes
ATTACH;FMTTYPE=image/jpeg:https://laotraorilla.net/wp-content/uploads/2025/09/Vignette_Cours_Adultes-1200.jpg
ORGANIZER;CN="La Otra Orilla":MAILTO:info@laotraorilla.net
END:VEVENT
BEGIN:VEVENT
DTSTART;TZID=America/New_York:20260218T193000
DTEND;TZID=America/New_York:20260218T204500
DTSTAMP:20260421T094956
CREATED:20251126T160342Z
LAST-MODIFIED:20251126T160426Z
UID:10000696-1771443000-1771447500@laotraorilla.net
SUMMARY:Flamenco adultes - Niveau débutant/inter – guajira | Hiver 2026
DESCRIPTION:Avec Sandra Matos \n*Éventail requis
URL:https://laotraorilla.net/activite/flamenco-adultes-niveau-debutant-inter-guajira-hiver-2026/2026-02-18/
LOCATION:Studio La Lola\, 137\, Saint-Ferdinand – local 227\, Montréal\, Québec\, H4C 2S6\, Canada
CATEGORIES:Flamenco adultes
ATTACH;FMTTYPE=image/jpeg:https://laotraorilla.net/wp-content/uploads/2025/09/Vignette_Cours_Adultes-1200.jpg
ORGANIZER;CN="La Otra Orilla":MAILTO:info@laotraorilla.net
END:VEVENT
BEGIN:VEVENT
DTSTART;TZID=America/New_York:20260221T121500
DTEND;TZID=America/New_York:20260221T133000
DTSTAMP:20260421T094956
CREATED:20251208T210014Z
LAST-MODIFIED:20251208T213121Z
UID:10000792-1771676100-1771680600@laotraorilla.net
SUMMARY:Flamenco adultes - cours de castagnettes - seguiriya | Hiver 2026
DESCRIPTION:avec Timmy González
URL:https://laotraorilla.net/activite/flamenco-adultes-cours-de-castagnettes-seguiriya-hiver-2026/2026-02-21/
LOCATION:Studio La Lola\, 137\, Saint-Ferdinand – local 227\, Montréal\, Québec\, H4C 2S6\, Canada
CATEGORIES:Flamenco adultes
ATTACH;FMTTYPE=image/jpeg:https://laotraorilla.net/wp-content/uploads/2025/09/Vignette_Cours_Adultes-1200.jpg
ORGANIZER;CN="La Otra Orilla":MAILTO:info@laotraorilla.net
END:VEVENT
BEGIN:VEVENT
DTSTART;TZID=America/New_York:20260224T180000
DTEND;TZID=America/New_York:20260224T191500
DTSTAMP:20260421T094956
CREATED:20251208T202109Z
LAST-MODIFIED:20251208T204730Z
UID:10000729-1771956000-1771960500@laotraorilla.net
SUMMARY:Flamenco adultes - niveau intermédiaire - bulerías | Hiver 2026
DESCRIPTION:avec Myriam Allard
URL:https://laotraorilla.net/activite/flamenco-adultes-niveau-intermediaire-bulerias-hiver-2026/2026-02-24/
LOCATION:Studio La Lola\, 137\, Saint-Ferdinand – local 227\, Montréal\, Québec\, H4C 2S6\, Canada
CATEGORIES:Flamenco adultes
ATTACH;FMTTYPE=image/jpeg:https://laotraorilla.net/wp-content/uploads/2025/09/Vignette_Cours_Adultes-1200.jpg
ORGANIZER;CN="La Otra Orilla":MAILTO:info@laotraorilla.net
END:VEVENT
BEGIN:VEVENT
DTSTART;TZID=America/New_York:20260224T193000
DTEND;TZID=America/New_York:20260224T210000
DTSTAMP:20260421T094956
CREATED:20251208T204340Z
LAST-MODIFIED:20260107T182335Z
UID:10000761-1771961400-1771966800@laotraorilla.net
SUMMARY:Flamenco adultes - niveau avancé - tarantos | Hiver 2026
DESCRIPTION:avec Myriam Allard
URL:https://laotraorilla.net/activite/flamenco-adultes-niveau-avance-tarantos-hiver-2026/2026-02-24/
LOCATION:Studio La Lola\, 137\, Saint-Ferdinand – local 227\, Montréal\, Québec\, H4C 2S6\, Canada
CATEGORIES:Flamenco adultes
ATTACH;FMTTYPE=image/jpeg:https://laotraorilla.net/wp-content/uploads/2025/09/Vignette_Cours_Adultes-1200.jpg
ORGANIZER;CN="La Otra Orilla":MAILTO:info@laotraorilla.net
END:VEVENT
BEGIN:VEVENT
DTSTART;TZID=America/New_York:20260225T180000
DTEND;TZID=America/New_York:20260225T191500
DTSTAMP:20260421T094956
CREATED:20251111T215759Z
LAST-MODIFIED:20251111T215759Z
UID:10000520-1772042400-1772046900@laotraorilla.net
SUMMARY:Flamenco adultes - Niveau débutant – tangos | Hiver 2026
DESCRIPTION:Avec Sandra Matos
URL:https://laotraorilla.net/activite/flamenco-adultes-niveau-debutant-tangos-hiver-2026/2026-02-25/
LOCATION:Studio La Lola\, 137\, Saint-Ferdinand – local 227\, Montréal\, Québec\, H4C 2S6\, Canada
CATEGORIES:Flamenco adultes
ATTACH;FMTTYPE=image/jpeg:https://laotraorilla.net/wp-content/uploads/2025/09/Vignette_Cours_Adultes-1200.jpg
ORGANIZER;CN="La Otra Orilla":MAILTO:info@laotraorilla.net
END:VEVENT
BEGIN:VEVENT
DTSTART;TZID=America/New_York:20260225T193000
DTEND;TZID=America/New_York:20260225T204500
DTSTAMP:20260421T094956
CREATED:20251126T160342Z
LAST-MODIFIED:20251126T160426Z
UID:10000697-1772047800-1772052300@laotraorilla.net
SUMMARY:Flamenco adultes - Niveau débutant/inter – guajira | Hiver 2026
DESCRIPTION:Avec Sandra Matos \n*Éventail requis
URL:https://laotraorilla.net/activite/flamenco-adultes-niveau-debutant-inter-guajira-hiver-2026/2026-02-25/
LOCATION:Studio La Lola\, 137\, Saint-Ferdinand – local 227\, Montréal\, Québec\, H4C 2S6\, Canada
CATEGORIES:Flamenco adultes
ATTACH;FMTTYPE=image/jpeg:https://laotraorilla.net/wp-content/uploads/2025/09/Vignette_Cours_Adultes-1200.jpg
ORGANIZER;CN="La Otra Orilla":MAILTO:info@laotraorilla.net
END:VEVENT
BEGIN:VEVENT
DTSTART;TZID=America/New_York:20260228T121500
DTEND;TZID=America/New_York:20260228T133000
DTSTAMP:20260421T094956
CREATED:20251208T210014Z
LAST-MODIFIED:20251208T213121Z
UID:10000793-1772280900-1772285400@laotraorilla.net
SUMMARY:Flamenco adultes - cours de castagnettes - seguiriya | Hiver 2026
DESCRIPTION:avec Timmy González
URL:https://laotraorilla.net/activite/flamenco-adultes-cours-de-castagnettes-seguiriya-hiver-2026/2026-02-28/
LOCATION:Studio La Lola\, 137\, Saint-Ferdinand – local 227\, Montréal\, Québec\, H4C 2S6\, Canada
CATEGORIES:Flamenco adultes
ATTACH;FMTTYPE=image/jpeg:https://laotraorilla.net/wp-content/uploads/2025/09/Vignette_Cours_Adultes-1200.jpg
ORGANIZER;CN="La Otra Orilla":MAILTO:info@laotraorilla.net
END:VEVENT
END:VCALENDAR