BEGIN:VCALENDAR
VERSION:2.0
PRODID:-//La Otra Orilla - ECPv6.15.17//NONSGML v1.0//EN
CALSCALE:GREGORIAN
METHOD:PUBLISH
X-WR-CALNAME:La Otra Orilla
X-ORIGINAL-URL:https://laotraorilla.net
X-WR-CALDESC:Évènements pour La Otra Orilla
REFRESH-INTERVAL;VALUE=DURATION:PT1H
X-Robots-Tag:noindex
X-PUBLISHED-TTL:PT1H
BEGIN:VTIMEZONE
TZID:America/New_York
BEGIN:DAYLIGHT
TZOFFSETFROM:-0500
TZOFFSETTO:-0400
TZNAME:EDT
DTSTART:20250309T070000
END:DAYLIGHT
BEGIN:STANDARD
TZOFFSETFROM:-0400
TZOFFSETTO:-0500
TZNAME:EST
DTSTART:20251102T060000
END:STANDARD
BEGIN:DAYLIGHT
TZOFFSETFROM:-0500
TZOFFSETTO:-0400
TZNAME:EDT
DTSTART:20260308T070000
END:DAYLIGHT
BEGIN:STANDARD
TZOFFSETFROM:-0400
TZOFFSETTO:-0500
TZNAME:EST
DTSTART:20261101T060000
END:STANDARD
BEGIN:DAYLIGHT
TZOFFSETFROM:-0500
TZOFFSETTO:-0400
TZNAME:EDT
DTSTART:20270314T070000
END:DAYLIGHT
BEGIN:STANDARD
TZOFFSETFROM:-0400
TZOFFSETTO:-0500
TZNAME:EST
DTSTART:20271107T060000
END:STANDARD
END:VTIMEZONE
BEGIN:VEVENT
DTSTART;TZID=America/New_York:20260307T140000
DTEND;TZID=America/New_York:20260307T160000
DTSTAMP:20260421T081720
CREATED:20251211T000028Z
LAST-MODIFIED:20251211T171432Z
UID:10000885-1772892000-1772899200@laotraorilla.net
SUMMARY:Flamenco adultes - Bata de cola - technique | Hiver 2026
DESCRIPTION:avec Myriam Allard
URL:https://laotraorilla.net/activite/flamenco-adultes-bata-de-cola-technique-hiver-2026/2026-03-07/
LOCATION:Studio La Lola\, 137\, Saint-Ferdinand – local 227\, Montréal\, Québec\, H4C 2S6\, Canada
CATEGORIES:Flamenco adultes
ATTACH;FMTTYPE=image/jpeg:https://laotraorilla.net/wp-content/uploads/2025/09/Vignette_Cours_Adultes-1200.jpg
ORGANIZER;CN="La Otra Orilla":MAILTO:info@laotraorilla.net
END:VEVENT
BEGIN:VEVENT
DTSTART;TZID=America/New_York:20260310T180000
DTEND;TZID=America/New_York:20260310T191500
DTSTAMP:20260421T081720
CREATED:20251208T202109Z
LAST-MODIFIED:20251208T204730Z
UID:10000730-1773165600-1773170100@laotraorilla.net
SUMMARY:Flamenco adultes - niveau intermédiaire - bulerías | Hiver 2026
DESCRIPTION:avec Myriam Allard
URL:https://laotraorilla.net/activite/flamenco-adultes-niveau-intermediaire-bulerias-hiver-2026/2026-03-10/
LOCATION:Studio La Lola\, 137\, Saint-Ferdinand – local 227\, Montréal\, Québec\, H4C 2S6\, Canada
CATEGORIES:Flamenco adultes
ATTACH;FMTTYPE=image/jpeg:https://laotraorilla.net/wp-content/uploads/2025/09/Vignette_Cours_Adultes-1200.jpg
ORGANIZER;CN="La Otra Orilla":MAILTO:info@laotraorilla.net
END:VEVENT
BEGIN:VEVENT
DTSTART;TZID=America/New_York:20260310T193000
DTEND;TZID=America/New_York:20260310T210000
DTSTAMP:20260421T081720
CREATED:20251208T204340Z
LAST-MODIFIED:20260107T182335Z
UID:10000762-1773171000-1773176400@laotraorilla.net
SUMMARY:Flamenco adultes - niveau avancé - tarantos | Hiver 2026
DESCRIPTION:avec Myriam Allard
URL:https://laotraorilla.net/activite/flamenco-adultes-niveau-avance-tarantos-hiver-2026/2026-03-10/
LOCATION:Studio La Lola\, 137\, Saint-Ferdinand – local 227\, Montréal\, Québec\, H4C 2S6\, Canada
CATEGORIES:Flamenco adultes
ATTACH;FMTTYPE=image/jpeg:https://laotraorilla.net/wp-content/uploads/2025/09/Vignette_Cours_Adultes-1200.jpg
ORGANIZER;CN="La Otra Orilla":MAILTO:info@laotraorilla.net
END:VEVENT
BEGIN:VEVENT
DTSTART;TZID=America/New_York:20260311T180000
DTEND;TZID=America/New_York:20260311T191500
DTSTAMP:20260421T081720
CREATED:20251111T215759Z
LAST-MODIFIED:20251111T215759Z
UID:10000521-1773252000-1773256500@laotraorilla.net
SUMMARY:Flamenco adultes - Niveau débutant – tangos | Hiver 2026
DESCRIPTION:Avec Sandra Matos
URL:https://laotraorilla.net/activite/flamenco-adultes-niveau-debutant-tangos-hiver-2026/2026-03-11/
LOCATION:Studio La Lola\, 137\, Saint-Ferdinand – local 227\, Montréal\, Québec\, H4C 2S6\, Canada
CATEGORIES:Flamenco adultes
ATTACH;FMTTYPE=image/jpeg:https://laotraorilla.net/wp-content/uploads/2025/09/Vignette_Cours_Adultes-1200.jpg
ORGANIZER;CN="La Otra Orilla":MAILTO:info@laotraorilla.net
END:VEVENT
BEGIN:VEVENT
DTSTART;TZID=America/New_York:20260311T193000
DTEND;TZID=America/New_York:20260311T204500
DTSTAMP:20260421T081720
CREATED:20251126T160342Z
LAST-MODIFIED:20251126T160426Z
UID:10000698-1773257400-1773261900@laotraorilla.net
SUMMARY:Flamenco adultes - Niveau débutant/inter – guajira | Hiver 2026
DESCRIPTION:Avec Sandra Matos \n*Éventail requis
URL:https://laotraorilla.net/activite/flamenco-adultes-niveau-debutant-inter-guajira-hiver-2026/2026-03-11/
LOCATION:Studio La Lola\, 137\, Saint-Ferdinand – local 227\, Montréal\, Québec\, H4C 2S6\, Canada
CATEGORIES:Flamenco adultes
ATTACH;FMTTYPE=image/jpeg:https://laotraorilla.net/wp-content/uploads/2025/09/Vignette_Cours_Adultes-1200.jpg
ORGANIZER;CN="La Otra Orilla":MAILTO:info@laotraorilla.net
END:VEVENT
BEGIN:VEVENT
DTSTART;TZID=America/New_York:20260313T190000
DTEND;TZID=America/New_York:20260313T210000
DTSTAMP:20260421T081720
CREATED:20251211T001346Z
LAST-MODIFIED:20260401T150719Z
UID:10001001-1773428400-1773435600@laotraorilla.net
SUMMARY:Flamenco adultes - ateliers pratiques - sevillanas | Hiver 2026
DESCRIPTION:avec Timmy González ou Sandra Matos \n  \nInscriptions
URL:https://laotraorilla.net/activite/flamenco-adultes-ateliers-pratique-sevillanas-hiver-2026/2026-03-13/
LOCATION:Studio La Lola\, 137\, Saint-Ferdinand – local 227\, Montréal\, Québec\, H4C 2S6\, Canada
CATEGORIES:Flamenco adultes
ATTACH;FMTTYPE=image/jpeg:https://laotraorilla.net/wp-content/uploads/2026/04/Sevillanas_atelier-1.jpg
ORGANIZER;CN="La Otra Orilla":MAILTO:info@laotraorilla.net
END:VEVENT
BEGIN:VEVENT
DTSTART;TZID=America/New_York:20260314T121500
DTEND;TZID=America/New_York:20260314T133000
DTSTAMP:20260421T081720
CREATED:20251208T210014Z
LAST-MODIFIED:20251208T213121Z
UID:10000794-1773490500-1773495000@laotraorilla.net
SUMMARY:Flamenco adultes - cours de castagnettes - seguiriya | Hiver 2026
DESCRIPTION:avec Timmy González
URL:https://laotraorilla.net/activite/flamenco-adultes-cours-de-castagnettes-seguiriya-hiver-2026/2026-03-14/
LOCATION:Studio La Lola\, 137\, Saint-Ferdinand – local 227\, Montréal\, Québec\, H4C 2S6\, Canada
CATEGORIES:Flamenco adultes
ATTACH;FMTTYPE=image/jpeg:https://laotraorilla.net/wp-content/uploads/2025/09/Vignette_Cours_Adultes-1200.jpg
ORGANIZER;CN="La Otra Orilla":MAILTO:info@laotraorilla.net
END:VEVENT
BEGIN:VEVENT
DTSTART;TZID=America/New_York:20260317T180000
DTEND;TZID=America/New_York:20260317T191500
DTSTAMP:20260421T081720
CREATED:20251208T202109Z
LAST-MODIFIED:20251208T204730Z
UID:10000731-1773770400-1773774900@laotraorilla.net
SUMMARY:Flamenco adultes - niveau intermédiaire - bulerías | Hiver 2026
DESCRIPTION:avec Myriam Allard
URL:https://laotraorilla.net/activite/flamenco-adultes-niveau-intermediaire-bulerias-hiver-2026/2026-03-17/
LOCATION:Studio La Lola\, 137\, Saint-Ferdinand – local 227\, Montréal\, Québec\, H4C 2S6\, Canada
CATEGORIES:Flamenco adultes
ATTACH;FMTTYPE=image/jpeg:https://laotraorilla.net/wp-content/uploads/2025/09/Vignette_Cours_Adultes-1200.jpg
ORGANIZER;CN="La Otra Orilla":MAILTO:info@laotraorilla.net
END:VEVENT
BEGIN:VEVENT
DTSTART;TZID=America/New_York:20260317T193000
DTEND;TZID=America/New_York:20260317T210000
DTSTAMP:20260421T081720
CREATED:20251208T204340Z
LAST-MODIFIED:20260107T182335Z
UID:10000763-1773775800-1773781200@laotraorilla.net
SUMMARY:Flamenco adultes - niveau avancé - tarantos | Hiver 2026
DESCRIPTION:avec Myriam Allard
URL:https://laotraorilla.net/activite/flamenco-adultes-niveau-avance-tarantos-hiver-2026/2026-03-17/
LOCATION:Studio La Lola\, 137\, Saint-Ferdinand – local 227\, Montréal\, Québec\, H4C 2S6\, Canada
CATEGORIES:Flamenco adultes
ATTACH;FMTTYPE=image/jpeg:https://laotraorilla.net/wp-content/uploads/2025/09/Vignette_Cours_Adultes-1200.jpg
ORGANIZER;CN="La Otra Orilla":MAILTO:info@laotraorilla.net
END:VEVENT
BEGIN:VEVENT
DTSTART;TZID=America/New_York:20260318T180000
DTEND;TZID=America/New_York:20260318T191500
DTSTAMP:20260421T081720
CREATED:20251111T215759Z
LAST-MODIFIED:20251111T215759Z
UID:10000522-1773856800-1773861300@laotraorilla.net
SUMMARY:Flamenco adultes - Niveau débutant – tangos | Hiver 2026
DESCRIPTION:Avec Sandra Matos
URL:https://laotraorilla.net/activite/flamenco-adultes-niveau-debutant-tangos-hiver-2026/2026-03-18/
LOCATION:Studio La Lola\, 137\, Saint-Ferdinand – local 227\, Montréal\, Québec\, H4C 2S6\, Canada
CATEGORIES:Flamenco adultes
ATTACH;FMTTYPE=image/jpeg:https://laotraorilla.net/wp-content/uploads/2025/09/Vignette_Cours_Adultes-1200.jpg
ORGANIZER;CN="La Otra Orilla":MAILTO:info@laotraorilla.net
END:VEVENT
BEGIN:VEVENT
DTSTART;TZID=America/New_York:20260318T193000
DTEND;TZID=America/New_York:20260318T204500
DTSTAMP:20260421T081720
CREATED:20251126T160342Z
LAST-MODIFIED:20251126T160426Z
UID:10000699-1773862200-1773866700@laotraorilla.net
SUMMARY:Flamenco adultes - Niveau débutant/inter – guajira | Hiver 2026
DESCRIPTION:Avec Sandra Matos \n*Éventail requis
URL:https://laotraorilla.net/activite/flamenco-adultes-niveau-debutant-inter-guajira-hiver-2026/2026-03-18/
LOCATION:Studio La Lola\, 137\, Saint-Ferdinand – local 227\, Montréal\, Québec\, H4C 2S6\, Canada
CATEGORIES:Flamenco adultes
ATTACH;FMTTYPE=image/jpeg:https://laotraorilla.net/wp-content/uploads/2025/09/Vignette_Cours_Adultes-1200.jpg
ORGANIZER;CN="La Otra Orilla":MAILTO:info@laotraorilla.net
END:VEVENT
BEGIN:VEVENT
DTSTART;TZID=America/New_York:20260321T121500
DTEND;TZID=America/New_York:20260321T133000
DTSTAMP:20260421T081720
CREATED:20251208T210014Z
LAST-MODIFIED:20251208T213121Z
UID:10000795-1774095300-1774099800@laotraorilla.net
SUMMARY:Flamenco adultes - cours de castagnettes - seguiriya | Hiver 2026
DESCRIPTION:avec Timmy González
URL:https://laotraorilla.net/activite/flamenco-adultes-cours-de-castagnettes-seguiriya-hiver-2026/2026-03-21/
LOCATION:Studio La Lola\, 137\, Saint-Ferdinand – local 227\, Montréal\, Québec\, H4C 2S6\, Canada
CATEGORIES:Flamenco adultes
ATTACH;FMTTYPE=image/jpeg:https://laotraorilla.net/wp-content/uploads/2025/09/Vignette_Cours_Adultes-1200.jpg
ORGANIZER;CN="La Otra Orilla":MAILTO:info@laotraorilla.net
END:VEVENT
BEGIN:VEVENT
DTSTART;TZID=America/New_York:20260321T140000
DTEND;TZID=America/New_York:20260321T160000
DTSTAMP:20260421T081720
CREATED:20251211T000028Z
LAST-MODIFIED:20251211T171432Z
UID:10000886-1774101600-1774108800@laotraorilla.net
SUMMARY:Flamenco adultes - Bata de cola - technique | Hiver 2026
DESCRIPTION:avec Myriam Allard
URL:https://laotraorilla.net/activite/flamenco-adultes-bata-de-cola-technique-hiver-2026/2026-03-21/
LOCATION:Studio La Lola\, 137\, Saint-Ferdinand – local 227\, Montréal\, Québec\, H4C 2S6\, Canada
CATEGORIES:Flamenco adultes
ATTACH;FMTTYPE=image/jpeg:https://laotraorilla.net/wp-content/uploads/2025/09/Vignette_Cours_Adultes-1200.jpg
ORGANIZER;CN="La Otra Orilla":MAILTO:info@laotraorilla.net
END:VEVENT
BEGIN:VEVENT
DTSTART;TZID=America/New_York:20260324T180000
DTEND;TZID=America/New_York:20260324T191500
DTSTAMP:20260421T081720
CREATED:20251208T202109Z
LAST-MODIFIED:20251208T204730Z
UID:10000732-1774375200-1774379700@laotraorilla.net
SUMMARY:Flamenco adultes - niveau intermédiaire - bulerías | Hiver 2026
DESCRIPTION:avec Myriam Allard
URL:https://laotraorilla.net/activite/flamenco-adultes-niveau-intermediaire-bulerias-hiver-2026/2026-03-24/
LOCATION:Studio La Lola\, 137\, Saint-Ferdinand – local 227\, Montréal\, Québec\, H4C 2S6\, Canada
CATEGORIES:Flamenco adultes
ATTACH;FMTTYPE=image/jpeg:https://laotraorilla.net/wp-content/uploads/2025/09/Vignette_Cours_Adultes-1200.jpg
ORGANIZER;CN="La Otra Orilla":MAILTO:info@laotraorilla.net
END:VEVENT
BEGIN:VEVENT
DTSTART;TZID=America/New_York:20260324T193000
DTEND;TZID=America/New_York:20260324T210000
DTSTAMP:20260421T081720
CREATED:20251208T204340Z
LAST-MODIFIED:20260107T182335Z
UID:10000764-1774380600-1774386000@laotraorilla.net
SUMMARY:Flamenco adultes - niveau avancé - tarantos | Hiver 2026
DESCRIPTION:avec Myriam Allard
URL:https://laotraorilla.net/activite/flamenco-adultes-niveau-avance-tarantos-hiver-2026/2026-03-24/
LOCATION:Studio La Lola\, 137\, Saint-Ferdinand – local 227\, Montréal\, Québec\, H4C 2S6\, Canada
CATEGORIES:Flamenco adultes
ATTACH;FMTTYPE=image/jpeg:https://laotraorilla.net/wp-content/uploads/2025/09/Vignette_Cours_Adultes-1200.jpg
ORGANIZER;CN="La Otra Orilla":MAILTO:info@laotraorilla.net
END:VEVENT
BEGIN:VEVENT
DTSTART;TZID=America/New_York:20260325T180000
DTEND;TZID=America/New_York:20260325T191500
DTSTAMP:20260421T081720
CREATED:20251111T215759Z
LAST-MODIFIED:20251111T215759Z
UID:10000523-1774461600-1774466100@laotraorilla.net
SUMMARY:Flamenco adultes - Niveau débutant – tangos | Hiver 2026
DESCRIPTION:Avec Sandra Matos
URL:https://laotraorilla.net/activite/flamenco-adultes-niveau-debutant-tangos-hiver-2026/2026-03-25/
LOCATION:Studio La Lola\, 137\, Saint-Ferdinand – local 227\, Montréal\, Québec\, H4C 2S6\, Canada
CATEGORIES:Flamenco adultes
ATTACH;FMTTYPE=image/jpeg:https://laotraorilla.net/wp-content/uploads/2025/09/Vignette_Cours_Adultes-1200.jpg
ORGANIZER;CN="La Otra Orilla":MAILTO:info@laotraorilla.net
END:VEVENT
BEGIN:VEVENT
DTSTART;TZID=America/New_York:20260325T193000
DTEND;TZID=America/New_York:20260325T204500
DTSTAMP:20260421T081720
CREATED:20251126T160342Z
LAST-MODIFIED:20251126T160426Z
UID:10000700-1774467000-1774471500@laotraorilla.net
SUMMARY:Flamenco adultes - Niveau débutant/inter – guajira | Hiver 2026
DESCRIPTION:Avec Sandra Matos \n*Éventail requis
URL:https://laotraorilla.net/activite/flamenco-adultes-niveau-debutant-inter-guajira-hiver-2026/2026-03-25/
LOCATION:Studio La Lola\, 137\, Saint-Ferdinand – local 227\, Montréal\, Québec\, H4C 2S6\, Canada
CATEGORIES:Flamenco adultes
ATTACH;FMTTYPE=image/jpeg:https://laotraorilla.net/wp-content/uploads/2025/09/Vignette_Cours_Adultes-1200.jpg
ORGANIZER;CN="La Otra Orilla":MAILTO:info@laotraorilla.net
END:VEVENT
BEGIN:VEVENT
DTSTART;TZID=America/New_York:20260328T121500
DTEND;TZID=America/New_York:20260328T133000
DTSTAMP:20260421T081720
CREATED:20251208T210014Z
LAST-MODIFIED:20251208T213121Z
UID:10000796-1774700100-1774704600@laotraorilla.net
SUMMARY:Flamenco adultes - cours de castagnettes - seguiriya | Hiver 2026
DESCRIPTION:avec Timmy González
URL:https://laotraorilla.net/activite/flamenco-adultes-cours-de-castagnettes-seguiriya-hiver-2026/2026-03-28/
LOCATION:Studio La Lola\, 137\, Saint-Ferdinand – local 227\, Montréal\, Québec\, H4C 2S6\, Canada
CATEGORIES:Flamenco adultes
ATTACH;FMTTYPE=image/jpeg:https://laotraorilla.net/wp-content/uploads/2025/09/Vignette_Cours_Adultes-1200.jpg
ORGANIZER;CN="La Otra Orilla":MAILTO:info@laotraorilla.net
END:VEVENT
BEGIN:VEVENT
DTSTART;TZID=America/New_York:20260331T180000
DTEND;TZID=America/New_York:20260331T191500
DTSTAMP:20260421T081720
CREATED:20251208T202109Z
LAST-MODIFIED:20251208T204730Z
UID:10000733-1774980000-1774984500@laotraorilla.net
SUMMARY:Flamenco adultes - niveau intermédiaire - bulerías | Hiver 2026
DESCRIPTION:avec Myriam Allard
URL:https://laotraorilla.net/activite/flamenco-adultes-niveau-intermediaire-bulerias-hiver-2026/2026-03-31/
LOCATION:Studio La Lola\, 137\, Saint-Ferdinand – local 227\, Montréal\, Québec\, H4C 2S6\, Canada
CATEGORIES:Flamenco adultes
ATTACH;FMTTYPE=image/jpeg:https://laotraorilla.net/wp-content/uploads/2025/09/Vignette_Cours_Adultes-1200.jpg
ORGANIZER;CN="La Otra Orilla":MAILTO:info@laotraorilla.net
END:VEVENT
BEGIN:VEVENT
DTSTART;TZID=America/New_York:20260331T193000
DTEND;TZID=America/New_York:20260331T210000
DTSTAMP:20260421T081720
CREATED:20251208T204340Z
LAST-MODIFIED:20260107T182335Z
UID:10000765-1774985400-1774990800@laotraorilla.net
SUMMARY:Flamenco adultes - niveau avancé - tarantos | Hiver 2026
DESCRIPTION:avec Myriam Allard
URL:https://laotraorilla.net/activite/flamenco-adultes-niveau-avance-tarantos-hiver-2026/2026-03-31/
LOCATION:Studio La Lola\, 137\, Saint-Ferdinand – local 227\, Montréal\, Québec\, H4C 2S6\, Canada
CATEGORIES:Flamenco adultes
ATTACH;FMTTYPE=image/jpeg:https://laotraorilla.net/wp-content/uploads/2025/09/Vignette_Cours_Adultes-1200.jpg
ORGANIZER;CN="La Otra Orilla":MAILTO:info@laotraorilla.net
END:VEVENT
END:VCALENDAR