BEGIN:VCALENDAR
VERSION:2.0
PRODID:-//La Otra Orilla - ECPv6.15.17//NONSGML v1.0//EN
CALSCALE:GREGORIAN
METHOD:PUBLISH
X-WR-CALNAME:La Otra Orilla
X-ORIGINAL-URL:https://laotraorilla.net
X-WR-CALDESC:Évènements pour La Otra Orilla
REFRESH-INTERVAL;VALUE=DURATION:PT1H
X-Robots-Tag:noindex
X-PUBLISHED-TTL:PT1H
BEGIN:VTIMEZONE
TZID:America/New_York
BEGIN:DAYLIGHT
TZOFFSETFROM:-0500
TZOFFSETTO:-0400
TZNAME:EDT
DTSTART:20240310T070000
END:DAYLIGHT
BEGIN:STANDARD
TZOFFSETFROM:-0400
TZOFFSETTO:-0500
TZNAME:EST
DTSTART:20241103T060000
END:STANDARD
BEGIN:DAYLIGHT
TZOFFSETFROM:-0500
TZOFFSETTO:-0400
TZNAME:EDT
DTSTART:20250309T070000
END:DAYLIGHT
BEGIN:STANDARD
TZOFFSETFROM:-0400
TZOFFSETTO:-0500
TZNAME:EST
DTSTART:20251102T060000
END:STANDARD
BEGIN:DAYLIGHT
TZOFFSETFROM:-0500
TZOFFSETTO:-0400
TZNAME:EDT
DTSTART:20260308T070000
END:DAYLIGHT
BEGIN:STANDARD
TZOFFSETFROM:-0400
TZOFFSETTO:-0500
TZNAME:EST
DTSTART:20261101T060000
END:STANDARD
END:VTIMEZONE
BEGIN:VEVENT
DTSTART;TZID=America/New_York:20250918T180000
DTEND;TZID=America/New_York:20250918T190000
DTSTAMP:20260421T185617
CREATED:20251120T215935Z
LAST-MODIFIED:20251120T215935Z
UID:10000661-1758218400-1758222000@laotraorilla.net
SUMMARY:Flamenco enfants - FLAMENCO ADOS - 10 à 14 ans - solea por bulerias | Automne 2025
DESCRIPTION:Avec Timmy Gonzalez
URL:https://laotraorilla.net/activite/flamenco-enfants-flamenco-ados-10-a-14-ans-solea-por-bulerias-automne-2025/2025-09-18/
LOCATION:Studio La Lola\, 137\, Saint-Ferdinand – local 227\, Montréal\, Québec\, H4C 2S6\, Canada
CATEGORIES:Flamenco enfants
ATTACH;FMTTYPE=image/jpeg:https://laotraorilla.net/wp-content/uploads/2025/09/Vignette_Cours_Enfants-1200.jpg
ORGANIZER;CN="La Otra Orilla":MAILTO:info@laotraorilla.net
END:VEVENT
BEGIN:VEVENT
DTSTART;TZID=America/New_York:20250920T100000
DTEND;TZID=America/New_York:20250920T104500
DTSTAMP:20260421T185617
CREATED:20251010T123337Z
LAST-MODIFIED:20251110T231043Z
UID:10000272-1758362400-1758365100@laotraorilla.net
SUMMARY:Flamenco enfants - EL RECREO - 3 à 5 ans - alegrias | Automne 2025
DESCRIPTION:Avec Timmy Gonzalez
URL:https://laotraorilla.net/activite/flamenco-enfants-el-recreo-3-a-5-ans-alegrias/2025-09-20/
LOCATION:Studio La Lola\, 137\, Saint-Ferdinand – local 227\, Montréal\, Québec\, H4C 2S6\, Canada
CATEGORIES:Flamenco enfants
ATTACH;FMTTYPE=image/jpeg:https://laotraorilla.net/wp-content/uploads/2025/09/Vignette_Cours_Enfants-1200.jpg
ORGANIZER;CN="La Otra Orilla":MAILTO:info@laotraorilla.net
END:VEVENT
BEGIN:VEVENT
DTSTART;TZID=America/New_York:20250920T110000
DTEND;TZID=America/New_York:20250920T120000
DTSTAMP:20260421T185617
CREATED:20251010T123523Z
LAST-MODIFIED:20251110T231116Z
UID:10000336-1758366000-1758369600@laotraorilla.net
SUMMARY:Flamenco enfants - EL TACONEO - 6 à 10 ans - sevillanas | Automne 2025
DESCRIPTION:Avec Timmy Gonzalez
URL:https://laotraorilla.net/activite/flamenco-enfants-el-taconeo-6-a-10-ans-sevillanas/2025-09-20/
LOCATION:Studio La Lola\, 137\, Saint-Ferdinand – local 227\, Montréal\, Québec\, H4C 2S6\, Canada
CATEGORIES:Flamenco enfants
ATTACH;FMTTYPE=image/jpeg:https://laotraorilla.net/wp-content/uploads/2025/09/Vignette_Cours_Enfants-1200.jpg
ORGANIZER;CN="La Otra Orilla":MAILTO:info@laotraorilla.net
END:VEVENT
BEGIN:VEVENT
DTSTART;TZID=America/New_York:20250925T180000
DTEND;TZID=America/New_York:20250925T190000
DTSTAMP:20260421T185617
CREATED:20251120T215935Z
LAST-MODIFIED:20251120T215935Z
UID:10000662-1758823200-1758826800@laotraorilla.net
SUMMARY:Flamenco enfants - FLAMENCO ADOS - 10 à 14 ans - solea por bulerias | Automne 2025
DESCRIPTION:Avec Timmy Gonzalez
URL:https://laotraorilla.net/activite/flamenco-enfants-flamenco-ados-10-a-14-ans-solea-por-bulerias-automne-2025/2025-09-25/
LOCATION:Studio La Lola\, 137\, Saint-Ferdinand – local 227\, Montréal\, Québec\, H4C 2S6\, Canada
CATEGORIES:Flamenco enfants
ATTACH;FMTTYPE=image/jpeg:https://laotraorilla.net/wp-content/uploads/2025/09/Vignette_Cours_Enfants-1200.jpg
ORGANIZER;CN="La Otra Orilla":MAILTO:info@laotraorilla.net
END:VEVENT
BEGIN:VEVENT
DTSTART;TZID=America/New_York:20250927T100000
DTEND;TZID=America/New_York:20250927T104500
DTSTAMP:20260421T185617
CREATED:20251010T123337Z
LAST-MODIFIED:20251110T231043Z
UID:10000273-1758967200-1758969900@laotraorilla.net
SUMMARY:Flamenco enfants - EL RECREO - 3 à 5 ans - alegrias | Automne 2025
DESCRIPTION:Avec Timmy Gonzalez
URL:https://laotraorilla.net/activite/flamenco-enfants-el-recreo-3-a-5-ans-alegrias/2025-09-27/
LOCATION:Studio La Lola\, 137\, Saint-Ferdinand – local 227\, Montréal\, Québec\, H4C 2S6\, Canada
CATEGORIES:Flamenco enfants
ATTACH;FMTTYPE=image/jpeg:https://laotraorilla.net/wp-content/uploads/2025/09/Vignette_Cours_Enfants-1200.jpg
ORGANIZER;CN="La Otra Orilla":MAILTO:info@laotraorilla.net
END:VEVENT
BEGIN:VEVENT
DTSTART;TZID=America/New_York:20250927T110000
DTEND;TZID=America/New_York:20250927T120000
DTSTAMP:20260421T185617
CREATED:20251010T123523Z
LAST-MODIFIED:20251110T231116Z
UID:10000337-1758970800-1758974400@laotraorilla.net
SUMMARY:Flamenco enfants - EL TACONEO - 6 à 10 ans - sevillanas | Automne 2025
DESCRIPTION:Avec Timmy Gonzalez
URL:https://laotraorilla.net/activite/flamenco-enfants-el-taconeo-6-a-10-ans-sevillanas/2025-09-27/
LOCATION:Studio La Lola\, 137\, Saint-Ferdinand – local 227\, Montréal\, Québec\, H4C 2S6\, Canada
CATEGORIES:Flamenco enfants
ATTACH;FMTTYPE=image/jpeg:https://laotraorilla.net/wp-content/uploads/2025/09/Vignette_Cours_Enfants-1200.jpg
ORGANIZER;CN="La Otra Orilla":MAILTO:info@laotraorilla.net
END:VEVENT
END:VCALENDAR