BEGIN:VCALENDAR
VERSION:2.0
PRODID:-//La Otra Orilla - ECPv6.15.17//NONSGML v1.0//EN
CALSCALE:GREGORIAN
METHOD:PUBLISH
X-ORIGINAL-URL:https://laotraorilla.net
X-WR-CALDESC:Évènements pour La Otra Orilla
REFRESH-INTERVAL;VALUE=DURATION:PT1H
X-Robots-Tag:noindex
X-PUBLISHED-TTL:PT1H
BEGIN:VTIMEZONE
TZID:America/New_York
BEGIN:DAYLIGHT
TZOFFSETFROM:-0500
TZOFFSETTO:-0400
TZNAME:EDT
DTSTART:20240310T070000
END:DAYLIGHT
BEGIN:STANDARD
TZOFFSETFROM:-0400
TZOFFSETTO:-0500
TZNAME:EST
DTSTART:20241103T060000
END:STANDARD
BEGIN:DAYLIGHT
TZOFFSETFROM:-0500
TZOFFSETTO:-0400
TZNAME:EDT
DTSTART:20250309T070000
END:DAYLIGHT
BEGIN:STANDARD
TZOFFSETFROM:-0400
TZOFFSETTO:-0500
TZNAME:EST
DTSTART:20251102T060000
END:STANDARD
BEGIN:DAYLIGHT
TZOFFSETFROM:-0500
TZOFFSETTO:-0400
TZNAME:EDT
DTSTART:20260308T070000
END:DAYLIGHT
BEGIN:STANDARD
TZOFFSETFROM:-0400
TZOFFSETTO:-0500
TZNAME:EST
DTSTART:20261101T060000
END:STANDARD
END:VTIMEZONE
BEGIN:VEVENT
DTSTART;TZID=America/New_York:20251101T100000
DTEND;TZID=America/New_York:20251101T104500
DTSTAMP:20260421T152754
CREATED:20251010T123337Z
LAST-MODIFIED:20251110T231043Z
UID:10000278-1761991200-1761993900@laotraorilla.net
SUMMARY:Flamenco enfants - EL RECREO - 3 à 5 ans - alegrias | Automne 2025
DESCRIPTION:Avec Timmy Gonzalez
URL:https://laotraorilla.net/activite/flamenco-enfants-el-recreo-3-a-5-ans-alegrias/2025-11-01/
LOCATION:Studio La Lola\, 137\, Saint-Ferdinand – local 227\, Montréal\, Québec\, H4C 2S6\, Canada
CATEGORIES:Flamenco enfants
ATTACH;FMTTYPE=image/jpeg:https://laotraorilla.net/wp-content/uploads/2025/09/Vignette_Cours_Enfants-1200.jpg
ORGANIZER;CN="La Otra Orilla":MAILTO:info@laotraorilla.net
END:VEVENT
BEGIN:VEVENT
DTSTART;TZID=America/New_York:20251101T110000
DTEND;TZID=America/New_York:20251101T120000
DTSTAMP:20260421T152754
CREATED:20251010T123523Z
LAST-MODIFIED:20251110T231116Z
UID:10000342-1761994800-1761998400@laotraorilla.net
SUMMARY:Flamenco enfants - EL TACONEO - 6 à 10 ans - sevillanas | Automne 2025
DESCRIPTION:Avec Timmy Gonzalez
URL:https://laotraorilla.net/activite/flamenco-enfants-el-taconeo-6-a-10-ans-sevillanas/2025-11-01/
LOCATION:Studio La Lola\, 137\, Saint-Ferdinand – local 227\, Montréal\, Québec\, H4C 2S6\, Canada
CATEGORIES:Flamenco enfants
ATTACH;FMTTYPE=image/jpeg:https://laotraorilla.net/wp-content/uploads/2025/09/Vignette_Cours_Enfants-1200.jpg
ORGANIZER;CN="La Otra Orilla":MAILTO:info@laotraorilla.net
END:VEVENT
BEGIN:VEVENT
DTSTART;TZID=America/New_York:20251106T180000
DTEND;TZID=America/New_York:20251106T190000
DTSTAMP:20260421T152754
CREATED:20251120T215935Z
LAST-MODIFIED:20251120T215935Z
UID:10000668-1762452000-1762455600@laotraorilla.net
SUMMARY:Flamenco enfants - FLAMENCO ADOS - 10 à 14 ans - solea por bulerias | Automne 2025
DESCRIPTION:Avec Timmy Gonzalez
URL:https://laotraorilla.net/activite/flamenco-enfants-flamenco-ados-10-a-14-ans-solea-por-bulerias-automne-2025/2025-11-06/
LOCATION:Studio La Lola\, 137\, Saint-Ferdinand – local 227\, Montréal\, Québec\, H4C 2S6\, Canada
CATEGORIES:Flamenco enfants
ATTACH;FMTTYPE=image/jpeg:https://laotraorilla.net/wp-content/uploads/2025/09/Vignette_Cours_Enfants-1200.jpg
ORGANIZER;CN="La Otra Orilla":MAILTO:info@laotraorilla.net
END:VEVENT
BEGIN:VEVENT
DTSTART;TZID=America/New_York:20251108T100000
DTEND;TZID=America/New_York:20251108T104500
DTSTAMP:20260421T152754
CREATED:20251010T123337Z
LAST-MODIFIED:20251110T231043Z
UID:10000279-1762596000-1762598700@laotraorilla.net
SUMMARY:Flamenco enfants - EL RECREO - 3 à 5 ans - alegrias | Automne 2025
DESCRIPTION:Avec Timmy Gonzalez
URL:https://laotraorilla.net/activite/flamenco-enfants-el-recreo-3-a-5-ans-alegrias/2025-11-08/
LOCATION:Studio La Lola\, 137\, Saint-Ferdinand – local 227\, Montréal\, Québec\, H4C 2S6\, Canada
CATEGORIES:Flamenco enfants
ATTACH;FMTTYPE=image/jpeg:https://laotraorilla.net/wp-content/uploads/2025/09/Vignette_Cours_Enfants-1200.jpg
ORGANIZER;CN="La Otra Orilla":MAILTO:info@laotraorilla.net
END:VEVENT
BEGIN:VEVENT
DTSTART;TZID=America/New_York:20251108T110000
DTEND;TZID=America/New_York:20251108T120000
DTSTAMP:20260421T152754
CREATED:20251010T123523Z
LAST-MODIFIED:20251110T231116Z
UID:10000343-1762599600-1762603200@laotraorilla.net
SUMMARY:Flamenco enfants - EL TACONEO - 6 à 10 ans - sevillanas | Automne 2025
DESCRIPTION:Avec Timmy Gonzalez
URL:https://laotraorilla.net/activite/flamenco-enfants-el-taconeo-6-a-10-ans-sevillanas/2025-11-08/
LOCATION:Studio La Lola\, 137\, Saint-Ferdinand – local 227\, Montréal\, Québec\, H4C 2S6\, Canada
CATEGORIES:Flamenco enfants
ATTACH;FMTTYPE=image/jpeg:https://laotraorilla.net/wp-content/uploads/2025/09/Vignette_Cours_Enfants-1200.jpg
ORGANIZER;CN="La Otra Orilla":MAILTO:info@laotraorilla.net
END:VEVENT
BEGIN:VEVENT
DTSTART;TZID=America/New_York:20251113T180000
DTEND;TZID=America/New_York:20251113T190000
DTSTAMP:20260421T152754
CREATED:20251120T215935Z
LAST-MODIFIED:20251120T215935Z
UID:10000669-1763056800-1763060400@laotraorilla.net
SUMMARY:Flamenco enfants - FLAMENCO ADOS - 10 à 14 ans - solea por bulerias | Automne 2025
DESCRIPTION:Avec Timmy Gonzalez
URL:https://laotraorilla.net/activite/flamenco-enfants-flamenco-ados-10-a-14-ans-solea-por-bulerias-automne-2025/2025-11-13/
LOCATION:Studio La Lola\, 137\, Saint-Ferdinand – local 227\, Montréal\, Québec\, H4C 2S6\, Canada
CATEGORIES:Flamenco enfants
ATTACH;FMTTYPE=image/jpeg:https://laotraorilla.net/wp-content/uploads/2025/09/Vignette_Cours_Enfants-1200.jpg
ORGANIZER;CN="La Otra Orilla":MAILTO:info@laotraorilla.net
END:VEVENT
BEGIN:VEVENT
DTSTART;TZID=America/New_York:20251115T100000
DTEND;TZID=America/New_York:20251115T104500
DTSTAMP:20260421T152754
CREATED:20251010T123337Z
LAST-MODIFIED:20251110T231043Z
UID:10000280-1763200800-1763203500@laotraorilla.net
SUMMARY:Flamenco enfants - EL RECREO - 3 à 5 ans - alegrias | Automne 2025
DESCRIPTION:Avec Timmy Gonzalez
URL:https://laotraorilla.net/activite/flamenco-enfants-el-recreo-3-a-5-ans-alegrias/2025-11-15/
LOCATION:Studio La Lola\, 137\, Saint-Ferdinand – local 227\, Montréal\, Québec\, H4C 2S6\, Canada
CATEGORIES:Flamenco enfants
ATTACH;FMTTYPE=image/jpeg:https://laotraorilla.net/wp-content/uploads/2025/09/Vignette_Cours_Enfants-1200.jpg
ORGANIZER;CN="La Otra Orilla":MAILTO:info@laotraorilla.net
END:VEVENT
BEGIN:VEVENT
DTSTART;TZID=America/New_York:20251115T110000
DTEND;TZID=America/New_York:20251115T120000
DTSTAMP:20260421T152754
CREATED:20251010T123523Z
LAST-MODIFIED:20251110T231116Z
UID:10000344-1763204400-1763208000@laotraorilla.net
SUMMARY:Flamenco enfants - EL TACONEO - 6 à 10 ans - sevillanas | Automne 2025
DESCRIPTION:Avec Timmy Gonzalez
URL:https://laotraorilla.net/activite/flamenco-enfants-el-taconeo-6-a-10-ans-sevillanas/2025-11-15/
LOCATION:Studio La Lola\, 137\, Saint-Ferdinand – local 227\, Montréal\, Québec\, H4C 2S6\, Canada
CATEGORIES:Flamenco enfants
ATTACH;FMTTYPE=image/jpeg:https://laotraorilla.net/wp-content/uploads/2025/09/Vignette_Cours_Enfants-1200.jpg
ORGANIZER;CN="La Otra Orilla":MAILTO:info@laotraorilla.net
END:VEVENT
BEGIN:VEVENT
DTSTART;TZID=America/New_York:20251120T180000
DTEND;TZID=America/New_York:20251120T190000
DTSTAMP:20260421T152754
CREATED:20251120T215935Z
LAST-MODIFIED:20251120T215935Z
UID:10000670-1763661600-1763665200@laotraorilla.net
SUMMARY:Flamenco enfants - FLAMENCO ADOS - 10 à 14 ans - solea por bulerias | Automne 2025
DESCRIPTION:Avec Timmy Gonzalez
URL:https://laotraorilla.net/activite/flamenco-enfants-flamenco-ados-10-a-14-ans-solea-por-bulerias-automne-2025/2025-11-20/
LOCATION:Studio La Lola\, 137\, Saint-Ferdinand – local 227\, Montréal\, Québec\, H4C 2S6\, Canada
CATEGORIES:Flamenco enfants
ATTACH;FMTTYPE=image/jpeg:https://laotraorilla.net/wp-content/uploads/2025/09/Vignette_Cours_Enfants-1200.jpg
ORGANIZER;CN="La Otra Orilla":MAILTO:info@laotraorilla.net
END:VEVENT
BEGIN:VEVENT
DTSTART;TZID=America/New_York:20251122T100000
DTEND;TZID=America/New_York:20251122T104500
DTSTAMP:20260421T152754
CREATED:20251010T123337Z
LAST-MODIFIED:20251110T231043Z
UID:10000281-1763805600-1763808300@laotraorilla.net
SUMMARY:Flamenco enfants - EL RECREO - 3 à 5 ans - alegrias | Automne 2025
DESCRIPTION:Avec Timmy Gonzalez
URL:https://laotraorilla.net/activite/flamenco-enfants-el-recreo-3-a-5-ans-alegrias/2025-11-22/
LOCATION:Studio La Lola\, 137\, Saint-Ferdinand – local 227\, Montréal\, Québec\, H4C 2S6\, Canada
CATEGORIES:Flamenco enfants
ATTACH;FMTTYPE=image/jpeg:https://laotraorilla.net/wp-content/uploads/2025/09/Vignette_Cours_Enfants-1200.jpg
ORGANIZER;CN="La Otra Orilla":MAILTO:info@laotraorilla.net
END:VEVENT
BEGIN:VEVENT
DTSTART;TZID=America/New_York:20251122T110000
DTEND;TZID=America/New_York:20251122T120000
DTSTAMP:20260421T152754
CREATED:20251010T123523Z
LAST-MODIFIED:20251110T231116Z
UID:10000345-1763809200-1763812800@laotraorilla.net
SUMMARY:Flamenco enfants - EL TACONEO - 6 à 10 ans - sevillanas | Automne 2025
DESCRIPTION:Avec Timmy Gonzalez
URL:https://laotraorilla.net/activite/flamenco-enfants-el-taconeo-6-a-10-ans-sevillanas/2025-11-22/
LOCATION:Studio La Lola\, 137\, Saint-Ferdinand – local 227\, Montréal\, Québec\, H4C 2S6\, Canada
CATEGORIES:Flamenco enfants
ATTACH;FMTTYPE=image/jpeg:https://laotraorilla.net/wp-content/uploads/2025/09/Vignette_Cours_Enfants-1200.jpg
ORGANIZER;CN="La Otra Orilla":MAILTO:info@laotraorilla.net
END:VEVENT
BEGIN:VEVENT
DTSTART;TZID=America/New_York:20251127T180000
DTEND;TZID=America/New_York:20251127T190000
DTSTAMP:20260421T152754
CREATED:20251120T215935Z
LAST-MODIFIED:20251120T215935Z
UID:10000671-1764266400-1764270000@laotraorilla.net
SUMMARY:Flamenco enfants - FLAMENCO ADOS - 10 à 14 ans - solea por bulerias | Automne 2025
DESCRIPTION:Avec Timmy Gonzalez
URL:https://laotraorilla.net/activite/flamenco-enfants-flamenco-ados-10-a-14-ans-solea-por-bulerias-automne-2025/2025-11-27/
LOCATION:Studio La Lola\, 137\, Saint-Ferdinand – local 227\, Montréal\, Québec\, H4C 2S6\, Canada
CATEGORIES:Flamenco enfants
ATTACH;FMTTYPE=image/jpeg:https://laotraorilla.net/wp-content/uploads/2025/09/Vignette_Cours_Enfants-1200.jpg
ORGANIZER;CN="La Otra Orilla":MAILTO:info@laotraorilla.net
END:VEVENT
BEGIN:VEVENT
DTSTART;TZID=America/New_York:20251129T100000
DTEND;TZID=America/New_York:20251129T104500
DTSTAMP:20260421T152754
CREATED:20251010T123337Z
LAST-MODIFIED:20251110T231043Z
UID:10000282-1764410400-1764413100@laotraorilla.net
SUMMARY:Flamenco enfants - EL RECREO - 3 à 5 ans - alegrias | Automne 2025
DESCRIPTION:Avec Timmy Gonzalez
URL:https://laotraorilla.net/activite/flamenco-enfants-el-recreo-3-a-5-ans-alegrias/2025-11-29/
LOCATION:Studio La Lola\, 137\, Saint-Ferdinand – local 227\, Montréal\, Québec\, H4C 2S6\, Canada
CATEGORIES:Flamenco enfants
ATTACH;FMTTYPE=image/jpeg:https://laotraorilla.net/wp-content/uploads/2025/09/Vignette_Cours_Enfants-1200.jpg
ORGANIZER;CN="La Otra Orilla":MAILTO:info@laotraorilla.net
END:VEVENT
BEGIN:VEVENT
DTSTART;TZID=America/New_York:20251129T110000
DTEND;TZID=America/New_York:20251129T120000
DTSTAMP:20260421T152754
CREATED:20251010T123523Z
LAST-MODIFIED:20251110T231116Z
UID:10000346-1764414000-1764417600@laotraorilla.net
SUMMARY:Flamenco enfants - EL TACONEO - 6 à 10 ans - sevillanas | Automne 2025
DESCRIPTION:Avec Timmy Gonzalez
URL:https://laotraorilla.net/activite/flamenco-enfants-el-taconeo-6-a-10-ans-sevillanas/2025-11-29/
LOCATION:Studio La Lola\, 137\, Saint-Ferdinand – local 227\, Montréal\, Québec\, H4C 2S6\, Canada
CATEGORIES:Flamenco enfants
ATTACH;FMTTYPE=image/jpeg:https://laotraorilla.net/wp-content/uploads/2025/09/Vignette_Cours_Enfants-1200.jpg
ORGANIZER;CN="La Otra Orilla":MAILTO:info@laotraorilla.net
END:VEVENT
END:VCALENDAR