BEGIN:VCALENDAR
VERSION:2.0
PRODID:-//La Otra Orilla - ECPv6.15.17//NONSGML v1.0//EN
CALSCALE:GREGORIAN
METHOD:PUBLISH
X-WR-CALNAME:La Otra Orilla
X-ORIGINAL-URL:https://laotraorilla.net
X-WR-CALDESC:Évènements pour La Otra Orilla
REFRESH-INTERVAL;VALUE=DURATION:PT1H
X-Robots-Tag:noindex
X-PUBLISHED-TTL:PT1H
BEGIN:VTIMEZONE
TZID:America/New_York
BEGIN:DAYLIGHT
TZOFFSETFROM:-0500
TZOFFSETTO:-0400
TZNAME:EDT
DTSTART:20250309T070000
END:DAYLIGHT
BEGIN:STANDARD
TZOFFSETFROM:-0400
TZOFFSETTO:-0500
TZNAME:EST
DTSTART:20251102T060000
END:STANDARD
BEGIN:DAYLIGHT
TZOFFSETFROM:-0500
TZOFFSETTO:-0400
TZNAME:EDT
DTSTART:20260308T070000
END:DAYLIGHT
BEGIN:STANDARD
TZOFFSETFROM:-0400
TZOFFSETTO:-0500
TZNAME:EST
DTSTART:20261101T060000
END:STANDARD
BEGIN:DAYLIGHT
TZOFFSETFROM:-0500
TZOFFSETTO:-0400
TZNAME:EDT
DTSTART:20270314T070000
END:DAYLIGHT
BEGIN:STANDARD
TZOFFSETFROM:-0400
TZOFFSETTO:-0500
TZNAME:EST
DTSTART:20271107T060000
END:STANDARD
END:VTIMEZONE
BEGIN:VEVENT
DTSTART;TZID=America/New_York:20260207T100000
DTEND;TZID=America/New_York:20260207T104500
DTSTAMP:20260421T104055
CREATED:20251208T211334Z
LAST-MODIFIED:20251208T211334Z
UID:10000821-1770458400-1770461100@laotraorilla.net
SUMMARY:Flamenco enfants - EL RECREO - 4 à 6 ans - alegrías | Hiver 2026
DESCRIPTION:avec Timmy González
URL:https://laotraorilla.net/activite/flamenco-enfants-el-recreo-4-a-6-ans-alegrias-hiver-2026/2026-02-07/
LOCATION:Studio La Lola\, 137\, Saint-Ferdinand – local 227\, Montréal\, Québec\, H4C 2S6\, Canada
CATEGORIES:Flamenco enfants
ATTACH;FMTTYPE=image/jpeg:https://laotraorilla.net/wp-content/uploads/2025/09/Vignette_Cours_Enfants-1200.jpg
ORGANIZER;CN="La Otra Orilla":MAILTO:info@laotraorilla.net
END:VEVENT
BEGIN:VEVENT
DTSTART;TZID=America/New_York:20260207T110000
DTEND;TZID=America/New_York:20260207T120000
DTSTAMP:20260421T104055
CREATED:20251208T211639Z
LAST-MODIFIED:20251208T212911Z
UID:10000837-1770462000-1770465600@laotraorilla.net
SUMMARY:Flamenco enfants - EL TACONEO - 7 à 11 ans - sevillanas | Hiver 2026
DESCRIPTION:avec Timmy González
URL:https://laotraorilla.net/activite/flamenco-enfants-el-taconeo-7-a-11-ans-sevillanas-hiver-2026/2026-02-07/
LOCATION:Studio La Lola\, 137\, Saint-Ferdinand – local 227\, Montréal\, Québec\, H4C 2S6\, Canada
CATEGORIES:Flamenco enfants
ATTACH;FMTTYPE=image/jpeg:https://laotraorilla.net/wp-content/uploads/2025/09/Vignette_Cours_Enfants-1200.jpg
ORGANIZER;CN="La Otra Orilla":MAILTO:info@laotraorilla.net
END:VEVENT
BEGIN:VEVENT
DTSTART;TZID=America/New_York:20260214T100000
DTEND;TZID=America/New_York:20260214T104500
DTSTAMP:20260421T104055
CREATED:20251208T211334Z
LAST-MODIFIED:20251208T211334Z
UID:10000822-1771063200-1771065900@laotraorilla.net
SUMMARY:Flamenco enfants - EL RECREO - 4 à 6 ans - alegrías | Hiver 2026
DESCRIPTION:avec Timmy González
URL:https://laotraorilla.net/activite/flamenco-enfants-el-recreo-4-a-6-ans-alegrias-hiver-2026/2026-02-14/
LOCATION:Studio La Lola\, 137\, Saint-Ferdinand – local 227\, Montréal\, Québec\, H4C 2S6\, Canada
CATEGORIES:Flamenco enfants
ATTACH;FMTTYPE=image/jpeg:https://laotraorilla.net/wp-content/uploads/2025/09/Vignette_Cours_Enfants-1200.jpg
ORGANIZER;CN="La Otra Orilla":MAILTO:info@laotraorilla.net
END:VEVENT
BEGIN:VEVENT
DTSTART;TZID=America/New_York:20260214T110000
DTEND;TZID=America/New_York:20260214T120000
DTSTAMP:20260421T104055
CREATED:20251208T211639Z
LAST-MODIFIED:20251208T212911Z
UID:10000838-1771066800-1771070400@laotraorilla.net
SUMMARY:Flamenco enfants - EL TACONEO - 7 à 11 ans - sevillanas | Hiver 2026
DESCRIPTION:avec Timmy González
URL:https://laotraorilla.net/activite/flamenco-enfants-el-taconeo-7-a-11-ans-sevillanas-hiver-2026/2026-02-14/
LOCATION:Studio La Lola\, 137\, Saint-Ferdinand – local 227\, Montréal\, Québec\, H4C 2S6\, Canada
CATEGORIES:Flamenco enfants
ATTACH;FMTTYPE=image/jpeg:https://laotraorilla.net/wp-content/uploads/2025/09/Vignette_Cours_Enfants-1200.jpg
ORGANIZER;CN="La Otra Orilla":MAILTO:info@laotraorilla.net
END:VEVENT
BEGIN:VEVENT
DTSTART;TZID=America/New_York:20260221T100000
DTEND;TZID=America/New_York:20260221T104500
DTSTAMP:20260421T104055
CREATED:20251208T211334Z
LAST-MODIFIED:20251208T211334Z
UID:10000823-1771668000-1771670700@laotraorilla.net
SUMMARY:Flamenco enfants - EL RECREO - 4 à 6 ans - alegrías | Hiver 2026
DESCRIPTION:avec Timmy González
URL:https://laotraorilla.net/activite/flamenco-enfants-el-recreo-4-a-6-ans-alegrias-hiver-2026/2026-02-21/
LOCATION:Studio La Lola\, 137\, Saint-Ferdinand – local 227\, Montréal\, Québec\, H4C 2S6\, Canada
CATEGORIES:Flamenco enfants
ATTACH;FMTTYPE=image/jpeg:https://laotraorilla.net/wp-content/uploads/2025/09/Vignette_Cours_Enfants-1200.jpg
ORGANIZER;CN="La Otra Orilla":MAILTO:info@laotraorilla.net
END:VEVENT
BEGIN:VEVENT
DTSTART;TZID=America/New_York:20260221T110000
DTEND;TZID=America/New_York:20260221T120000
DTSTAMP:20260421T104055
CREATED:20251208T211639Z
LAST-MODIFIED:20251208T212911Z
UID:10000839-1771671600-1771675200@laotraorilla.net
SUMMARY:Flamenco enfants - EL TACONEO - 7 à 11 ans - sevillanas | Hiver 2026
DESCRIPTION:avec Timmy González
URL:https://laotraorilla.net/activite/flamenco-enfants-el-taconeo-7-a-11-ans-sevillanas-hiver-2026/2026-02-21/
LOCATION:Studio La Lola\, 137\, Saint-Ferdinand – local 227\, Montréal\, Québec\, H4C 2S6\, Canada
CATEGORIES:Flamenco enfants
ATTACH;FMTTYPE=image/jpeg:https://laotraorilla.net/wp-content/uploads/2025/09/Vignette_Cours_Enfants-1200.jpg
ORGANIZER;CN="La Otra Orilla":MAILTO:info@laotraorilla.net
END:VEVENT
BEGIN:VEVENT
DTSTART;TZID=America/New_York:20260228T100000
DTEND;TZID=America/New_York:20260228T104500
DTSTAMP:20260421T104055
CREATED:20251208T211334Z
LAST-MODIFIED:20251208T211334Z
UID:10000824-1772272800-1772275500@laotraorilla.net
SUMMARY:Flamenco enfants - EL RECREO - 4 à 6 ans - alegrías | Hiver 2026
DESCRIPTION:avec Timmy González
URL:https://laotraorilla.net/activite/flamenco-enfants-el-recreo-4-a-6-ans-alegrias-hiver-2026/2026-02-28/
LOCATION:Studio La Lola\, 137\, Saint-Ferdinand – local 227\, Montréal\, Québec\, H4C 2S6\, Canada
CATEGORIES:Flamenco enfants
ATTACH;FMTTYPE=image/jpeg:https://laotraorilla.net/wp-content/uploads/2025/09/Vignette_Cours_Enfants-1200.jpg
ORGANIZER;CN="La Otra Orilla":MAILTO:info@laotraorilla.net
END:VEVENT
BEGIN:VEVENT
DTSTART;TZID=America/New_York:20260228T110000
DTEND;TZID=America/New_York:20260228T120000
DTSTAMP:20260421T104055
CREATED:20251208T211639Z
LAST-MODIFIED:20251208T212911Z
UID:10000840-1772276400-1772280000@laotraorilla.net
SUMMARY:Flamenco enfants - EL TACONEO - 7 à 11 ans - sevillanas | Hiver 2026
DESCRIPTION:avec Timmy González
URL:https://laotraorilla.net/activite/flamenco-enfants-el-taconeo-7-a-11-ans-sevillanas-hiver-2026/2026-02-28/
LOCATION:Studio La Lola\, 137\, Saint-Ferdinand – local 227\, Montréal\, Québec\, H4C 2S6\, Canada
CATEGORIES:Flamenco enfants
ATTACH;FMTTYPE=image/jpeg:https://laotraorilla.net/wp-content/uploads/2025/09/Vignette_Cours_Enfants-1200.jpg
ORGANIZER;CN="La Otra Orilla":MAILTO:info@laotraorilla.net
END:VEVENT
END:VCALENDAR