BEGIN:VCALENDAR
VERSION:2.0
PRODID:-//La Otra Orilla - ECPv6.15.17//NONSGML v1.0//EN
CALSCALE:GREGORIAN
METHOD:PUBLISH
X-ORIGINAL-URL:https://laotraorilla.net
X-WR-CALDESC:Évènements pour La Otra Orilla
REFRESH-INTERVAL;VALUE=DURATION:PT1H
X-Robots-Tag:noindex
X-PUBLISHED-TTL:PT1H
BEGIN:VTIMEZONE
TZID:America/New_York
BEGIN:DAYLIGHT
TZOFFSETFROM:-0500
TZOFFSETTO:-0400
TZNAME:EDT
DTSTART:20250309T070000
END:DAYLIGHT
BEGIN:STANDARD
TZOFFSETFROM:-0400
TZOFFSETTO:-0500
TZNAME:EST
DTSTART:20251102T060000
END:STANDARD
BEGIN:DAYLIGHT
TZOFFSETFROM:-0500
TZOFFSETTO:-0400
TZNAME:EDT
DTSTART:20260308T070000
END:DAYLIGHT
BEGIN:STANDARD
TZOFFSETFROM:-0400
TZOFFSETTO:-0500
TZNAME:EST
DTSTART:20261101T060000
END:STANDARD
BEGIN:DAYLIGHT
TZOFFSETFROM:-0500
TZOFFSETTO:-0400
TZNAME:EDT
DTSTART:20270314T070000
END:DAYLIGHT
BEGIN:STANDARD
TZOFFSETFROM:-0400
TZOFFSETTO:-0500
TZNAME:EST
DTSTART:20271107T060000
END:STANDARD
END:VTIMEZONE
BEGIN:VEVENT
DTSTART;TZID=America/New_York:20260314T100000
DTEND;TZID=America/New_York:20260314T104500
DTSTAMP:20260421T084816
CREATED:20251208T211334Z
LAST-MODIFIED:20251208T211334Z
UID:10000825-1773482400-1773485100@laotraorilla.net
SUMMARY:Flamenco enfants - EL RECREO - 4 à 6 ans - alegrías | Hiver 2026
DESCRIPTION:avec Timmy González
URL:https://laotraorilla.net/activite/flamenco-enfants-el-recreo-4-a-6-ans-alegrias-hiver-2026/2026-03-14/
LOCATION:Studio La Lola\, 137\, Saint-Ferdinand – local 227\, Montréal\, Québec\, H4C 2S6\, Canada
CATEGORIES:Flamenco enfants
ATTACH;FMTTYPE=image/jpeg:https://laotraorilla.net/wp-content/uploads/2025/09/Vignette_Cours_Enfants-1200.jpg
ORGANIZER;CN="La Otra Orilla":MAILTO:info@laotraorilla.net
END:VEVENT
BEGIN:VEVENT
DTSTART;TZID=America/New_York:20260314T110000
DTEND;TZID=America/New_York:20260314T120000
DTSTAMP:20260421T084816
CREATED:20251208T211639Z
LAST-MODIFIED:20251208T212911Z
UID:10000841-1773486000-1773489600@laotraorilla.net
SUMMARY:Flamenco enfants - EL TACONEO - 7 à 11 ans - sevillanas | Hiver 2026
DESCRIPTION:avec Timmy González
URL:https://laotraorilla.net/activite/flamenco-enfants-el-taconeo-7-a-11-ans-sevillanas-hiver-2026/2026-03-14/
LOCATION:Studio La Lola\, 137\, Saint-Ferdinand – local 227\, Montréal\, Québec\, H4C 2S6\, Canada
CATEGORIES:Flamenco enfants
ATTACH;FMTTYPE=image/jpeg:https://laotraorilla.net/wp-content/uploads/2025/09/Vignette_Cours_Enfants-1200.jpg
ORGANIZER;CN="La Otra Orilla":MAILTO:info@laotraorilla.net
END:VEVENT
BEGIN:VEVENT
DTSTART;TZID=America/New_York:20260321T100000
DTEND;TZID=America/New_York:20260321T104500
DTSTAMP:20260421T084816
CREATED:20251208T211334Z
LAST-MODIFIED:20251208T211334Z
UID:10000826-1774087200-1774089900@laotraorilla.net
SUMMARY:Flamenco enfants - EL RECREO - 4 à 6 ans - alegrías | Hiver 2026
DESCRIPTION:avec Timmy González
URL:https://laotraorilla.net/activite/flamenco-enfants-el-recreo-4-a-6-ans-alegrias-hiver-2026/2026-03-21/
LOCATION:Studio La Lola\, 137\, Saint-Ferdinand – local 227\, Montréal\, Québec\, H4C 2S6\, Canada
CATEGORIES:Flamenco enfants
ATTACH;FMTTYPE=image/jpeg:https://laotraorilla.net/wp-content/uploads/2025/09/Vignette_Cours_Enfants-1200.jpg
ORGANIZER;CN="La Otra Orilla":MAILTO:info@laotraorilla.net
END:VEVENT
BEGIN:VEVENT
DTSTART;TZID=America/New_York:20260321T110000
DTEND;TZID=America/New_York:20260321T120000
DTSTAMP:20260421T084816
CREATED:20251208T211639Z
LAST-MODIFIED:20251208T212911Z
UID:10000842-1774090800-1774094400@laotraorilla.net
SUMMARY:Flamenco enfants - EL TACONEO - 7 à 11 ans - sevillanas | Hiver 2026
DESCRIPTION:avec Timmy González
URL:https://laotraorilla.net/activite/flamenco-enfants-el-taconeo-7-a-11-ans-sevillanas-hiver-2026/2026-03-21/
LOCATION:Studio La Lola\, 137\, Saint-Ferdinand – local 227\, Montréal\, Québec\, H4C 2S6\, Canada
CATEGORIES:Flamenco enfants
ATTACH;FMTTYPE=image/jpeg:https://laotraorilla.net/wp-content/uploads/2025/09/Vignette_Cours_Enfants-1200.jpg
ORGANIZER;CN="La Otra Orilla":MAILTO:info@laotraorilla.net
END:VEVENT
BEGIN:VEVENT
DTSTART;TZID=America/New_York:20260328T100000
DTEND;TZID=America/New_York:20260328T104500
DTSTAMP:20260421T084816
CREATED:20251208T211334Z
LAST-MODIFIED:20251208T211334Z
UID:10000827-1774692000-1774694700@laotraorilla.net
SUMMARY:Flamenco enfants - EL RECREO - 4 à 6 ans - alegrías | Hiver 2026
DESCRIPTION:avec Timmy González
URL:https://laotraorilla.net/activite/flamenco-enfants-el-recreo-4-a-6-ans-alegrias-hiver-2026/2026-03-28/
LOCATION:Studio La Lola\, 137\, Saint-Ferdinand – local 227\, Montréal\, Québec\, H4C 2S6\, Canada
CATEGORIES:Flamenco enfants
ATTACH;FMTTYPE=image/jpeg:https://laotraorilla.net/wp-content/uploads/2025/09/Vignette_Cours_Enfants-1200.jpg
ORGANIZER;CN="La Otra Orilla":MAILTO:info@laotraorilla.net
END:VEVENT
BEGIN:VEVENT
DTSTART;TZID=America/New_York:20260328T110000
DTEND;TZID=America/New_York:20260328T120000
DTSTAMP:20260421T084816
CREATED:20251208T211639Z
LAST-MODIFIED:20251208T212911Z
UID:10000843-1774695600-1774699200@laotraorilla.net
SUMMARY:Flamenco enfants - EL TACONEO - 7 à 11 ans - sevillanas | Hiver 2026
DESCRIPTION:avec Timmy González
URL:https://laotraorilla.net/activite/flamenco-enfants-el-taconeo-7-a-11-ans-sevillanas-hiver-2026/2026-03-28/
LOCATION:Studio La Lola\, 137\, Saint-Ferdinand – local 227\, Montréal\, Québec\, H4C 2S6\, Canada
CATEGORIES:Flamenco enfants
ATTACH;FMTTYPE=image/jpeg:https://laotraorilla.net/wp-content/uploads/2025/09/Vignette_Cours_Enfants-1200.jpg
ORGANIZER;CN="La Otra Orilla":MAILTO:info@laotraorilla.net
END:VEVENT
END:VCALENDAR