BEGIN:VCALENDAR
VERSION:2.0
PRODID:-//La Otra Orilla - ECPv6.15.17//NONSGML v1.0//EN
CALSCALE:GREGORIAN
METHOD:PUBLISH
X-WR-CALNAME:La Otra Orilla
X-ORIGINAL-URL:https://laotraorilla.net
X-WR-CALDESC:Évènements pour La Otra Orilla
REFRESH-INTERVAL;VALUE=DURATION:PT1H
X-Robots-Tag:noindex
X-PUBLISHED-TTL:PT1H
BEGIN:VTIMEZONE
TZID:UTC
BEGIN:STANDARD
TZOFFSETFROM:+0000
TZOFFSETTO:+0000
TZNAME:UTC
DTSTART:20240101T000000
END:STANDARD
END:VTIMEZONE
BEGIN:VEVENT
DTSTART;TZID=UTC:20251106T200000
DTEND;TZID=UTC:20251106T210000
DTSTAMP:20260421T170258
CREATED:20251008T193016Z
LAST-MODIFIED:20251031T195623Z
UID:10000270-1762459200-1762462800@laotraorilla.net
SUMMARY:DEBORDEMENTS | New Richmond
DESCRIPTION:Salle de spectacles régionale Desjardins – New Richmond\nInformations et Billetterie \nLe spectacle
URL:https://laotraorilla.net/activite/debordements-new-richmond/
LOCATION:Salle de spectacles régionale Desjardins – New Richmond\, 99\, place Suzanne-Guité\, New Richmond\, Québec\, G0C 2B0\, Canada
CATEGORIES:Spectacles
ATTACH;FMTTYPE=image/jpeg:https://laotraorilla.net/wp-content/uploads/2025/10/DEBORDEMENTS-1200.jpg
ORGANIZER;CN="La Otra Orilla":MAILTO:info@laotraorilla.net
END:VEVENT
BEGIN:VEVENT
DTSTART;TZID=UTC:20251108T200000
DTEND;TZID=UTC:20251108T210000
DTSTAMP:20260421T170258
CREATED:20251008T192444Z
LAST-MODIFIED:20251031T195610Z
UID:10000269-1762632000-1762635600@laotraorilla.net
SUMMARY:DEBORDEMENTS | Gaspé
DESCRIPTION:Centre de création diffusion Gaspé\nInformations et Billetterie \nLe spectacle
URL:https://laotraorilla.net/activite/debordements-gaspe/
LOCATION:Centre de création diffusion Gaspé\, 85-1\, boulevard de Gaspé\, Gaspé\, Québec\, G4X 2R8\, Canada
CATEGORIES:Spectacles
ATTACH;FMTTYPE=image/jpeg:https://laotraorilla.net/wp-content/uploads/2025/10/DEBORDEMENTS-1200.jpg
ORGANIZER;CN="La Otra Orilla":MAILTO:info@laotraorilla.net
END:VEVENT
BEGIN:VEVENT
DTSTART;TZID=UTC:20251112T193000
DTEND;TZID=UTC:20251112T210000
DTSTAMP:20260421T170258
CREATED:20250912T193950Z
LAST-MODIFIED:20251031T195556Z
UID:10000001-1762975800-1762981200@laotraorilla.net
SUMMARY:DEBORDEMENTS | Le Bic
DESCRIPTION:Théâtre du Bic\nInformations et Billetterie \nLe spectacle
URL:https://laotraorilla.net/activite/debordements-le-bic/
LOCATION:Théâtre du Bic\, 50\, route du Golf-du-Bic\, Rimouski\, Québec\, G0L 1B0\, Canada
CATEGORIES:Spectacles
ATTACH;FMTTYPE=image/jpeg:https://laotraorilla.net/wp-content/uploads/2025/10/DEBORDEMENTS-1200.jpg
ORGANIZER;CN="La Otra Orilla":MAILTO:info@laotraorilla.net
END:VEVENT
BEGIN:VEVENT
DTSTART;TZID=UTC:20251124T200000
DTEND;TZID=UTC:20251124T213000
DTSTAMP:20260421T170258
CREATED:20251010T205519Z
LAST-MODIFIED:20251031T195541Z
UID:10000400-1764014400-1764019800@laotraorilla.net
SUMMARY:RITE | Gatineau
DESCRIPTION:Salle Odyssée\, Gatineau\nInformations et Billetterie \nLe spectacle
URL:https://laotraorilla.net/activite/rite-gatineau/
LOCATION:Salle Odyssée | Gatineau\, 855\, boulevard de la Gappe\, Gatineau\, Québec\, J8T 8H9\, Canada
CATEGORIES:Spectacles
ATTACH;FMTTYPE=image/jpeg:https://laotraorilla.net/wp-content/uploads/2025/10/Rite-1200.jpg
ORGANIZER;CN="La Otra Orilla":MAILTO:info@laotraorilla.net
END:VEVENT
END:VCALENDAR