BEGIN:VCALENDAR
VERSION:2.0
PRODID:-//La Otra Orilla - ECPv6.15.17//NONSGML v1.0//EN
CALSCALE:GREGORIAN
METHOD:PUBLISH
X-ORIGINAL-URL:https://laotraorilla.net/en/
X-WR-CALDESC:Events for La Otra Orilla
REFRESH-INTERVAL;VALUE=DURATION:PT1H
X-Robots-Tag:noindex
X-PUBLISHED-TTL:PT1H
BEGIN:VTIMEZONE
TZID:America/New_York
BEGIN:DAYLIGHT
TZOFFSETFROM:-0500
TZOFFSETTO:-0400
TZNAME:EDT
DTSTART:20250309T070000
END:DAYLIGHT
BEGIN:STANDARD
TZOFFSETFROM:-0400
TZOFFSETTO:-0500
TZNAME:EST
DTSTART:20251102T060000
END:STANDARD
BEGIN:DAYLIGHT
TZOFFSETFROM:-0500
TZOFFSETTO:-0400
TZNAME:EDT
DTSTART:20260308T070000
END:DAYLIGHT
BEGIN:STANDARD
TZOFFSETFROM:-0400
TZOFFSETTO:-0500
TZNAME:EST
DTSTART:20261101T060000
END:STANDARD
BEGIN:DAYLIGHT
TZOFFSETFROM:-0500
TZOFFSETTO:-0400
TZNAME:EDT
DTSTART:20270314T070000
END:DAYLIGHT
BEGIN:STANDARD
TZOFFSETFROM:-0400
TZOFFSETTO:-0500
TZNAME:EST
DTSTART:20271107T060000
END:STANDARD
END:VTIMEZONE
BEGIN:VEVENT
DTSTART;TZID=America/New_York:20260422T180000
DTEND;TZID=America/New_York:20260422T191500
DTSTAMP:20260422T140955
CREATED:20251111T215759Z
LAST-MODIFIED:20251120T181111Z
UID:10000545-1776880800-1776885300@laotraorilla.net
SUMMARY:Adults Flamenco - Beginner Level – tangos | Winter 2026
DESCRIPTION:With Sandra Matos
URL:https://laotraorilla.net/en/activite/adults-flamenco-beginner-level-tangos-winter-2026/2026-04-22/
LOCATION:Studio La Lola\, 137\, Saint-Ferdinand – suite 227\, Montreal\, Québec\, H4C 2S6\, Canada
CATEGORIES:Adults Flamenco
ATTACH;FMTTYPE=image/jpeg:https://laotraorilla.net/wp-content/uploads/2025/09/Vignette_Cours_Adultes-1200.jpg
ORGANIZER;CN="La Otra Orilla":MAILTO:info@laotraorilla.net
END:VEVENT
BEGIN:VEVENT
DTSTART;TZID=America/New_York:20260422T193000
DTEND;TZID=America/New_York:20260422T204500
DTSTAMP:20260422T140955
CREATED:20251126T160342Z
LAST-MODIFIED:20251208T204954Z
UID:10000720-1776886200-1776890700@laotraorilla.net
SUMMARY:Adults Flamenco - Beginners/intermediate – guajira | Winter 2026
DESCRIPTION:With Sandra Matos
URL:https://laotraorilla.net/en/activite/adults-flamenco-beginners-intermediate-guajira-con-abanico-winter-2026/2026-04-22/
LOCATION:Studio La Lola\, 137\, Saint-Ferdinand – suite 227\, Montreal\, Québec\, H4C 2S6\, Canada
CATEGORIES:Adults Flamenco
ATTACH;FMTTYPE=image/jpeg:https://laotraorilla.net/wp-content/uploads/2025/09/Vignette_Cours_Adultes-1200.jpg
ORGANIZER;CN="La Otra Orilla":MAILTO:info@laotraorilla.net
END:VEVENT
BEGIN:VEVENT
DTSTART;TZID=America/New_York:20260425T121500
DTEND;TZID=America/New_York:20260425T133000
DTSTAMP:20260422T140955
CREATED:20251208T210014Z
LAST-MODIFIED:20251208T210303Z
UID:10000815-1777119300-1777123800@laotraorilla.net
SUMMARY:Adults Flamenco - castanets - seguiriya | Winter 2026
DESCRIPTION:with Timmy González
URL:https://laotraorilla.net/en/activite/adults-flamenco-castanets-seguiriya-winter-2026/2026-04-25/
LOCATION:Studio La Lola\, 137\, Saint-Ferdinand – suite 227\, Montreal\, Québec\, H4C 2S6\, Canada
CATEGORIES:Adults Flamenco
ATTACH;FMTTYPE=image/jpeg:https://laotraorilla.net/wp-content/uploads/2025/09/Vignette_Cours_Adultes-1200.jpg
ORGANIZER;CN="La Otra Orilla":MAILTO:info@laotraorilla.net
END:VEVENT
BEGIN:VEVENT
DTSTART;TZID=America/New_York:20260428T180000
DTEND;TZID=America/New_York:20260428T191500
DTSTAMP:20260422T140955
CREATED:20251208T202109Z
LAST-MODIFIED:20251208T203155Z
UID:10000753-1777399200-1777403700@laotraorilla.net
SUMMARY:Adults Flamenco - Intermediate Level - bulerías | Winter 2026
DESCRIPTION:with Myriam Allard
URL:https://laotraorilla.net/en/activite/adults-flamenco-intermediate-bulerias-winter-2026/2026-04-28/
LOCATION:Studio La Lola\, 137\, Saint-Ferdinand – suite 227\, Montreal\, Québec\, H4C 2S6\, Canada
CATEGORIES:Adults Flamenco
ATTACH;FMTTYPE=image/jpeg:https://laotraorilla.net/wp-content/uploads/2025/09/Vignette_Cours_Adultes-1200.jpg
ORGANIZER;CN="La Otra Orilla":MAILTO:info@laotraorilla.net
END:VEVENT
BEGIN:VEVENT
DTSTART;TZID=America/New_York:20260428T193000
DTEND;TZID=America/New_York:20260428T210000
DTSTAMP:20260422T140955
CREATED:20251208T204340Z
LAST-MODIFIED:20260107T182518Z
UID:10000785-1777404600-1777410000@laotraorilla.net
SUMMARY:Adults Flamenco - Advanced Level - tarantos | Winter 2026
DESCRIPTION:with Myriam Allard
URL:https://laotraorilla.net/en/activite/adults-flamenco-advanced-level-tarantos-winter-2026/2026-04-28/
LOCATION:Studio La Lola\, 137\, Saint-Ferdinand – suite 227\, Montreal\, Québec\, H4C 2S6\, Canada
CATEGORIES:Adults Flamenco
ATTACH;FMTTYPE=image/jpeg:https://laotraorilla.net/wp-content/uploads/2025/09/Vignette_Cours_Adultes-1200.jpg
ORGANIZER;CN="La Otra Orilla":MAILTO:info@laotraorilla.net
END:VEVENT
BEGIN:VEVENT
DTSTART;TZID=America/New_York:20260429T180000
DTEND;TZID=America/New_York:20260429T191500
DTSTAMP:20260422T140955
CREATED:20251111T215759Z
LAST-MODIFIED:20251120T181111Z
UID:10000546-1777485600-1777490100@laotraorilla.net
SUMMARY:Adults Flamenco - Beginner Level – tangos | Winter 2026
DESCRIPTION:With Sandra Matos
URL:https://laotraorilla.net/en/activite/adults-flamenco-beginner-level-tangos-winter-2026/2026-04-29/
LOCATION:Studio La Lola\, 137\, Saint-Ferdinand – suite 227\, Montreal\, Québec\, H4C 2S6\, Canada
CATEGORIES:Adults Flamenco
ATTACH;FMTTYPE=image/jpeg:https://laotraorilla.net/wp-content/uploads/2025/09/Vignette_Cours_Adultes-1200.jpg
ORGANIZER;CN="La Otra Orilla":MAILTO:info@laotraorilla.net
END:VEVENT
BEGIN:VEVENT
DTSTART;TZID=America/New_York:20260429T193000
DTEND;TZID=America/New_York:20260429T204500
DTSTAMP:20260422T140955
CREATED:20251126T160342Z
LAST-MODIFIED:20251208T204954Z
UID:10000721-1777491000-1777495500@laotraorilla.net
SUMMARY:Adults Flamenco - Beginners/intermediate – guajira | Winter 2026
DESCRIPTION:With Sandra Matos
URL:https://laotraorilla.net/en/activite/adults-flamenco-beginners-intermediate-guajira-con-abanico-winter-2026/2026-04-29/
LOCATION:Studio La Lola\, 137\, Saint-Ferdinand – suite 227\, Montreal\, Québec\, H4C 2S6\, Canada
CATEGORIES:Adults Flamenco
ATTACH;FMTTYPE=image/jpeg:https://laotraorilla.net/wp-content/uploads/2025/09/Vignette_Cours_Adultes-1200.jpg
ORGANIZER;CN="La Otra Orilla":MAILTO:info@laotraorilla.net
END:VEVENT
END:VCALENDAR