BEGIN:VCALENDAR
VERSION:2.0
PRODID:-//La Otra Orilla - ECPv6.15.17//NONSGML v1.0//EN
CALSCALE:GREGORIAN
METHOD:PUBLISH
X-ORIGINAL-URL:https://laotraorilla.net/en/
X-WR-CALDESC:Events for La Otra Orilla
REFRESH-INTERVAL;VALUE=DURATION:PT1H
X-Robots-Tag:noindex
X-PUBLISHED-TTL:PT1H
BEGIN:VTIMEZONE
TZID:UTC
BEGIN:STANDARD
TZOFFSETFROM:+0000
TZOFFSETTO:+0000
TZNAME:UTC
DTSTART:20240101T000000
END:STANDARD
END:VTIMEZONE
BEGIN:VEVENT
DTSTART;VALUE=DATE:20250814
DTEND;VALUE=DATE:20250818
DTSTAMP:20260424T141201
CREATED:20250912T202154Z
LAST-MODIFIED:20251120T214137Z
UID:10000624-1755129600-1755475199@laotraorilla.net
SUMMARY:Intensive flamenco workshop | August 2025
DESCRIPTION:With Chloé Brûlé-Dauphin
URL:https://laotraorilla.net/en/activite/intensive-flamenco-workshop-august-2025/
LOCATION:Studio La Lola\, 137\, Saint-Ferdinand – suite 227\, Montreal\, Québec\, H4C 2S6\, Canada
CATEGORIES:Intensive Workshops
ATTACH;FMTTYPE=image/jpeg:https://laotraorilla.net/wp-content/uploads/2025/09/Vignette_Stages_Intensifs-1200.jpg
ORGANIZER;CN="La Otra Orilla":MAILTO:info@laotraorilla.net
END:VEVENT
END:VCALENDAR