BEGIN:VCALENDAR
VERSION:2.0
PRODID:-//La Otra Orilla - ECPv6.15.17//NONSGML v1.0//EN
CALSCALE:GREGORIAN
METHOD:PUBLISH
X-ORIGINAL-URL:https://laotraorilla.net/en/
X-WR-CALDESC:Events for La Otra Orilla
REFRESH-INTERVAL;VALUE=DURATION:PT1H
X-Robots-Tag:noindex
X-PUBLISHED-TTL:PT1H
BEGIN:VTIMEZONE
TZID:UTC
BEGIN:STANDARD
TZOFFSETFROM:+0000
TZOFFSETTO:+0000
TZNAME:UTC
DTSTART:20240101T000000
END:STANDARD
END:VTIMEZONE
BEGIN:VEVENT
DTSTART;TZID=UTC:20251127T190000
DTEND;TZID=UTC:20251127T230000
DTSTAMP:20260424T153550
CREATED:20251009T003616Z
LAST-MODIFIED:20251120T195128Z
UID:10000548-1764270000-1764284400@laotraorilla.net
SUMMARY:PITCH PARTY AT LA LOLA
DESCRIPTION:PITCH PARTY November 27th\, an off-program event of Parcours Danse  \n PITCHES FROM La Otra Orilla\, 7Starr\, We all fall down (Helen Simard and Roger White)\, David Lafleur (in) sight\, and Sovann Rochon-Prom Tep\, all with DJ FIDDYSHADESOFBLACK – Jalessa Coligny to get everyone dancing after the presentations.  \nSCHEDULE Thursday\, November 27th Doors open at 7:30 PM Pitches start at 8:30 PM DJ + food and drinks  \nLOCATION\nLa Otra Orilla\n227-137 Saint-Ferdinand\, Montreal\, H4C 2S6\nFor programmers: info@laotraorilla.net  \nParcours Danse off
URL:https://laotraorilla.net/en/activite/pitch-party-a-la-lola/
LOCATION:Studio La Lola\, 137\, Saint-Ferdinand – suite 227\, Montreal\, Québec\, H4C 2S6\, Canada
CATEGORIES:Studio Events
ATTACH;FMTTYPE=image/jpeg:https://laotraorilla.net/wp-content/uploads/2025/11/PITCHPARTY-1200.jpg
ORGANIZER;CN="La Otra Orilla":MAILTO:info@laotraorilla.net
END:VEVENT
END:VCALENDAR