BEGIN:VCALENDAR
VERSION:2.0
PRODID:-//La Otra Orilla - ECPv6.15.17//NONSGML v1.0//EN
CALSCALE:GREGORIAN
METHOD:PUBLISH
X-WR-CALNAME:La Otra Orilla
X-ORIGINAL-URL:https://laotraorilla.net/en/
X-WR-CALDESC:Events for La Otra Orilla
REFRESH-INTERVAL;VALUE=DURATION:PT1H
X-Robots-Tag:noindex
X-PUBLISHED-TTL:PT1H
BEGIN:VTIMEZONE
TZID:America/New_York
BEGIN:DAYLIGHT
TZOFFSETFROM:-0500
TZOFFSETTO:-0400
TZNAME:EDT
DTSTART:20250309T070000
END:DAYLIGHT
BEGIN:STANDARD
TZOFFSETFROM:-0400
TZOFFSETTO:-0500
TZNAME:EST
DTSTART:20251102T060000
END:STANDARD
BEGIN:DAYLIGHT
TZOFFSETFROM:-0500
TZOFFSETTO:-0400
TZNAME:EDT
DTSTART:20260308T070000
END:DAYLIGHT
BEGIN:STANDARD
TZOFFSETFROM:-0400
TZOFFSETTO:-0500
TZNAME:EST
DTSTART:20261101T060000
END:STANDARD
BEGIN:DAYLIGHT
TZOFFSETFROM:-0500
TZOFFSETTO:-0400
TZNAME:EDT
DTSTART:20270314T070000
END:DAYLIGHT
BEGIN:STANDARD
TZOFFSETFROM:-0400
TZOFFSETTO:-0500
TZNAME:EST
DTSTART:20271107T060000
END:STANDARD
END:VTIMEZONE
BEGIN:VEVENT
DTSTART;TZID=America/New_York:20260331T193000
DTEND;TZID=America/New_York:20260331T210000
DTSTAMP:20260424T085812
CREATED:20251208T204340Z
LAST-MODIFIED:20260107T182518Z
UID:10000781-1774985400-1774990800@laotraorilla.net
SUMMARY:Adults Flamenco - Advanced Level - tarantos | Winter 2026
DESCRIPTION:with Myriam Allard
URL:https://laotraorilla.net/en/activite/adults-flamenco-advanced-level-tarantos-winter-2026/2026-03-31/
LOCATION:Studio La Lola\, 137\, Saint-Ferdinand – suite 227\, Montreal\, Québec\, H4C 2S6\, Canada
CATEGORIES:Adults Flamenco
ATTACH;FMTTYPE=image/jpeg:https://laotraorilla.net/wp-content/uploads/2025/09/Vignette_Cours_Adultes-1200.jpg
ORGANIZER;CN="La Otra Orilla":MAILTO:info@laotraorilla.net
END:VEVENT
BEGIN:VEVENT
DTSTART;TZID=America/New_York:20260331T180000
DTEND;TZID=America/New_York:20260331T191500
DTSTAMP:20260424T085812
CREATED:20251208T202109Z
LAST-MODIFIED:20251208T203155Z
UID:10000749-1774980000-1774984500@laotraorilla.net
SUMMARY:Adults Flamenco - Intermediate Level - bulerías | Winter 2026
DESCRIPTION:with Myriam Allard
URL:https://laotraorilla.net/en/activite/adults-flamenco-intermediate-bulerias-winter-2026/2026-03-31/
LOCATION:Studio La Lola\, 137\, Saint-Ferdinand – suite 227\, Montreal\, Québec\, H4C 2S6\, Canada
CATEGORIES:Adults Flamenco
ATTACH;FMTTYPE=image/jpeg:https://laotraorilla.net/wp-content/uploads/2025/09/Vignette_Cours_Adultes-1200.jpg
ORGANIZER;CN="La Otra Orilla":MAILTO:info@laotraorilla.net
END:VEVENT
BEGIN:VEVENT
DTSTART;TZID=America/New_York:20260328T121500
DTEND;TZID=America/New_York:20260328T133000
DTSTAMP:20260424T085812
CREATED:20251208T210014Z
LAST-MODIFIED:20251208T210303Z
UID:10000811-1774700100-1774704600@laotraorilla.net
SUMMARY:Adults Flamenco - castanets - seguiriya | Winter 2026
DESCRIPTION:with Timmy González
URL:https://laotraorilla.net/en/activite/adults-flamenco-castanets-seguiriya-winter-2026/2026-03-28/
LOCATION:Studio La Lola\, 137\, Saint-Ferdinand – suite 227\, Montreal\, Québec\, H4C 2S6\, Canada
CATEGORIES:Adults Flamenco
ATTACH;FMTTYPE=image/jpeg:https://laotraorilla.net/wp-content/uploads/2025/09/Vignette_Cours_Adultes-1200.jpg
ORGANIZER;CN="La Otra Orilla":MAILTO:info@laotraorilla.net
END:VEVENT
BEGIN:VEVENT
DTSTART;TZID=America/New_York:20260328T110000
DTEND;TZID=America/New_York:20260328T120000
DTSTAMP:20260424T085812
CREATED:20251208T211639Z
LAST-MODIFIED:20251208T212805Z
UID:10000859-1774695600-1774699200@laotraorilla.net
SUMMARY:Children flamenco - EL TACONEO - Ages 7 to 11 - sevillanas | Winter 2026
DESCRIPTION:with Timmy González
URL:https://laotraorilla.net/en/activite/children-flamenco-el-taconeo-ages-7-to-11-sevillanas-winter-2026/2026-03-28/
LOCATION:Studio La Lola\, 137\, Saint-Ferdinand – suite 227\, Montreal\, Québec\, H4C 2S6\, Canada
CATEGORIES:Children Flamenco
ATTACH;FMTTYPE=image/jpeg:https://laotraorilla.net/wp-content/uploads/2025/09/Vignette_Cours_Enfants-1200.jpg
ORGANIZER;CN="La Otra Orilla":MAILTO:info@laotraorilla.net
END:VEVENT
BEGIN:VEVENT
DTSTART;TZID=America/New_York:20260328T100000
DTEND;TZID=America/New_York:20260328T104500
DTSTAMP:20260424T085812
CREATED:20251208T211334Z
LAST-MODIFIED:20251208T212317Z
UID:10000875-1774692000-1774694700@laotraorilla.net
SUMMARY:Children Flamenco - EL RECREO - Ages 4 to 6 - alegrías | Winter 2026
DESCRIPTION:with Timmy González
URL:https://laotraorilla.net/en/activite/children-flamenco-el-recreo-ages-4-to-6-alegrias-winter-2026/2026-03-28/
LOCATION:Studio La Lola\, 137\, Saint-Ferdinand – suite 227\, Montreal\, Québec\, H4C 2S6\, Canada
CATEGORIES:Children Flamenco
ATTACH;FMTTYPE=image/jpeg:https://laotraorilla.net/wp-content/uploads/2025/09/Vignette_Cours_Enfants-1200.jpg
ORGANIZER;CN="La Otra Orilla":MAILTO:info@laotraorilla.net
END:VEVENT
BEGIN:VEVENT
DTSTART;TZID=America/New_York:20260328T000000
DTEND;TZID=America/New_York:20260329T235900
DTSTAMP:20260424T085812
CREATED:20260319T233732Z
LAST-MODIFIED:20260322T215311Z
UID:10001021-1774656000-1774828740@laotraorilla.net
SUMMARY:Festival Accès Danse 2026
DESCRIPTION:As part of the Festival Accès Danse organized by the Quebec Association of Dance Teachers (AQÉDÉ)\, Myriam Allard will lead two flamenco workshops. Discover a unique kinesthetic approach combining grounding\, verticality\, body percussion and improvisation.
URL:https://laotraorilla.net/en/activite/festival-acces-danse/
LOCATION:Collège Jean-Eudes\, Montréal\, Canada
CATEGORIES:Intensive Workshops
ATTACH;FMTTYPE=image/jpeg:https://laotraorilla.net/wp-content/uploads/2026/02/Myriam_MAL_750-x-750-px-1.jpg
END:VEVENT
BEGIN:VEVENT
DTSTART;TZID=America/New_York:20260325T193000
DTEND;TZID=America/New_York:20260325T204500
DTSTAMP:20260424T085812
CREATED:20251126T160342Z
LAST-MODIFIED:20251208T204954Z
UID:10000716-1774467000-1774471500@laotraorilla.net
SUMMARY:Adults Flamenco - Beginners/intermediate – guajira | Winter 2026
DESCRIPTION:With Sandra Matos
URL:https://laotraorilla.net/en/activite/adults-flamenco-beginners-intermediate-guajira-con-abanico-winter-2026/2026-03-25/
LOCATION:Studio La Lola\, 137\, Saint-Ferdinand – suite 227\, Montreal\, Québec\, H4C 2S6\, Canada
CATEGORIES:Adults Flamenco
ATTACH;FMTTYPE=image/jpeg:https://laotraorilla.net/wp-content/uploads/2025/09/Vignette_Cours_Adultes-1200.jpg
ORGANIZER;CN="La Otra Orilla":MAILTO:info@laotraorilla.net
END:VEVENT
BEGIN:VEVENT
DTSTART;TZID=America/New_York:20260325T180000
DTEND;TZID=America/New_York:20260325T191500
DTSTAMP:20260424T085812
CREATED:20251111T215759Z
LAST-MODIFIED:20251120T181111Z
UID:10000541-1774461600-1774466100@laotraorilla.net
SUMMARY:Adults Flamenco - Beginner Level – tangos | Winter 2026
DESCRIPTION:With Sandra Matos
URL:https://laotraorilla.net/en/activite/adults-flamenco-beginner-level-tangos-winter-2026/2026-03-25/
LOCATION:Studio La Lola\, 137\, Saint-Ferdinand – suite 227\, Montreal\, Québec\, H4C 2S6\, Canada
CATEGORIES:Adults Flamenco
ATTACH;FMTTYPE=image/jpeg:https://laotraorilla.net/wp-content/uploads/2025/09/Vignette_Cours_Adultes-1200.jpg
ORGANIZER;CN="La Otra Orilla":MAILTO:info@laotraorilla.net
END:VEVENT
BEGIN:VEVENT
DTSTART;TZID=America/New_York:20260324T193000
DTEND;TZID=America/New_York:20260324T210000
DTSTAMP:20260424T085812
CREATED:20251208T204340Z
LAST-MODIFIED:20260107T182518Z
UID:10000780-1774380600-1774386000@laotraorilla.net
SUMMARY:Adults Flamenco - Advanced Level - tarantos | Winter 2026
DESCRIPTION:with Myriam Allard
URL:https://laotraorilla.net/en/activite/adults-flamenco-advanced-level-tarantos-winter-2026/2026-03-24/
LOCATION:Studio La Lola\, 137\, Saint-Ferdinand – suite 227\, Montreal\, Québec\, H4C 2S6\, Canada
CATEGORIES:Adults Flamenco
ATTACH;FMTTYPE=image/jpeg:https://laotraorilla.net/wp-content/uploads/2025/09/Vignette_Cours_Adultes-1200.jpg
ORGANIZER;CN="La Otra Orilla":MAILTO:info@laotraorilla.net
END:VEVENT
BEGIN:VEVENT
DTSTART;TZID=America/New_York:20260324T180000
DTEND;TZID=America/New_York:20260324T191500
DTSTAMP:20260424T085812
CREATED:20251208T202109Z
LAST-MODIFIED:20251208T203155Z
UID:10000748-1774375200-1774379700@laotraorilla.net
SUMMARY:Adults Flamenco - Intermediate Level - bulerías | Winter 2026
DESCRIPTION:with Myriam Allard
URL:https://laotraorilla.net/en/activite/adults-flamenco-intermediate-bulerias-winter-2026/2026-03-24/
LOCATION:Studio La Lola\, 137\, Saint-Ferdinand – suite 227\, Montreal\, Québec\, H4C 2S6\, Canada
CATEGORIES:Adults Flamenco
ATTACH;FMTTYPE=image/jpeg:https://laotraorilla.net/wp-content/uploads/2025/09/Vignette_Cours_Adultes-1200.jpg
ORGANIZER;CN="La Otra Orilla":MAILTO:info@laotraorilla.net
END:VEVENT
BEGIN:VEVENT
DTSTART;TZID=America/New_York:20260321T140000
DTEND;TZID=America/New_York:20260321T160000
DTSTAMP:20260424T085812
CREATED:20251211T000028Z
LAST-MODIFIED:20251211T000602Z
UID:10000943-1774101600-1774108800@laotraorilla.net
SUMMARY:Adults Flamenco - Bata de cola - technique | Winter 2026
DESCRIPTION:with Myriam Allard
URL:https://laotraorilla.net/en/activite/adults-flamenco-bata-de-cola-technique-winter-2026/2026-03-21/
LOCATION:Studio La Lola\, 137\, Saint-Ferdinand – suite 227\, Montreal\, Québec\, H4C 2S6\, Canada
CATEGORIES:Adults Flamenco
ATTACH;FMTTYPE=image/jpeg:https://laotraorilla.net/wp-content/uploads/2025/09/Vignette_Cours_Adultes-1200.jpg
ORGANIZER;CN="La Otra Orilla":MAILTO:info@laotraorilla.net
END:VEVENT
BEGIN:VEVENT
DTSTART;TZID=America/New_York:20260321T121500
DTEND;TZID=America/New_York:20260321T133000
DTSTAMP:20260424T085812
CREATED:20251208T210014Z
LAST-MODIFIED:20251208T210303Z
UID:10000810-1774095300-1774099800@laotraorilla.net
SUMMARY:Adults Flamenco - castanets - seguiriya | Winter 2026
DESCRIPTION:with Timmy González
URL:https://laotraorilla.net/en/activite/adults-flamenco-castanets-seguiriya-winter-2026/2026-03-21/
LOCATION:Studio La Lola\, 137\, Saint-Ferdinand – suite 227\, Montreal\, Québec\, H4C 2S6\, Canada
CATEGORIES:Adults Flamenco
ATTACH;FMTTYPE=image/jpeg:https://laotraorilla.net/wp-content/uploads/2025/09/Vignette_Cours_Adultes-1200.jpg
ORGANIZER;CN="La Otra Orilla":MAILTO:info@laotraorilla.net
END:VEVENT
BEGIN:VEVENT
DTSTART;TZID=America/New_York:20260321T110000
DTEND;TZID=America/New_York:20260321T120000
DTSTAMP:20260424T085812
CREATED:20251208T211639Z
LAST-MODIFIED:20251208T212805Z
UID:10000858-1774090800-1774094400@laotraorilla.net
SUMMARY:Children flamenco - EL TACONEO - Ages 7 to 11 - sevillanas | Winter 2026
DESCRIPTION:with Timmy González
URL:https://laotraorilla.net/en/activite/children-flamenco-el-taconeo-ages-7-to-11-sevillanas-winter-2026/2026-03-21/
LOCATION:Studio La Lola\, 137\, Saint-Ferdinand – suite 227\, Montreal\, Québec\, H4C 2S6\, Canada
CATEGORIES:Children Flamenco
ATTACH;FMTTYPE=image/jpeg:https://laotraorilla.net/wp-content/uploads/2025/09/Vignette_Cours_Enfants-1200.jpg
ORGANIZER;CN="La Otra Orilla":MAILTO:info@laotraorilla.net
END:VEVENT
BEGIN:VEVENT
DTSTART;TZID=America/New_York:20260321T100000
DTEND;TZID=America/New_York:20260321T104500
DTSTAMP:20260424T085813
CREATED:20251208T211334Z
LAST-MODIFIED:20251208T212317Z
UID:10000874-1774087200-1774089900@laotraorilla.net
SUMMARY:Children Flamenco - EL RECREO - Ages 4 to 6 - alegrías | Winter 2026
DESCRIPTION:with Timmy González
URL:https://laotraorilla.net/en/activite/children-flamenco-el-recreo-ages-4-to-6-alegrias-winter-2026/2026-03-21/
LOCATION:Studio La Lola\, 137\, Saint-Ferdinand – suite 227\, Montreal\, Québec\, H4C 2S6\, Canada
CATEGORIES:Children Flamenco
ATTACH;FMTTYPE=image/jpeg:https://laotraorilla.net/wp-content/uploads/2025/09/Vignette_Cours_Enfants-1200.jpg
ORGANIZER;CN="La Otra Orilla":MAILTO:info@laotraorilla.net
END:VEVENT
BEGIN:VEVENT
DTSTART;TZID=America/New_York:20260318T193000
DTEND;TZID=America/New_York:20260318T204500
DTSTAMP:20260424T085813
CREATED:20251126T160342Z
LAST-MODIFIED:20251208T204954Z
UID:10000715-1773862200-1773866700@laotraorilla.net
SUMMARY:Adults Flamenco - Beginners/intermediate – guajira | Winter 2026
DESCRIPTION:With Sandra Matos
URL:https://laotraorilla.net/en/activite/adults-flamenco-beginners-intermediate-guajira-con-abanico-winter-2026/2026-03-18/
LOCATION:Studio La Lola\, 137\, Saint-Ferdinand – suite 227\, Montreal\, Québec\, H4C 2S6\, Canada
CATEGORIES:Adults Flamenco
ATTACH;FMTTYPE=image/jpeg:https://laotraorilla.net/wp-content/uploads/2025/09/Vignette_Cours_Adultes-1200.jpg
ORGANIZER;CN="La Otra Orilla":MAILTO:info@laotraorilla.net
END:VEVENT
BEGIN:VEVENT
DTSTART;TZID=America/New_York:20260318T180000
DTEND;TZID=America/New_York:20260318T191500
DTSTAMP:20260424T085813
CREATED:20251111T215759Z
LAST-MODIFIED:20251120T181111Z
UID:10000540-1773856800-1773861300@laotraorilla.net
SUMMARY:Adults Flamenco - Beginner Level – tangos | Winter 2026
DESCRIPTION:With Sandra Matos
URL:https://laotraorilla.net/en/activite/adults-flamenco-beginner-level-tangos-winter-2026/2026-03-18/
LOCATION:Studio La Lola\, 137\, Saint-Ferdinand – suite 227\, Montreal\, Québec\, H4C 2S6\, Canada
CATEGORIES:Adults Flamenco
ATTACH;FMTTYPE=image/jpeg:https://laotraorilla.net/wp-content/uploads/2025/09/Vignette_Cours_Adultes-1200.jpg
ORGANIZER;CN="La Otra Orilla":MAILTO:info@laotraorilla.net
END:VEVENT
BEGIN:VEVENT
DTSTART;TZID=America/New_York:20260317T193000
DTEND;TZID=America/New_York:20260317T210000
DTSTAMP:20260424T085813
CREATED:20251208T204340Z
LAST-MODIFIED:20260107T182518Z
UID:10000779-1773775800-1773781200@laotraorilla.net
SUMMARY:Adults Flamenco - Advanced Level - tarantos | Winter 2026
DESCRIPTION:with Myriam Allard
URL:https://laotraorilla.net/en/activite/adults-flamenco-advanced-level-tarantos-winter-2026/2026-03-17/
LOCATION:Studio La Lola\, 137\, Saint-Ferdinand – suite 227\, Montreal\, Québec\, H4C 2S6\, Canada
CATEGORIES:Adults Flamenco
ATTACH;FMTTYPE=image/jpeg:https://laotraorilla.net/wp-content/uploads/2025/09/Vignette_Cours_Adultes-1200.jpg
ORGANIZER;CN="La Otra Orilla":MAILTO:info@laotraorilla.net
END:VEVENT
BEGIN:VEVENT
DTSTART;TZID=America/New_York:20260317T180000
DTEND;TZID=America/New_York:20260317T191500
DTSTAMP:20260424T085813
CREATED:20251208T202109Z
LAST-MODIFIED:20251208T203155Z
UID:10000747-1773770400-1773774900@laotraorilla.net
SUMMARY:Adults Flamenco - Intermediate Level - bulerías | Winter 2026
DESCRIPTION:with Myriam Allard
URL:https://laotraorilla.net/en/activite/adults-flamenco-intermediate-bulerias-winter-2026/2026-03-17/
LOCATION:Studio La Lola\, 137\, Saint-Ferdinand – suite 227\, Montreal\, Québec\, H4C 2S6\, Canada
CATEGORIES:Adults Flamenco
ATTACH;FMTTYPE=image/jpeg:https://laotraorilla.net/wp-content/uploads/2025/09/Vignette_Cours_Adultes-1200.jpg
ORGANIZER;CN="La Otra Orilla":MAILTO:info@laotraorilla.net
END:VEVENT
BEGIN:VEVENT
DTSTART;TZID=America/New_York:20260314T121500
DTEND;TZID=America/New_York:20260314T133000
DTSTAMP:20260424T085813
CREATED:20251208T210014Z
LAST-MODIFIED:20251208T210303Z
UID:10000809-1773490500-1773495000@laotraorilla.net
SUMMARY:Adults Flamenco - castanets - seguiriya | Winter 2026
DESCRIPTION:with Timmy González
URL:https://laotraorilla.net/en/activite/adults-flamenco-castanets-seguiriya-winter-2026/2026-03-14/
LOCATION:Studio La Lola\, 137\, Saint-Ferdinand – suite 227\, Montreal\, Québec\, H4C 2S6\, Canada
CATEGORIES:Adults Flamenco
ATTACH;FMTTYPE=image/jpeg:https://laotraorilla.net/wp-content/uploads/2025/09/Vignette_Cours_Adultes-1200.jpg
ORGANIZER;CN="La Otra Orilla":MAILTO:info@laotraorilla.net
END:VEVENT
BEGIN:VEVENT
DTSTART;TZID=America/New_York:20260314T110000
DTEND;TZID=America/New_York:20260314T120000
DTSTAMP:20260424T085813
CREATED:20251208T211639Z
LAST-MODIFIED:20251208T212805Z
UID:10000857-1773486000-1773489600@laotraorilla.net
SUMMARY:Children flamenco - EL TACONEO - Ages 7 to 11 - sevillanas | Winter 2026
DESCRIPTION:with Timmy González
URL:https://laotraorilla.net/en/activite/children-flamenco-el-taconeo-ages-7-to-11-sevillanas-winter-2026/2026-03-14/
LOCATION:Studio La Lola\, 137\, Saint-Ferdinand – suite 227\, Montreal\, Québec\, H4C 2S6\, Canada
CATEGORIES:Children Flamenco
ATTACH;FMTTYPE=image/jpeg:https://laotraorilla.net/wp-content/uploads/2025/09/Vignette_Cours_Enfants-1200.jpg
ORGANIZER;CN="La Otra Orilla":MAILTO:info@laotraorilla.net
END:VEVENT
BEGIN:VEVENT
DTSTART;TZID=America/New_York:20260314T100000
DTEND;TZID=America/New_York:20260314T104500
DTSTAMP:20260424T085813
CREATED:20251208T211334Z
LAST-MODIFIED:20251208T212317Z
UID:10000873-1773482400-1773485100@laotraorilla.net
SUMMARY:Children Flamenco - EL RECREO - Ages 4 to 6 - alegrías | Winter 2026
DESCRIPTION:with Timmy González
URL:https://laotraorilla.net/en/activite/children-flamenco-el-recreo-ages-4-to-6-alegrias-winter-2026/2026-03-14/
LOCATION:Studio La Lola\, 137\, Saint-Ferdinand – suite 227\, Montreal\, Québec\, H4C 2S6\, Canada
CATEGORIES:Children Flamenco
ATTACH;FMTTYPE=image/jpeg:https://laotraorilla.net/wp-content/uploads/2025/09/Vignette_Cours_Enfants-1200.jpg
ORGANIZER;CN="La Otra Orilla":MAILTO:info@laotraorilla.net
END:VEVENT
BEGIN:VEVENT
DTSTART;TZID=America/New_York:20260313T190000
DTEND;TZID=America/New_York:20260313T210000
DTSTAMP:20260424T085813
CREATED:20251211T001346Z
LAST-MODIFIED:20260401T150804Z
UID:10001005-1773428400-1773435600@laotraorilla.net
SUMMARY:Adults flamenco - Workshops  - Sevillanas Practice | Hiver 2026
DESCRIPTION:with Timmy González or Sandra Matos \n  \nRegistration
URL:https://laotraorilla.net/en/activite/adults-flamenco-workshops-sevillanas-practice-hiver-2026/2026-03-13/
LOCATION:Studio La Lola\, 137\, Saint-Ferdinand – suite 227\, Montreal\, Québec\, H4C 2S6\, Canada
CATEGORIES:Adults Flamenco
ATTACH;FMTTYPE=image/jpeg:https://laotraorilla.net/wp-content/uploads/2026/04/Sevillanas_atelier.jpg
ORGANIZER;CN="La Otra Orilla":MAILTO:info@laotraorilla.net
END:VEVENT
BEGIN:VEVENT
DTSTART;TZID=America/New_York:20260311T193000
DTEND;TZID=America/New_York:20260311T204500
DTSTAMP:20260424T085813
CREATED:20251126T160342Z
LAST-MODIFIED:20251208T204954Z
UID:10000714-1773257400-1773261900@laotraorilla.net
SUMMARY:Adults Flamenco - Beginners/intermediate – guajira | Winter 2026
DESCRIPTION:With Sandra Matos
URL:https://laotraorilla.net/en/activite/adults-flamenco-beginners-intermediate-guajira-con-abanico-winter-2026/2026-03-11/
LOCATION:Studio La Lola\, 137\, Saint-Ferdinand – suite 227\, Montreal\, Québec\, H4C 2S6\, Canada
CATEGORIES:Adults Flamenco
ATTACH;FMTTYPE=image/jpeg:https://laotraorilla.net/wp-content/uploads/2025/09/Vignette_Cours_Adultes-1200.jpg
ORGANIZER;CN="La Otra Orilla":MAILTO:info@laotraorilla.net
END:VEVENT
BEGIN:VEVENT
DTSTART;TZID=America/New_York:20260311T180000
DTEND;TZID=America/New_York:20260311T191500
DTSTAMP:20260424T085813
CREATED:20251111T215759Z
LAST-MODIFIED:20251120T181111Z
UID:10000539-1773252000-1773256500@laotraorilla.net
SUMMARY:Adults Flamenco - Beginner Level – tangos | Winter 2026
DESCRIPTION:With Sandra Matos
URL:https://laotraorilla.net/en/activite/adults-flamenco-beginner-level-tangos-winter-2026/2026-03-11/
LOCATION:Studio La Lola\, 137\, Saint-Ferdinand – suite 227\, Montreal\, Québec\, H4C 2S6\, Canada
CATEGORIES:Adults Flamenco
ATTACH;FMTTYPE=image/jpeg:https://laotraorilla.net/wp-content/uploads/2025/09/Vignette_Cours_Adultes-1200.jpg
ORGANIZER;CN="La Otra Orilla":MAILTO:info@laotraorilla.net
END:VEVENT
BEGIN:VEVENT
DTSTART;TZID=America/New_York:20260310T193000
DTEND;TZID=America/New_York:20260310T210000
DTSTAMP:20260424T085813
CREATED:20251208T204340Z
LAST-MODIFIED:20260107T182518Z
UID:10000778-1773171000-1773176400@laotraorilla.net
SUMMARY:Adults Flamenco - Advanced Level - tarantos | Winter 2026
DESCRIPTION:with Myriam Allard
URL:https://laotraorilla.net/en/activite/adults-flamenco-advanced-level-tarantos-winter-2026/2026-03-10/
LOCATION:Studio La Lola\, 137\, Saint-Ferdinand – suite 227\, Montreal\, Québec\, H4C 2S6\, Canada
CATEGORIES:Adults Flamenco
ATTACH;FMTTYPE=image/jpeg:https://laotraorilla.net/wp-content/uploads/2025/09/Vignette_Cours_Adultes-1200.jpg
ORGANIZER;CN="La Otra Orilla":MAILTO:info@laotraorilla.net
END:VEVENT
BEGIN:VEVENT
DTSTART;TZID=America/New_York:20260310T180000
DTEND;TZID=America/New_York:20260310T191500
DTSTAMP:20260424T085813
CREATED:20251208T202109Z
LAST-MODIFIED:20251208T203155Z
UID:10000746-1773165600-1773170100@laotraorilla.net
SUMMARY:Adults Flamenco - Intermediate Level - bulerías | Winter 2026
DESCRIPTION:with Myriam Allard
URL:https://laotraorilla.net/en/activite/adults-flamenco-intermediate-bulerias-winter-2026/2026-03-10/
LOCATION:Studio La Lola\, 137\, Saint-Ferdinand – suite 227\, Montreal\, Québec\, H4C 2S6\, Canada
CATEGORIES:Adults Flamenco
ATTACH;FMTTYPE=image/jpeg:https://laotraorilla.net/wp-content/uploads/2025/09/Vignette_Cours_Adultes-1200.jpg
ORGANIZER;CN="La Otra Orilla":MAILTO:info@laotraorilla.net
END:VEVENT
BEGIN:VEVENT
DTSTART;TZID=America/New_York:20260307T140000
DTEND;TZID=America/New_York:20260307T160000
DTSTAMP:20260424T085813
CREATED:20251211T000028Z
LAST-MODIFIED:20251211T000602Z
UID:10000942-1772892000-1772899200@laotraorilla.net
SUMMARY:Adults Flamenco - Bata de cola - technique | Winter 2026
DESCRIPTION:with Myriam Allard
URL:https://laotraorilla.net/en/activite/adults-flamenco-bata-de-cola-technique-winter-2026/2026-03-07/
LOCATION:Studio La Lola\, 137\, Saint-Ferdinand – suite 227\, Montreal\, Québec\, H4C 2S6\, Canada
CATEGORIES:Adults Flamenco
ATTACH;FMTTYPE=image/jpeg:https://laotraorilla.net/wp-content/uploads/2025/09/Vignette_Cours_Adultes-1200.jpg
ORGANIZER;CN="La Otra Orilla":MAILTO:info@laotraorilla.net
END:VEVENT
BEGIN:VEVENT
DTSTART;TZID=America/New_York:20260228T121500
DTEND;TZID=America/New_York:20260228T133000
DTSTAMP:20260424T085813
CREATED:20251208T210014Z
LAST-MODIFIED:20251208T210303Z
UID:10000808-1772280900-1772285400@laotraorilla.net
SUMMARY:Adults Flamenco - castanets - seguiriya | Winter 2026
DESCRIPTION:with Timmy González
URL:https://laotraorilla.net/en/activite/adults-flamenco-castanets-seguiriya-winter-2026/2026-02-28/
LOCATION:Studio La Lola\, 137\, Saint-Ferdinand – suite 227\, Montreal\, Québec\, H4C 2S6\, Canada
CATEGORIES:Adults Flamenco
ATTACH;FMTTYPE=image/jpeg:https://laotraorilla.net/wp-content/uploads/2025/09/Vignette_Cours_Adultes-1200.jpg
ORGANIZER;CN="La Otra Orilla":MAILTO:info@laotraorilla.net
END:VEVENT
BEGIN:VEVENT
DTSTART;TZID=America/New_York:20260228T110000
DTEND;TZID=America/New_York:20260228T120000
DTSTAMP:20260424T085813
CREATED:20251208T211639Z
LAST-MODIFIED:20251208T212805Z
UID:10000856-1772276400-1772280000@laotraorilla.net
SUMMARY:Children flamenco - EL TACONEO - Ages 7 to 11 - sevillanas | Winter 2026
DESCRIPTION:with Timmy González
URL:https://laotraorilla.net/en/activite/children-flamenco-el-taconeo-ages-7-to-11-sevillanas-winter-2026/2026-02-28/
LOCATION:Studio La Lola\, 137\, Saint-Ferdinand – suite 227\, Montreal\, Québec\, H4C 2S6\, Canada
CATEGORIES:Children Flamenco
ATTACH;FMTTYPE=image/jpeg:https://laotraorilla.net/wp-content/uploads/2025/09/Vignette_Cours_Enfants-1200.jpg
ORGANIZER;CN="La Otra Orilla":MAILTO:info@laotraorilla.net
END:VEVENT
BEGIN:VEVENT
DTSTART;TZID=America/New_York:20260228T100000
DTEND;TZID=America/New_York:20260228T104500
DTSTAMP:20260424T085813
CREATED:20251208T211334Z
LAST-MODIFIED:20251208T212317Z
UID:10000872-1772272800-1772275500@laotraorilla.net
SUMMARY:Children Flamenco - EL RECREO - Ages 4 to 6 - alegrías | Winter 2026
DESCRIPTION:with Timmy González
URL:https://laotraorilla.net/en/activite/children-flamenco-el-recreo-ages-4-to-6-alegrias-winter-2026/2026-02-28/
LOCATION:Studio La Lola\, 137\, Saint-Ferdinand – suite 227\, Montreal\, Québec\, H4C 2S6\, Canada
CATEGORIES:Children Flamenco
ATTACH;FMTTYPE=image/jpeg:https://laotraorilla.net/wp-content/uploads/2025/09/Vignette_Cours_Enfants-1200.jpg
ORGANIZER;CN="La Otra Orilla":MAILTO:info@laotraorilla.net
END:VEVENT
END:VCALENDAR