BEGIN:VCALENDAR
VERSION:2.0
PRODID:-//La Otra Orilla - ECPv6.15.17//NONSGML v1.0//EN
CALSCALE:GREGORIAN
METHOD:PUBLISH
X-ORIGINAL-URL:https://laotraorilla.net/en/
X-WR-CALDESC:Events for La Otra Orilla
REFRESH-INTERVAL;VALUE=DURATION:PT1H
X-Robots-Tag:noindex
X-PUBLISHED-TTL:PT1H
BEGIN:VTIMEZONE
TZID:America/New_York
BEGIN:DAYLIGHT
TZOFFSETFROM:-0500
TZOFFSETTO:-0400
TZNAME:EDT
DTSTART:20250309T070000
END:DAYLIGHT
BEGIN:STANDARD
TZOFFSETFROM:-0400
TZOFFSETTO:-0500
TZNAME:EST
DTSTART:20251102T060000
END:STANDARD
BEGIN:DAYLIGHT
TZOFFSETFROM:-0500
TZOFFSETTO:-0400
TZNAME:EDT
DTSTART:20260308T070000
END:DAYLIGHT
BEGIN:STANDARD
TZOFFSETFROM:-0400
TZOFFSETTO:-0500
TZNAME:EST
DTSTART:20261101T060000
END:STANDARD
BEGIN:DAYLIGHT
TZOFFSETFROM:-0500
TZOFFSETTO:-0400
TZNAME:EDT
DTSTART:20270314T070000
END:DAYLIGHT
BEGIN:STANDARD
TZOFFSETFROM:-0400
TZOFFSETTO:-0500
TZNAME:EST
DTSTART:20271107T060000
END:STANDARD
END:VTIMEZONE
BEGIN:VTIMEZONE
TZID:UTC
BEGIN:STANDARD
TZOFFSETFROM:+0000
TZOFFSETTO:+0000
TZNAME:UTC
DTSTART:20250101T000000
END:STANDARD
END:VTIMEZONE
BEGIN:VEVENT
DTSTART;TZID=America/New_York:20260422T193000
DTEND;TZID=America/New_York:20260422T204500
DTSTAMP:20260424T085749
CREATED:20251126T160342Z
LAST-MODIFIED:20251208T204954Z
UID:10000720-1776886200-1776890700@laotraorilla.net
SUMMARY:Adults Flamenco - Beginners/intermediate – guajira | Winter 2026
DESCRIPTION:With Sandra Matos
URL:https://laotraorilla.net/en/activite/adults-flamenco-beginners-intermediate-guajira-con-abanico-winter-2026/2026-04-22/
LOCATION:Studio La Lola\, 137\, Saint-Ferdinand – suite 227\, Montreal\, Québec\, H4C 2S6\, Canada
CATEGORIES:Adults Flamenco
ATTACH;FMTTYPE=image/jpeg:https://laotraorilla.net/wp-content/uploads/2025/09/Vignette_Cours_Adultes-1200.jpg
ORGANIZER;CN="La Otra Orilla":MAILTO:info@laotraorilla.net
END:VEVENT
BEGIN:VEVENT
DTSTART;TZID=America/New_York:20260422T180000
DTEND;TZID=America/New_York:20260422T191500
DTSTAMP:20260424T085749
CREATED:20251111T215759Z
LAST-MODIFIED:20251120T181111Z
UID:10000545-1776880800-1776885300@laotraorilla.net
SUMMARY:Adults Flamenco - Beginner Level – tangos | Winter 2026
DESCRIPTION:With Sandra Matos
URL:https://laotraorilla.net/en/activite/adults-flamenco-beginner-level-tangos-winter-2026/2026-04-22/
LOCATION:Studio La Lola\, 137\, Saint-Ferdinand – suite 227\, Montreal\, Québec\, H4C 2S6\, Canada
CATEGORIES:Adults Flamenco
ATTACH;FMTTYPE=image/jpeg:https://laotraorilla.net/wp-content/uploads/2025/09/Vignette_Cours_Adultes-1200.jpg
ORGANIZER;CN="La Otra Orilla":MAILTO:info@laotraorilla.net
END:VEVENT
BEGIN:VEVENT
DTSTART;TZID=America/New_York:20260421T193000
DTEND;TZID=America/New_York:20260421T210000
DTSTAMP:20260424T085749
CREATED:20251208T204340Z
LAST-MODIFIED:20260107T182518Z
UID:10000784-1776799800-1776805200@laotraorilla.net
SUMMARY:Adults Flamenco - Advanced Level - tarantos | Winter 2026
DESCRIPTION:with Myriam Allard
URL:https://laotraorilla.net/en/activite/adults-flamenco-advanced-level-tarantos-winter-2026/2026-04-21/
LOCATION:Studio La Lola\, 137\, Saint-Ferdinand – suite 227\, Montreal\, Québec\, H4C 2S6\, Canada
CATEGORIES:Adults Flamenco
ATTACH;FMTTYPE=image/jpeg:https://laotraorilla.net/wp-content/uploads/2025/09/Vignette_Cours_Adultes-1200.jpg
ORGANIZER;CN="La Otra Orilla":MAILTO:info@laotraorilla.net
END:VEVENT
BEGIN:VEVENT
DTSTART;TZID=America/New_York:20260421T180000
DTEND;TZID=America/New_York:20260421T191500
DTSTAMP:20260424T085749
CREATED:20251208T202109Z
LAST-MODIFIED:20251208T203155Z
UID:10000752-1776794400-1776798900@laotraorilla.net
SUMMARY:Adults Flamenco - Intermediate Level - bulerías | Winter 2026
DESCRIPTION:with Myriam Allard
URL:https://laotraorilla.net/en/activite/adults-flamenco-intermediate-bulerias-winter-2026/2026-04-21/
LOCATION:Studio La Lola\, 137\, Saint-Ferdinand – suite 227\, Montreal\, Québec\, H4C 2S6\, Canada
CATEGORIES:Adults Flamenco
ATTACH;FMTTYPE=image/jpeg:https://laotraorilla.net/wp-content/uploads/2025/09/Vignette_Cours_Adultes-1200.jpg
ORGANIZER;CN="La Otra Orilla":MAILTO:info@laotraorilla.net
END:VEVENT
BEGIN:VEVENT
DTSTART;TZID=America/New_York:20260418T121500
DTEND;TZID=America/New_York:20260418T133000
DTSTAMP:20260424T085749
CREATED:20251208T210014Z
LAST-MODIFIED:20251208T210303Z
UID:10000814-1776514500-1776519000@laotraorilla.net
SUMMARY:Adults Flamenco - castanets - seguiriya | Winter 2026
DESCRIPTION:with Timmy González
URL:https://laotraorilla.net/en/activite/adults-flamenco-castanets-seguiriya-winter-2026/2026-04-18/
LOCATION:Studio La Lola\, 137\, Saint-Ferdinand – suite 227\, Montreal\, Québec\, H4C 2S6\, Canada
CATEGORIES:Adults Flamenco
ATTACH;FMTTYPE=image/jpeg:https://laotraorilla.net/wp-content/uploads/2025/09/Vignette_Cours_Adultes-1200.jpg
ORGANIZER;CN="La Otra Orilla":MAILTO:info@laotraorilla.net
END:VEVENT
BEGIN:VEVENT
DTSTART;TZID=America/New_York:20260418T110000
DTEND;TZID=America/New_York:20260418T120000
DTSTAMP:20260424T085749
CREATED:20251208T211639Z
LAST-MODIFIED:20251208T212805Z
UID:10000862-1776510000-1776513600@laotraorilla.net
SUMMARY:Children flamenco - EL TACONEO - Ages 7 to 11 - sevillanas | Winter 2026
DESCRIPTION:with Timmy González
URL:https://laotraorilla.net/en/activite/children-flamenco-el-taconeo-ages-7-to-11-sevillanas-winter-2026/2026-04-18/
LOCATION:Studio La Lola\, 137\, Saint-Ferdinand – suite 227\, Montreal\, Québec\, H4C 2S6\, Canada
CATEGORIES:Children Flamenco
ATTACH;FMTTYPE=image/jpeg:https://laotraorilla.net/wp-content/uploads/2025/09/Vignette_Cours_Enfants-1200.jpg
ORGANIZER;CN="La Otra Orilla":MAILTO:info@laotraorilla.net
END:VEVENT
BEGIN:VEVENT
DTSTART;TZID=America/New_York:20260418T100000
DTEND;TZID=America/New_York:20260418T104500
DTSTAMP:20260424T085749
CREATED:20251208T211334Z
LAST-MODIFIED:20251208T212317Z
UID:10000878-1776506400-1776509100@laotraorilla.net
SUMMARY:Children Flamenco - EL RECREO - Ages 4 to 6 - alegrías | Winter 2026
DESCRIPTION:with Timmy González
URL:https://laotraorilla.net/en/activite/children-flamenco-el-recreo-ages-4-to-6-alegrias-winter-2026/2026-04-18/
LOCATION:Studio La Lola\, 137\, Saint-Ferdinand – suite 227\, Montreal\, Québec\, H4C 2S6\, Canada
CATEGORIES:Children Flamenco
ATTACH;FMTTYPE=image/jpeg:https://laotraorilla.net/wp-content/uploads/2025/09/Vignette_Cours_Enfants-1200.jpg
ORGANIZER;CN="La Otra Orilla":MAILTO:info@laotraorilla.net
END:VEVENT
BEGIN:VEVENT
DTSTART;TZID=America/New_York:20260415T193000
DTEND;TZID=America/New_York:20260415T204500
DTSTAMP:20260424T085749
CREATED:20251126T160342Z
LAST-MODIFIED:20251208T204954Z
UID:10000719-1776281400-1776285900@laotraorilla.net
SUMMARY:Adults Flamenco - Beginners/intermediate – guajira | Winter 2026
DESCRIPTION:With Sandra Matos
URL:https://laotraorilla.net/en/activite/adults-flamenco-beginners-intermediate-guajira-con-abanico-winter-2026/2026-04-15/
LOCATION:Studio La Lola\, 137\, Saint-Ferdinand – suite 227\, Montreal\, Québec\, H4C 2S6\, Canada
CATEGORIES:Adults Flamenco
ATTACH;FMTTYPE=image/jpeg:https://laotraorilla.net/wp-content/uploads/2025/09/Vignette_Cours_Adultes-1200.jpg
ORGANIZER;CN="La Otra Orilla":MAILTO:info@laotraorilla.net
END:VEVENT
BEGIN:VEVENT
DTSTART;TZID=America/New_York:20260415T180000
DTEND;TZID=America/New_York:20260415T191500
DTSTAMP:20260424T085749
CREATED:20251111T215759Z
LAST-MODIFIED:20251120T181111Z
UID:10000544-1776276000-1776280500@laotraorilla.net
SUMMARY:Adults Flamenco - Beginner Level – tangos | Winter 2026
DESCRIPTION:With Sandra Matos
URL:https://laotraorilla.net/en/activite/adults-flamenco-beginner-level-tangos-winter-2026/2026-04-15/
LOCATION:Studio La Lola\, 137\, Saint-Ferdinand – suite 227\, Montreal\, Québec\, H4C 2S6\, Canada
CATEGORIES:Adults Flamenco
ATTACH;FMTTYPE=image/jpeg:https://laotraorilla.net/wp-content/uploads/2025/09/Vignette_Cours_Adultes-1200.jpg
ORGANIZER;CN="La Otra Orilla":MAILTO:info@laotraorilla.net
END:VEVENT
BEGIN:VEVENT
DTSTART;TZID=America/New_York:20260414T180000
DTEND;TZID=America/New_York:20260414T191500
DTSTAMP:20260424T085749
CREATED:20251208T202109Z
LAST-MODIFIED:20251208T203155Z
UID:10000751-1776189600-1776194100@laotraorilla.net
SUMMARY:Adults Flamenco - Intermediate Level - bulerías | Winter 2026
DESCRIPTION:with Myriam Allard
URL:https://laotraorilla.net/en/activite/adults-flamenco-intermediate-bulerias-winter-2026/2026-04-14/
LOCATION:Studio La Lola\, 137\, Saint-Ferdinand – suite 227\, Montreal\, Québec\, H4C 2S6\, Canada
CATEGORIES:Adults Flamenco
ATTACH;FMTTYPE=image/jpeg:https://laotraorilla.net/wp-content/uploads/2025/09/Vignette_Cours_Adultes-1200.jpg
ORGANIZER;CN="La Otra Orilla":MAILTO:info@laotraorilla.net
END:VEVENT
BEGIN:VEVENT
DTSTART;TZID=America/New_York:20260411T140000
DTEND;TZID=America/New_York:20260411T160000
DTSTAMP:20260424T085749
CREATED:20251211T000028Z
LAST-MODIFIED:20251211T000602Z
UID:10000944-1775916000-1775923200@laotraorilla.net
SUMMARY:Adults Flamenco - Bata de cola - technique | Winter 2026
DESCRIPTION:with Myriam Allard
URL:https://laotraorilla.net/en/activite/adults-flamenco-bata-de-cola-technique-winter-2026/2026-04-11/
LOCATION:Studio La Lola\, 137\, Saint-Ferdinand – suite 227\, Montreal\, Québec\, H4C 2S6\, Canada
CATEGORIES:Adults Flamenco
ATTACH;FMTTYPE=image/jpeg:https://laotraorilla.net/wp-content/uploads/2025/09/Vignette_Cours_Adultes-1200.jpg
ORGANIZER;CN="La Otra Orilla":MAILTO:info@laotraorilla.net
END:VEVENT
BEGIN:VEVENT
DTSTART;TZID=America/New_York:20260411T121500
DTEND;TZID=America/New_York:20260411T133000
DTSTAMP:20260424T085749
CREATED:20251208T210014Z
LAST-MODIFIED:20251208T210303Z
UID:10000813-1775909700-1775914200@laotraorilla.net
SUMMARY:Adults Flamenco - castanets - seguiriya | Winter 2026
DESCRIPTION:with Timmy González
URL:https://laotraorilla.net/en/activite/adults-flamenco-castanets-seguiriya-winter-2026/2026-04-11/
LOCATION:Studio La Lola\, 137\, Saint-Ferdinand – suite 227\, Montreal\, Québec\, H4C 2S6\, Canada
CATEGORIES:Adults Flamenco
ATTACH;FMTTYPE=image/jpeg:https://laotraorilla.net/wp-content/uploads/2025/09/Vignette_Cours_Adultes-1200.jpg
ORGANIZER;CN="La Otra Orilla":MAILTO:info@laotraorilla.net
END:VEVENT
BEGIN:VEVENT
DTSTART;TZID=America/New_York:20260411T110000
DTEND;TZID=America/New_York:20260411T120000
DTSTAMP:20260424T085749
CREATED:20251208T211639Z
LAST-MODIFIED:20251208T212805Z
UID:10000861-1775905200-1775908800@laotraorilla.net
SUMMARY:Children flamenco - EL TACONEO - Ages 7 to 11 - sevillanas | Winter 2026
DESCRIPTION:with Timmy González
URL:https://laotraorilla.net/en/activite/children-flamenco-el-taconeo-ages-7-to-11-sevillanas-winter-2026/2026-04-11/
LOCATION:Studio La Lola\, 137\, Saint-Ferdinand – suite 227\, Montreal\, Québec\, H4C 2S6\, Canada
CATEGORIES:Children Flamenco
ATTACH;FMTTYPE=image/jpeg:https://laotraorilla.net/wp-content/uploads/2025/09/Vignette_Cours_Enfants-1200.jpg
ORGANIZER;CN="La Otra Orilla":MAILTO:info@laotraorilla.net
END:VEVENT
BEGIN:VEVENT
DTSTART;TZID=America/New_York:20260411T100000
DTEND;TZID=America/New_York:20260411T104500
DTSTAMP:20260424T085749
CREATED:20251208T211334Z
LAST-MODIFIED:20251208T212317Z
UID:10000877-1775901600-1775904300@laotraorilla.net
SUMMARY:Children Flamenco - EL RECREO - Ages 4 to 6 - alegrías | Winter 2026
DESCRIPTION:with Timmy González
URL:https://laotraorilla.net/en/activite/children-flamenco-el-recreo-ages-4-to-6-alegrias-winter-2026/2026-04-11/
LOCATION:Studio La Lola\, 137\, Saint-Ferdinand – suite 227\, Montreal\, Québec\, H4C 2S6\, Canada
CATEGORIES:Children Flamenco
ATTACH;FMTTYPE=image/jpeg:https://laotraorilla.net/wp-content/uploads/2025/09/Vignette_Cours_Enfants-1200.jpg
ORGANIZER;CN="La Otra Orilla":MAILTO:info@laotraorilla.net
END:VEVENT
BEGIN:VEVENT
DTSTART;TZID=America/New_York:20260410T190000
DTEND;TZID=America/New_York:20260410T210000
DTSTAMP:20260424T085749
CREATED:20251211T001346Z
LAST-MODIFIED:20260401T150804Z
UID:10001006-1775847600-1775854800@laotraorilla.net
SUMMARY:Adults flamenco - Workshops  - Sevillanas Practice | Hiver 2026
DESCRIPTION:with Timmy González or Sandra Matos \n  \nRegistration
URL:https://laotraorilla.net/en/activite/adults-flamenco-workshops-sevillanas-practice-hiver-2026/2026-04-10/
LOCATION:Studio La Lola\, 137\, Saint-Ferdinand – suite 227\, Montreal\, Québec\, H4C 2S6\, Canada
CATEGORIES:Adults Flamenco
ATTACH;FMTTYPE=image/jpeg:https://laotraorilla.net/wp-content/uploads/2026/04/Sevillanas_atelier.jpg
ORGANIZER;CN="La Otra Orilla":MAILTO:info@laotraorilla.net
END:VEVENT
BEGIN:VEVENT
DTSTART;TZID=UTC:20260409T193000
DTEND;TZID=UTC:20260409T220000
DTSTAMP:20260424T085749
CREATED:20260319T195156Z
LAST-MODIFIED:20260417T225636Z
UID:10001016-1775763000-1775772000@laotraorilla.net
SUMMARY:Act 8 - David Lafleur
DESCRIPTION:Doors  7:30pm\nShow  8pm \n– \nArtists : \nMyriam Allard\nJulian Ferrer\nCaroline Planté\nMiguel Medina\nHedi Graja \n– \nIn an intimate and confidential setting\, La Otra Orilla offers unique evening performances. To take part in these privileged events has you discover Lola’s secrets\, which are revealed to you by our guest artists\, like so many confidences. Each performance takes place one evening only\, with a small audience\, to better immerse you in the moment. \nThe unveiling takes place no more than a month in advance. \n  \n 
URL:https://laotraorilla.net/en/activite/lolas-secrets-act-8-david-lafleur/
LOCATION:Studio La Lola\, 137\, Saint-Ferdinand – suite 227\, Montreal\, Québec\, H4C 2S6\, Canada
CATEGORIES:Shows,Studio Events
ATTACH;FMTTYPE=image/jpeg:https://laotraorilla.net/wp-content/uploads/2026/03/acte8_1.jpg
ORGANIZER;CN="La Otra Orilla":MAILTO:info@laotraorilla.net
END:VEVENT
BEGIN:VEVENT
DTSTART;TZID=America/New_York:20260408T193000
DTEND;TZID=America/New_York:20260408T204500
DTSTAMP:20260424T085749
CREATED:20251126T160342Z
LAST-MODIFIED:20251208T204954Z
UID:10000718-1775676600-1775681100@laotraorilla.net
SUMMARY:Adults Flamenco - Beginners/intermediate – guajira | Winter 2026
DESCRIPTION:With Sandra Matos
URL:https://laotraorilla.net/en/activite/adults-flamenco-beginners-intermediate-guajira-con-abanico-winter-2026/2026-04-08/
LOCATION:Studio La Lola\, 137\, Saint-Ferdinand – suite 227\, Montreal\, Québec\, H4C 2S6\, Canada
CATEGORIES:Adults Flamenco
ATTACH;FMTTYPE=image/jpeg:https://laotraorilla.net/wp-content/uploads/2025/09/Vignette_Cours_Adultes-1200.jpg
ORGANIZER;CN="La Otra Orilla":MAILTO:info@laotraorilla.net
END:VEVENT
BEGIN:VEVENT
DTSTART;TZID=America/New_York:20260408T180000
DTEND;TZID=America/New_York:20260408T191500
DTSTAMP:20260424T085749
CREATED:20251111T215759Z
LAST-MODIFIED:20251120T181111Z
UID:10000543-1775671200-1775675700@laotraorilla.net
SUMMARY:Adults Flamenco - Beginner Level – tangos | Winter 2026
DESCRIPTION:With Sandra Matos
URL:https://laotraorilla.net/en/activite/adults-flamenco-beginner-level-tangos-winter-2026/2026-04-08/
LOCATION:Studio La Lola\, 137\, Saint-Ferdinand – suite 227\, Montreal\, Québec\, H4C 2S6\, Canada
CATEGORIES:Adults Flamenco
ATTACH;FMTTYPE=image/jpeg:https://laotraorilla.net/wp-content/uploads/2025/09/Vignette_Cours_Adultes-1200.jpg
ORGANIZER;CN="La Otra Orilla":MAILTO:info@laotraorilla.net
END:VEVENT
BEGIN:VEVENT
DTSTART;TZID=America/New_York:20260407T193000
DTEND;TZID=America/New_York:20260407T210000
DTSTAMP:20260424T085749
CREATED:20251208T204340Z
LAST-MODIFIED:20260107T182518Z
UID:10000782-1775590200-1775595600@laotraorilla.net
SUMMARY:Adults Flamenco - Advanced Level - tarantos | Winter 2026
DESCRIPTION:with Myriam Allard
URL:https://laotraorilla.net/en/activite/adults-flamenco-advanced-level-tarantos-winter-2026/2026-04-07/
LOCATION:Studio La Lola\, 137\, Saint-Ferdinand – suite 227\, Montreal\, Québec\, H4C 2S6\, Canada
CATEGORIES:Adults Flamenco
ATTACH;FMTTYPE=image/jpeg:https://laotraorilla.net/wp-content/uploads/2025/09/Vignette_Cours_Adultes-1200.jpg
ORGANIZER;CN="La Otra Orilla":MAILTO:info@laotraorilla.net
END:VEVENT
BEGIN:VEVENT
DTSTART;TZID=America/New_York:20260407T180000
DTEND;TZID=America/New_York:20260407T191500
DTSTAMP:20260424T085749
CREATED:20251208T202109Z
LAST-MODIFIED:20251208T203155Z
UID:10000750-1775584800-1775589300@laotraorilla.net
SUMMARY:Adults Flamenco - Intermediate Level - bulerías | Winter 2026
DESCRIPTION:with Myriam Allard
URL:https://laotraorilla.net/en/activite/adults-flamenco-intermediate-bulerias-winter-2026/2026-04-07/
LOCATION:Studio La Lola\, 137\, Saint-Ferdinand – suite 227\, Montreal\, Québec\, H4C 2S6\, Canada
CATEGORIES:Adults Flamenco
ATTACH;FMTTYPE=image/jpeg:https://laotraorilla.net/wp-content/uploads/2025/09/Vignette_Cours_Adultes-1200.jpg
ORGANIZER;CN="La Otra Orilla":MAILTO:info@laotraorilla.net
END:VEVENT
BEGIN:VEVENT
DTSTART;TZID=America/New_York:20260404T121500
DTEND;TZID=America/New_York:20260404T133000
DTSTAMP:20260424T085749
CREATED:20251208T210014Z
LAST-MODIFIED:20251208T210303Z
UID:10000812-1775304900-1775309400@laotraorilla.net
SUMMARY:Adults Flamenco - castanets - seguiriya | Winter 2026
DESCRIPTION:with Timmy González
URL:https://laotraorilla.net/en/activite/adults-flamenco-castanets-seguiriya-winter-2026/2026-04-04/
LOCATION:Studio La Lola\, 137\, Saint-Ferdinand – suite 227\, Montreal\, Québec\, H4C 2S6\, Canada
CATEGORIES:Adults Flamenco
ATTACH;FMTTYPE=image/jpeg:https://laotraorilla.net/wp-content/uploads/2025/09/Vignette_Cours_Adultes-1200.jpg
ORGANIZER;CN="La Otra Orilla":MAILTO:info@laotraorilla.net
END:VEVENT
BEGIN:VEVENT
DTSTART;TZID=America/New_York:20260404T110000
DTEND;TZID=America/New_York:20260404T120000
DTSTAMP:20260424T085749
CREATED:20251208T211639Z
LAST-MODIFIED:20251208T212805Z
UID:10000860-1775300400-1775304000@laotraorilla.net
SUMMARY:Children flamenco - EL TACONEO - Ages 7 to 11 - sevillanas | Winter 2026
DESCRIPTION:with Timmy González
URL:https://laotraorilla.net/en/activite/children-flamenco-el-taconeo-ages-7-to-11-sevillanas-winter-2026/2026-04-04/
LOCATION:Studio La Lola\, 137\, Saint-Ferdinand – suite 227\, Montreal\, Québec\, H4C 2S6\, Canada
CATEGORIES:Children Flamenco
ATTACH;FMTTYPE=image/jpeg:https://laotraorilla.net/wp-content/uploads/2025/09/Vignette_Cours_Enfants-1200.jpg
ORGANIZER;CN="La Otra Orilla":MAILTO:info@laotraorilla.net
END:VEVENT
BEGIN:VEVENT
DTSTART;TZID=America/New_York:20260404T100000
DTEND;TZID=America/New_York:20260404T104500
DTSTAMP:20260424T085749
CREATED:20251208T211334Z
LAST-MODIFIED:20251208T212317Z
UID:10000876-1775296800-1775299500@laotraorilla.net
SUMMARY:Children Flamenco - EL RECREO - Ages 4 to 6 - alegrías | Winter 2026
DESCRIPTION:with Timmy González
URL:https://laotraorilla.net/en/activite/children-flamenco-el-recreo-ages-4-to-6-alegrias-winter-2026/2026-04-04/
LOCATION:Studio La Lola\, 137\, Saint-Ferdinand – suite 227\, Montreal\, Québec\, H4C 2S6\, Canada
CATEGORIES:Children Flamenco
ATTACH;FMTTYPE=image/jpeg:https://laotraorilla.net/wp-content/uploads/2025/09/Vignette_Cours_Enfants-1200.jpg
ORGANIZER;CN="La Otra Orilla":MAILTO:info@laotraorilla.net
END:VEVENT
BEGIN:VEVENT
DTSTART;TZID=America/New_York:20260401T193000
DTEND;TZID=America/New_York:20260401T204500
DTSTAMP:20260424T085749
CREATED:20251126T160342Z
LAST-MODIFIED:20251208T204954Z
UID:10000717-1775071800-1775076300@laotraorilla.net
SUMMARY:Adults Flamenco - Beginners/intermediate – guajira | Winter 2026
DESCRIPTION:With Sandra Matos
URL:https://laotraorilla.net/en/activite/adults-flamenco-beginners-intermediate-guajira-con-abanico-winter-2026/2026-04-01/
LOCATION:Studio La Lola\, 137\, Saint-Ferdinand – suite 227\, Montreal\, Québec\, H4C 2S6\, Canada
CATEGORIES:Adults Flamenco
ATTACH;FMTTYPE=image/jpeg:https://laotraorilla.net/wp-content/uploads/2025/09/Vignette_Cours_Adultes-1200.jpg
ORGANIZER;CN="La Otra Orilla":MAILTO:info@laotraorilla.net
END:VEVENT
BEGIN:VEVENT
DTSTART;TZID=America/New_York:20260401T180000
DTEND;TZID=America/New_York:20260401T191500
DTSTAMP:20260424T085749
CREATED:20251111T215759Z
LAST-MODIFIED:20251120T181111Z
UID:10000542-1775066400-1775070900@laotraorilla.net
SUMMARY:Adults Flamenco - Beginner Level – tangos | Winter 2026
DESCRIPTION:With Sandra Matos
URL:https://laotraorilla.net/en/activite/adults-flamenco-beginner-level-tangos-winter-2026/2026-04-01/
LOCATION:Studio La Lola\, 137\, Saint-Ferdinand – suite 227\, Montreal\, Québec\, H4C 2S6\, Canada
CATEGORIES:Adults Flamenco
ATTACH;FMTTYPE=image/jpeg:https://laotraorilla.net/wp-content/uploads/2025/09/Vignette_Cours_Adultes-1200.jpg
ORGANIZER;CN="La Otra Orilla":MAILTO:info@laotraorilla.net
END:VEVENT
BEGIN:VEVENT
DTSTART;TZID=America/New_York:20260331T193000
DTEND;TZID=America/New_York:20260331T210000
DTSTAMP:20260424T085749
CREATED:20251208T204340Z
LAST-MODIFIED:20260107T182518Z
UID:10000781-1774985400-1774990800@laotraorilla.net
SUMMARY:Adults Flamenco - Advanced Level - tarantos | Winter 2026
DESCRIPTION:with Myriam Allard
URL:https://laotraorilla.net/en/activite/adults-flamenco-advanced-level-tarantos-winter-2026/2026-03-31/
LOCATION:Studio La Lola\, 137\, Saint-Ferdinand – suite 227\, Montreal\, Québec\, H4C 2S6\, Canada
CATEGORIES:Adults Flamenco
ATTACH;FMTTYPE=image/jpeg:https://laotraorilla.net/wp-content/uploads/2025/09/Vignette_Cours_Adultes-1200.jpg
ORGANIZER;CN="La Otra Orilla":MAILTO:info@laotraorilla.net
END:VEVENT
BEGIN:VEVENT
DTSTART;TZID=America/New_York:20260331T180000
DTEND;TZID=America/New_York:20260331T191500
DTSTAMP:20260424T085749
CREATED:20251208T202109Z
LAST-MODIFIED:20251208T203155Z
UID:10000749-1774980000-1774984500@laotraorilla.net
SUMMARY:Adults Flamenco - Intermediate Level - bulerías | Winter 2026
DESCRIPTION:with Myriam Allard
URL:https://laotraorilla.net/en/activite/adults-flamenco-intermediate-bulerias-winter-2026/2026-03-31/
LOCATION:Studio La Lola\, 137\, Saint-Ferdinand – suite 227\, Montreal\, Québec\, H4C 2S6\, Canada
CATEGORIES:Adults Flamenco
ATTACH;FMTTYPE=image/jpeg:https://laotraorilla.net/wp-content/uploads/2025/09/Vignette_Cours_Adultes-1200.jpg
ORGANIZER;CN="La Otra Orilla":MAILTO:info@laotraorilla.net
END:VEVENT
BEGIN:VEVENT
DTSTART;TZID=America/New_York:20260328T121500
DTEND;TZID=America/New_York:20260328T133000
DTSTAMP:20260424T085749
CREATED:20251208T210014Z
LAST-MODIFIED:20251208T210303Z
UID:10000811-1774700100-1774704600@laotraorilla.net
SUMMARY:Adults Flamenco - castanets - seguiriya | Winter 2026
DESCRIPTION:with Timmy González
URL:https://laotraorilla.net/en/activite/adults-flamenco-castanets-seguiriya-winter-2026/2026-03-28/
LOCATION:Studio La Lola\, 137\, Saint-Ferdinand – suite 227\, Montreal\, Québec\, H4C 2S6\, Canada
CATEGORIES:Adults Flamenco
ATTACH;FMTTYPE=image/jpeg:https://laotraorilla.net/wp-content/uploads/2025/09/Vignette_Cours_Adultes-1200.jpg
ORGANIZER;CN="La Otra Orilla":MAILTO:info@laotraorilla.net
END:VEVENT
BEGIN:VEVENT
DTSTART;TZID=America/New_York:20260328T110000
DTEND;TZID=America/New_York:20260328T120000
DTSTAMP:20260424T085749
CREATED:20251208T211639Z
LAST-MODIFIED:20251208T212805Z
UID:10000859-1774695600-1774699200@laotraorilla.net
SUMMARY:Children flamenco - EL TACONEO - Ages 7 to 11 - sevillanas | Winter 2026
DESCRIPTION:with Timmy González
URL:https://laotraorilla.net/en/activite/children-flamenco-el-taconeo-ages-7-to-11-sevillanas-winter-2026/2026-03-28/
LOCATION:Studio La Lola\, 137\, Saint-Ferdinand – suite 227\, Montreal\, Québec\, H4C 2S6\, Canada
CATEGORIES:Children Flamenco
ATTACH;FMTTYPE=image/jpeg:https://laotraorilla.net/wp-content/uploads/2025/09/Vignette_Cours_Enfants-1200.jpg
ORGANIZER;CN="La Otra Orilla":MAILTO:info@laotraorilla.net
END:VEVENT
BEGIN:VEVENT
DTSTART;TZID=America/New_York:20260328T100000
DTEND;TZID=America/New_York:20260328T104500
DTSTAMP:20260424T085749
CREATED:20251208T211334Z
LAST-MODIFIED:20251208T212317Z
UID:10000875-1774692000-1774694700@laotraorilla.net
SUMMARY:Children Flamenco - EL RECREO - Ages 4 to 6 - alegrías | Winter 2026
DESCRIPTION:with Timmy González
URL:https://laotraorilla.net/en/activite/children-flamenco-el-recreo-ages-4-to-6-alegrias-winter-2026/2026-03-28/
LOCATION:Studio La Lola\, 137\, Saint-Ferdinand – suite 227\, Montreal\, Québec\, H4C 2S6\, Canada
CATEGORIES:Children Flamenco
ATTACH;FMTTYPE=image/jpeg:https://laotraorilla.net/wp-content/uploads/2025/09/Vignette_Cours_Enfants-1200.jpg
ORGANIZER;CN="La Otra Orilla":MAILTO:info@laotraorilla.net
END:VEVENT
END:VCALENDAR