BEGIN:VCALENDAR
VERSION:2.0
PRODID:-//La Otra Orilla - ECPv6.15.17//NONSGML v1.0//EN
CALSCALE:GREGORIAN
METHOD:PUBLISH
X-WR-CALNAME:La Otra Orilla
X-ORIGINAL-URL:https://laotraorilla.net
X-WR-CALDESC:Évènements pour La Otra Orilla
REFRESH-INTERVAL;VALUE=DURATION:PT1H
X-Robots-Tag:noindex
X-PUBLISHED-TTL:PT1H
BEGIN:VTIMEZONE
TZID:America/New_York
BEGIN:DAYLIGHT
TZOFFSETFROM:-0500
TZOFFSETTO:-0400
TZNAME:EDT
DTSTART:20250309T070000
END:DAYLIGHT
BEGIN:STANDARD
TZOFFSETFROM:-0400
TZOFFSETTO:-0500
TZNAME:EST
DTSTART:20251102T060000
END:STANDARD
BEGIN:DAYLIGHT
TZOFFSETFROM:-0500
TZOFFSETTO:-0400
TZNAME:EDT
DTSTART:20260308T070000
END:DAYLIGHT
BEGIN:STANDARD
TZOFFSETFROM:-0400
TZOFFSETTO:-0500
TZNAME:EST
DTSTART:20261101T060000
END:STANDARD
BEGIN:DAYLIGHT
TZOFFSETFROM:-0500
TZOFFSETTO:-0400
TZNAME:EDT
DTSTART:20270314T070000
END:DAYLIGHT
BEGIN:STANDARD
TZOFFSETFROM:-0400
TZOFFSETTO:-0500
TZNAME:EST
DTSTART:20271107T060000
END:STANDARD
END:VTIMEZONE
BEGIN:VTIMEZONE
TZID:UTC
BEGIN:STANDARD
TZOFFSETFROM:+0000
TZOFFSETTO:+0000
TZNAME:UTC
DTSTART:20250101T000000
END:STANDARD
END:VTIMEZONE
BEGIN:VEVENT
DTSTART;TZID=America/New_York:20260422T193000
DTEND;TZID=America/New_York:20260422T204500
DTSTAMP:20260424T104428
CREATED:20251126T160342Z
LAST-MODIFIED:20251126T160426Z
UID:10000704-1776886200-1776890700@laotraorilla.net
SUMMARY:Flamenco adultes - Niveau débutant/inter – guajira | Hiver 2026
DESCRIPTION:Avec Sandra Matos \n*Éventail requis
URL:https://laotraorilla.net/activite/flamenco-adultes-niveau-debutant-inter-guajira-hiver-2026/2026-04-22/
LOCATION:Studio La Lola\, 137\, Saint-Ferdinand – local 227\, Montréal\, Québec\, H4C 2S6\, Canada
CATEGORIES:Flamenco adultes
ATTACH;FMTTYPE=image/jpeg:https://laotraorilla.net/wp-content/uploads/2025/09/Vignette_Cours_Adultes-1200.jpg
ORGANIZER;CN="La Otra Orilla":MAILTO:info@laotraorilla.net
END:VEVENT
BEGIN:VEVENT
DTSTART;TZID=America/New_York:20260422T180000
DTEND;TZID=America/New_York:20260422T191500
DTSTAMP:20260424T104428
CREATED:20251111T215759Z
LAST-MODIFIED:20251111T215759Z
UID:10000527-1776880800-1776885300@laotraorilla.net
SUMMARY:Flamenco adultes - Niveau débutant – tangos | Hiver 2026
DESCRIPTION:Avec Sandra Matos
URL:https://laotraorilla.net/activite/flamenco-adultes-niveau-debutant-tangos-hiver-2026/2026-04-22/
LOCATION:Studio La Lola\, 137\, Saint-Ferdinand – local 227\, Montréal\, Québec\, H4C 2S6\, Canada
CATEGORIES:Flamenco adultes
ATTACH;FMTTYPE=image/jpeg:https://laotraorilla.net/wp-content/uploads/2025/09/Vignette_Cours_Adultes-1200.jpg
ORGANIZER;CN="La Otra Orilla":MAILTO:info@laotraorilla.net
END:VEVENT
BEGIN:VEVENT
DTSTART;TZID=America/New_York:20260421T193000
DTEND;TZID=America/New_York:20260421T210000
DTSTAMP:20260424T104428
CREATED:20251208T204340Z
LAST-MODIFIED:20260107T182335Z
UID:10000768-1776799800-1776805200@laotraorilla.net
SUMMARY:Flamenco adultes - niveau avancé - tarantos | Hiver 2026
DESCRIPTION:avec Myriam Allard
URL:https://laotraorilla.net/activite/flamenco-adultes-niveau-avance-tarantos-hiver-2026/2026-04-21/
LOCATION:Studio La Lola\, 137\, Saint-Ferdinand – local 227\, Montréal\, Québec\, H4C 2S6\, Canada
CATEGORIES:Flamenco adultes
ATTACH;FMTTYPE=image/jpeg:https://laotraorilla.net/wp-content/uploads/2025/09/Vignette_Cours_Adultes-1200.jpg
ORGANIZER;CN="La Otra Orilla":MAILTO:info@laotraorilla.net
END:VEVENT
BEGIN:VEVENT
DTSTART;TZID=America/New_York:20260421T180000
DTEND;TZID=America/New_York:20260421T191500
DTSTAMP:20260424T104428
CREATED:20251208T202109Z
LAST-MODIFIED:20251208T204730Z
UID:10000736-1776794400-1776798900@laotraorilla.net
SUMMARY:Flamenco adultes - niveau intermédiaire - bulerías | Hiver 2026
DESCRIPTION:avec Myriam Allard
URL:https://laotraorilla.net/activite/flamenco-adultes-niveau-intermediaire-bulerias-hiver-2026/2026-04-21/
LOCATION:Studio La Lola\, 137\, Saint-Ferdinand – local 227\, Montréal\, Québec\, H4C 2S6\, Canada
CATEGORIES:Flamenco adultes
ATTACH;FMTTYPE=image/jpeg:https://laotraorilla.net/wp-content/uploads/2025/09/Vignette_Cours_Adultes-1200.jpg
ORGANIZER;CN="La Otra Orilla":MAILTO:info@laotraorilla.net
END:VEVENT
BEGIN:VEVENT
DTSTART;TZID=UTC:20260419T150000
DTEND;TZID=UTC:20260419T163000
DTSTAMP:20260424T104428
CREATED:20251015T185530Z
LAST-MODIFIED:20260213T150521Z
UID:10000401-1776610800-1776616200@laotraorilla.net
SUMMARY:RITE | Farnham
DESCRIPTION:Le vaisseau d’art\, Farnham\nInformations et Billetterie \nLe spectacle
URL:https://laotraorilla.net/activite/rite-farnham/
LOCATION:Le vaisseau d’Art – Farnham\, 500 Rue Saint-Hilaire\, Farnham\, Québec\, J2N 2T1\, Canada
CATEGORIES:Spectacles
ATTACH;FMTTYPE=image/jpeg:https://laotraorilla.net/wp-content/uploads/2025/10/Rite-1200.jpg
ORGANIZER;CN="La Otra Orilla":MAILTO:info@laotraorilla.net
END:VEVENT
BEGIN:VEVENT
DTSTART;TZID=America/New_York:20260418T121500
DTEND;TZID=America/New_York:20260418T133000
DTSTAMP:20260424T104428
CREATED:20251208T210014Z
LAST-MODIFIED:20251208T213121Z
UID:10000799-1776514500-1776519000@laotraorilla.net
SUMMARY:Flamenco adultes - cours de castagnettes - seguiriya | Hiver 2026
DESCRIPTION:avec Timmy González
URL:https://laotraorilla.net/activite/flamenco-adultes-cours-de-castagnettes-seguiriya-hiver-2026/2026-04-18/
LOCATION:Studio La Lola\, 137\, Saint-Ferdinand – local 227\, Montréal\, Québec\, H4C 2S6\, Canada
CATEGORIES:Flamenco adultes
ATTACH;FMTTYPE=image/jpeg:https://laotraorilla.net/wp-content/uploads/2025/09/Vignette_Cours_Adultes-1200.jpg
ORGANIZER;CN="La Otra Orilla":MAILTO:info@laotraorilla.net
END:VEVENT
BEGIN:VEVENT
DTSTART;TZID=America/New_York:20260418T110000
DTEND;TZID=America/New_York:20260418T120000
DTSTAMP:20260424T104428
CREATED:20251208T211639Z
LAST-MODIFIED:20251208T212911Z
UID:10000846-1776510000-1776513600@laotraorilla.net
SUMMARY:Flamenco enfants - EL TACONEO - 7 à 11 ans - sevillanas | Hiver 2026
DESCRIPTION:avec Timmy González
URL:https://laotraorilla.net/activite/flamenco-enfants-el-taconeo-7-a-11-ans-sevillanas-hiver-2026/2026-04-18/
LOCATION:Studio La Lola\, 137\, Saint-Ferdinand – local 227\, Montréal\, Québec\, H4C 2S6\, Canada
CATEGORIES:Flamenco enfants
ATTACH;FMTTYPE=image/jpeg:https://laotraorilla.net/wp-content/uploads/2025/09/Vignette_Cours_Enfants-1200.jpg
ORGANIZER;CN="La Otra Orilla":MAILTO:info@laotraorilla.net
END:VEVENT
BEGIN:VEVENT
DTSTART;TZID=America/New_York:20260418T100000
DTEND;TZID=America/New_York:20260418T104500
DTSTAMP:20260424T104428
CREATED:20251208T211334Z
LAST-MODIFIED:20251208T211334Z
UID:10000830-1776506400-1776509100@laotraorilla.net
SUMMARY:Flamenco enfants - EL RECREO - 4 à 6 ans - alegrías | Hiver 2026
DESCRIPTION:avec Timmy González
URL:https://laotraorilla.net/activite/flamenco-enfants-el-recreo-4-a-6-ans-alegrias-hiver-2026/2026-04-18/
LOCATION:Studio La Lola\, 137\, Saint-Ferdinand – local 227\, Montréal\, Québec\, H4C 2S6\, Canada
CATEGORIES:Flamenco enfants
ATTACH;FMTTYPE=image/jpeg:https://laotraorilla.net/wp-content/uploads/2025/09/Vignette_Cours_Enfants-1200.jpg
ORGANIZER;CN="La Otra Orilla":MAILTO:info@laotraorilla.net
END:VEVENT
BEGIN:VEVENT
DTSTART;TZID=America/New_York:20260415T193000
DTEND;TZID=America/New_York:20260415T204500
DTSTAMP:20260424T104428
CREATED:20251126T160342Z
LAST-MODIFIED:20251126T160426Z
UID:10000703-1776281400-1776285900@laotraorilla.net
SUMMARY:Flamenco adultes - Niveau débutant/inter – guajira | Hiver 2026
DESCRIPTION:Avec Sandra Matos \n*Éventail requis
URL:https://laotraorilla.net/activite/flamenco-adultes-niveau-debutant-inter-guajira-hiver-2026/2026-04-15/
LOCATION:Studio La Lola\, 137\, Saint-Ferdinand – local 227\, Montréal\, Québec\, H4C 2S6\, Canada
CATEGORIES:Flamenco adultes
ATTACH;FMTTYPE=image/jpeg:https://laotraorilla.net/wp-content/uploads/2025/09/Vignette_Cours_Adultes-1200.jpg
ORGANIZER;CN="La Otra Orilla":MAILTO:info@laotraorilla.net
END:VEVENT
BEGIN:VEVENT
DTSTART;TZID=America/New_York:20260415T180000
DTEND;TZID=America/New_York:20260415T191500
DTSTAMP:20260424T104428
CREATED:20251111T215759Z
LAST-MODIFIED:20251111T215759Z
UID:10000526-1776276000-1776280500@laotraorilla.net
SUMMARY:Flamenco adultes - Niveau débutant – tangos | Hiver 2026
DESCRIPTION:Avec Sandra Matos
URL:https://laotraorilla.net/activite/flamenco-adultes-niveau-debutant-tangos-hiver-2026/2026-04-15/
LOCATION:Studio La Lola\, 137\, Saint-Ferdinand – local 227\, Montréal\, Québec\, H4C 2S6\, Canada
CATEGORIES:Flamenco adultes
ATTACH;FMTTYPE=image/jpeg:https://laotraorilla.net/wp-content/uploads/2025/09/Vignette_Cours_Adultes-1200.jpg
ORGANIZER;CN="La Otra Orilla":MAILTO:info@laotraorilla.net
END:VEVENT
BEGIN:VEVENT
DTSTART;TZID=America/New_York:20260414T180000
DTEND;TZID=America/New_York:20260414T191500
DTSTAMP:20260424T104428
CREATED:20251208T202109Z
LAST-MODIFIED:20251208T204730Z
UID:10000735-1776189600-1776194100@laotraorilla.net
SUMMARY:Flamenco adultes - niveau intermédiaire - bulerías | Hiver 2026
DESCRIPTION:avec Myriam Allard
URL:https://laotraorilla.net/activite/flamenco-adultes-niveau-intermediaire-bulerias-hiver-2026/2026-04-14/
LOCATION:Studio La Lola\, 137\, Saint-Ferdinand – local 227\, Montréal\, Québec\, H4C 2S6\, Canada
CATEGORIES:Flamenco adultes
ATTACH;FMTTYPE=image/jpeg:https://laotraorilla.net/wp-content/uploads/2025/09/Vignette_Cours_Adultes-1200.jpg
ORGANIZER;CN="La Otra Orilla":MAILTO:info@laotraorilla.net
END:VEVENT
BEGIN:VEVENT
DTSTART;TZID=America/New_York:20260411T140000
DTEND;TZID=America/New_York:20260411T160000
DTSTAMP:20260424T104428
CREATED:20251211T000028Z
LAST-MODIFIED:20251211T171432Z
UID:10000887-1775916000-1775923200@laotraorilla.net
SUMMARY:Flamenco adultes - Bata de cola - technique | Hiver 2026
DESCRIPTION:avec Myriam Allard
URL:https://laotraorilla.net/activite/flamenco-adultes-bata-de-cola-technique-hiver-2026/2026-04-11/
LOCATION:Studio La Lola\, 137\, Saint-Ferdinand – local 227\, Montréal\, Québec\, H4C 2S6\, Canada
CATEGORIES:Flamenco adultes
ATTACH;FMTTYPE=image/jpeg:https://laotraorilla.net/wp-content/uploads/2025/09/Vignette_Cours_Adultes-1200.jpg
ORGANIZER;CN="La Otra Orilla":MAILTO:info@laotraorilla.net
END:VEVENT
BEGIN:VEVENT
DTSTART;TZID=America/New_York:20260411T121500
DTEND;TZID=America/New_York:20260411T133000
DTSTAMP:20260424T104428
CREATED:20251208T210014Z
LAST-MODIFIED:20251208T213121Z
UID:10000798-1775909700-1775914200@laotraorilla.net
SUMMARY:Flamenco adultes - cours de castagnettes - seguiriya | Hiver 2026
DESCRIPTION:avec Timmy González
URL:https://laotraorilla.net/activite/flamenco-adultes-cours-de-castagnettes-seguiriya-hiver-2026/2026-04-11/
LOCATION:Studio La Lola\, 137\, Saint-Ferdinand – local 227\, Montréal\, Québec\, H4C 2S6\, Canada
CATEGORIES:Flamenco adultes
ATTACH;FMTTYPE=image/jpeg:https://laotraorilla.net/wp-content/uploads/2025/09/Vignette_Cours_Adultes-1200.jpg
ORGANIZER;CN="La Otra Orilla":MAILTO:info@laotraorilla.net
END:VEVENT
BEGIN:VEVENT
DTSTART;TZID=America/New_York:20260411T110000
DTEND;TZID=America/New_York:20260411T120000
DTSTAMP:20260424T104428
CREATED:20251208T211639Z
LAST-MODIFIED:20251208T212911Z
UID:10000845-1775905200-1775908800@laotraorilla.net
SUMMARY:Flamenco enfants - EL TACONEO - 7 à 11 ans - sevillanas | Hiver 2026
DESCRIPTION:avec Timmy González
URL:https://laotraorilla.net/activite/flamenco-enfants-el-taconeo-7-a-11-ans-sevillanas-hiver-2026/2026-04-11/
LOCATION:Studio La Lola\, 137\, Saint-Ferdinand – local 227\, Montréal\, Québec\, H4C 2S6\, Canada
CATEGORIES:Flamenco enfants
ATTACH;FMTTYPE=image/jpeg:https://laotraorilla.net/wp-content/uploads/2025/09/Vignette_Cours_Enfants-1200.jpg
ORGANIZER;CN="La Otra Orilla":MAILTO:info@laotraorilla.net
END:VEVENT
BEGIN:VEVENT
DTSTART;TZID=America/New_York:20260411T100000
DTEND;TZID=America/New_York:20260411T104500
DTSTAMP:20260424T104428
CREATED:20251208T211334Z
LAST-MODIFIED:20251208T211334Z
UID:10000829-1775901600-1775904300@laotraorilla.net
SUMMARY:Flamenco enfants - EL RECREO - 4 à 6 ans - alegrías | Hiver 2026
DESCRIPTION:avec Timmy González
URL:https://laotraorilla.net/activite/flamenco-enfants-el-recreo-4-a-6-ans-alegrias-hiver-2026/2026-04-11/
LOCATION:Studio La Lola\, 137\, Saint-Ferdinand – local 227\, Montréal\, Québec\, H4C 2S6\, Canada
CATEGORIES:Flamenco enfants
ATTACH;FMTTYPE=image/jpeg:https://laotraorilla.net/wp-content/uploads/2025/09/Vignette_Cours_Enfants-1200.jpg
ORGANIZER;CN="La Otra Orilla":MAILTO:info@laotraorilla.net
END:VEVENT
BEGIN:VEVENT
DTSTART;TZID=America/New_York:20260410T190000
DTEND;TZID=America/New_York:20260410T210000
DTSTAMP:20260424T104428
CREATED:20251211T001346Z
LAST-MODIFIED:20260401T150719Z
UID:10001002-1775847600-1775854800@laotraorilla.net
SUMMARY:Flamenco adultes - ateliers pratiques - sevillanas | Hiver 2026
DESCRIPTION:avec Timmy González ou Sandra Matos \n  \nInscriptions
URL:https://laotraorilla.net/activite/flamenco-adultes-ateliers-pratique-sevillanas-hiver-2026/2026-04-10/
LOCATION:Studio La Lola\, 137\, Saint-Ferdinand – local 227\, Montréal\, Québec\, H4C 2S6\, Canada
CATEGORIES:Flamenco adultes
ATTACH;FMTTYPE=image/jpeg:https://laotraorilla.net/wp-content/uploads/2026/04/Sevillanas_atelier-1.jpg
ORGANIZER;CN="La Otra Orilla":MAILTO:info@laotraorilla.net
END:VEVENT
BEGIN:VEVENT
DTSTART;TZID=UTC:20260409T193000
DTEND;TZID=UTC:20260409T220000
DTSTAMP:20260424T104428
CREATED:20260319T195156Z
LAST-MODIFIED:20260417T225615Z
UID:10001015-1775763000-1775772000@laotraorilla.net
SUMMARY:ACTE 8 : David LAFLEUR
DESCRIPTION:Portes : 19h30\nSpectacle : 20h \n– \nArtistes : \nMyriam Allard\nJulian Ferrer\nCaroline Planté\nMiguel Medina\nHedi Graja \n– \nDans un cadre intime et confidentiel (pour 50 spectateurs maximum)\, La Otra Orilla vous propose des soirées de performance uniques. Participer à ces moments privilégiés\, c’est découvrir les secrets de Lola\, qui vous sont révélés par nos artistes invités\, comme autant de confidences. Chaque performance a lieu un soir seulement\, devant un public restreint\, pour mieux plonger dans le moment présent. \nLe dévoilement ne se fait pas plus d’un mois à l’avance.
URL:https://laotraorilla.net/activite/acte-8-david-lafleur/
LOCATION:Studio La Lola\, 137\, Saint-Ferdinand – local 227\, Montréal\, Québec\, H4C 2S6\, Canada
CATEGORIES:Événements Studio,Spectacles
ATTACH;FMTTYPE=image/jpeg:https://laotraorilla.net/wp-content/uploads/2026/03/acte8_1.jpg
ORGANIZER;CN="La Otra Orilla":MAILTO:info@laotraorilla.net
END:VEVENT
BEGIN:VEVENT
DTSTART;TZID=America/New_York:20260408T193000
DTEND;TZID=America/New_York:20260408T204500
DTSTAMP:20260424T104428
CREATED:20251126T160342Z
LAST-MODIFIED:20251126T160426Z
UID:10000702-1775676600-1775681100@laotraorilla.net
SUMMARY:Flamenco adultes - Niveau débutant/inter – guajira | Hiver 2026
DESCRIPTION:Avec Sandra Matos \n*Éventail requis
URL:https://laotraorilla.net/activite/flamenco-adultes-niveau-debutant-inter-guajira-hiver-2026/2026-04-08/
LOCATION:Studio La Lola\, 137\, Saint-Ferdinand – local 227\, Montréal\, Québec\, H4C 2S6\, Canada
CATEGORIES:Flamenco adultes
ATTACH;FMTTYPE=image/jpeg:https://laotraorilla.net/wp-content/uploads/2025/09/Vignette_Cours_Adultes-1200.jpg
ORGANIZER;CN="La Otra Orilla":MAILTO:info@laotraorilla.net
END:VEVENT
BEGIN:VEVENT
DTSTART;TZID=America/New_York:20260408T180000
DTEND;TZID=America/New_York:20260408T191500
DTSTAMP:20260424T104428
CREATED:20251111T215759Z
LAST-MODIFIED:20251111T215759Z
UID:10000525-1775671200-1775675700@laotraorilla.net
SUMMARY:Flamenco adultes - Niveau débutant – tangos | Hiver 2026
DESCRIPTION:Avec Sandra Matos
URL:https://laotraorilla.net/activite/flamenco-adultes-niveau-debutant-tangos-hiver-2026/2026-04-08/
LOCATION:Studio La Lola\, 137\, Saint-Ferdinand – local 227\, Montréal\, Québec\, H4C 2S6\, Canada
CATEGORIES:Flamenco adultes
ATTACH;FMTTYPE=image/jpeg:https://laotraorilla.net/wp-content/uploads/2025/09/Vignette_Cours_Adultes-1200.jpg
ORGANIZER;CN="La Otra Orilla":MAILTO:info@laotraorilla.net
END:VEVENT
BEGIN:VEVENT
DTSTART;TZID=America/New_York:20260407T193000
DTEND;TZID=America/New_York:20260407T210000
DTSTAMP:20260424T104428
CREATED:20251208T204340Z
LAST-MODIFIED:20260107T182335Z
UID:10000766-1775590200-1775595600@laotraorilla.net
SUMMARY:Flamenco adultes - niveau avancé - tarantos | Hiver 2026
DESCRIPTION:avec Myriam Allard
URL:https://laotraorilla.net/activite/flamenco-adultes-niveau-avance-tarantos-hiver-2026/2026-04-07/
LOCATION:Studio La Lola\, 137\, Saint-Ferdinand – local 227\, Montréal\, Québec\, H4C 2S6\, Canada
CATEGORIES:Flamenco adultes
ATTACH;FMTTYPE=image/jpeg:https://laotraorilla.net/wp-content/uploads/2025/09/Vignette_Cours_Adultes-1200.jpg
ORGANIZER;CN="La Otra Orilla":MAILTO:info@laotraorilla.net
END:VEVENT
BEGIN:VEVENT
DTSTART;TZID=America/New_York:20260407T180000
DTEND;TZID=America/New_York:20260407T191500
DTSTAMP:20260424T104428
CREATED:20251208T202109Z
LAST-MODIFIED:20251208T204730Z
UID:10000734-1775584800-1775589300@laotraorilla.net
SUMMARY:Flamenco adultes - niveau intermédiaire - bulerías | Hiver 2026
DESCRIPTION:avec Myriam Allard
URL:https://laotraorilla.net/activite/flamenco-adultes-niveau-intermediaire-bulerias-hiver-2026/2026-04-07/
LOCATION:Studio La Lola\, 137\, Saint-Ferdinand – local 227\, Montréal\, Québec\, H4C 2S6\, Canada
CATEGORIES:Flamenco adultes
ATTACH;FMTTYPE=image/jpeg:https://laotraorilla.net/wp-content/uploads/2025/09/Vignette_Cours_Adultes-1200.jpg
ORGANIZER;CN="La Otra Orilla":MAILTO:info@laotraorilla.net
END:VEVENT
BEGIN:VEVENT
DTSTART;TZID=America/New_York:20260404T121500
DTEND;TZID=America/New_York:20260404T133000
DTSTAMP:20260424T104428
CREATED:20251208T210014Z
LAST-MODIFIED:20251208T213121Z
UID:10000797-1775304900-1775309400@laotraorilla.net
SUMMARY:Flamenco adultes - cours de castagnettes - seguiriya | Hiver 2026
DESCRIPTION:avec Timmy González
URL:https://laotraorilla.net/activite/flamenco-adultes-cours-de-castagnettes-seguiriya-hiver-2026/2026-04-04/
LOCATION:Studio La Lola\, 137\, Saint-Ferdinand – local 227\, Montréal\, Québec\, H4C 2S6\, Canada
CATEGORIES:Flamenco adultes
ATTACH;FMTTYPE=image/jpeg:https://laotraorilla.net/wp-content/uploads/2025/09/Vignette_Cours_Adultes-1200.jpg
ORGANIZER;CN="La Otra Orilla":MAILTO:info@laotraorilla.net
END:VEVENT
BEGIN:VEVENT
DTSTART;TZID=America/New_York:20260404T110000
DTEND;TZID=America/New_York:20260404T120000
DTSTAMP:20260424T104428
CREATED:20251208T211639Z
LAST-MODIFIED:20251208T212911Z
UID:10000844-1775300400-1775304000@laotraorilla.net
SUMMARY:Flamenco enfants - EL TACONEO - 7 à 11 ans - sevillanas | Hiver 2026
DESCRIPTION:avec Timmy González
URL:https://laotraorilla.net/activite/flamenco-enfants-el-taconeo-7-a-11-ans-sevillanas-hiver-2026/2026-04-04/
LOCATION:Studio La Lola\, 137\, Saint-Ferdinand – local 227\, Montréal\, Québec\, H4C 2S6\, Canada
CATEGORIES:Flamenco enfants
ATTACH;FMTTYPE=image/jpeg:https://laotraorilla.net/wp-content/uploads/2025/09/Vignette_Cours_Enfants-1200.jpg
ORGANIZER;CN="La Otra Orilla":MAILTO:info@laotraorilla.net
END:VEVENT
BEGIN:VEVENT
DTSTART;TZID=America/New_York:20260404T100000
DTEND;TZID=America/New_York:20260404T104500
DTSTAMP:20260424T104428
CREATED:20251208T211334Z
LAST-MODIFIED:20251208T211334Z
UID:10000828-1775296800-1775299500@laotraorilla.net
SUMMARY:Flamenco enfants - EL RECREO - 4 à 6 ans - alegrías | Hiver 2026
DESCRIPTION:avec Timmy González
URL:https://laotraorilla.net/activite/flamenco-enfants-el-recreo-4-a-6-ans-alegrias-hiver-2026/2026-04-04/
LOCATION:Studio La Lola\, 137\, Saint-Ferdinand – local 227\, Montréal\, Québec\, H4C 2S6\, Canada
CATEGORIES:Flamenco enfants
ATTACH;FMTTYPE=image/jpeg:https://laotraorilla.net/wp-content/uploads/2025/09/Vignette_Cours_Enfants-1200.jpg
ORGANIZER;CN="La Otra Orilla":MAILTO:info@laotraorilla.net
END:VEVENT
BEGIN:VEVENT
DTSTART;TZID=America/New_York:20260401T193000
DTEND;TZID=America/New_York:20260401T204500
DTSTAMP:20260424T104428
CREATED:20251126T160342Z
LAST-MODIFIED:20251126T160426Z
UID:10000701-1775071800-1775076300@laotraorilla.net
SUMMARY:Flamenco adultes - Niveau débutant/inter – guajira | Hiver 2026
DESCRIPTION:Avec Sandra Matos \n*Éventail requis
URL:https://laotraorilla.net/activite/flamenco-adultes-niveau-debutant-inter-guajira-hiver-2026/2026-04-01/
LOCATION:Studio La Lola\, 137\, Saint-Ferdinand – local 227\, Montréal\, Québec\, H4C 2S6\, Canada
CATEGORIES:Flamenco adultes
ATTACH;FMTTYPE=image/jpeg:https://laotraorilla.net/wp-content/uploads/2025/09/Vignette_Cours_Adultes-1200.jpg
ORGANIZER;CN="La Otra Orilla":MAILTO:info@laotraorilla.net
END:VEVENT
BEGIN:VEVENT
DTSTART;TZID=America/New_York:20260401T180000
DTEND;TZID=America/New_York:20260401T191500
DTSTAMP:20260424T104428
CREATED:20251111T215759Z
LAST-MODIFIED:20251111T215759Z
UID:10000524-1775066400-1775070900@laotraorilla.net
SUMMARY:Flamenco adultes - Niveau débutant – tangos | Hiver 2026
DESCRIPTION:Avec Sandra Matos
URL:https://laotraorilla.net/activite/flamenco-adultes-niveau-debutant-tangos-hiver-2026/2026-04-01/
LOCATION:Studio La Lola\, 137\, Saint-Ferdinand – local 227\, Montréal\, Québec\, H4C 2S6\, Canada
CATEGORIES:Flamenco adultes
ATTACH;FMTTYPE=image/jpeg:https://laotraorilla.net/wp-content/uploads/2025/09/Vignette_Cours_Adultes-1200.jpg
ORGANIZER;CN="La Otra Orilla":MAILTO:info@laotraorilla.net
END:VEVENT
BEGIN:VEVENT
DTSTART;TZID=America/New_York:20260331T193000
DTEND;TZID=America/New_York:20260331T210000
DTSTAMP:20260424T104428
CREATED:20251208T204340Z
LAST-MODIFIED:20260107T182335Z
UID:10000765-1774985400-1774990800@laotraorilla.net
SUMMARY:Flamenco adultes - niveau avancé - tarantos | Hiver 2026
DESCRIPTION:avec Myriam Allard
URL:https://laotraorilla.net/activite/flamenco-adultes-niveau-avance-tarantos-hiver-2026/2026-03-31/
LOCATION:Studio La Lola\, 137\, Saint-Ferdinand – local 227\, Montréal\, Québec\, H4C 2S6\, Canada
CATEGORIES:Flamenco adultes
ATTACH;FMTTYPE=image/jpeg:https://laotraorilla.net/wp-content/uploads/2025/09/Vignette_Cours_Adultes-1200.jpg
ORGANIZER;CN="La Otra Orilla":MAILTO:info@laotraorilla.net
END:VEVENT
BEGIN:VEVENT
DTSTART;TZID=America/New_York:20260331T180000
DTEND;TZID=America/New_York:20260331T191500
DTSTAMP:20260424T104428
CREATED:20251208T202109Z
LAST-MODIFIED:20251208T204730Z
UID:10000733-1774980000-1774984500@laotraorilla.net
SUMMARY:Flamenco adultes - niveau intermédiaire - bulerías | Hiver 2026
DESCRIPTION:avec Myriam Allard
URL:https://laotraorilla.net/activite/flamenco-adultes-niveau-intermediaire-bulerias-hiver-2026/2026-03-31/
LOCATION:Studio La Lola\, 137\, Saint-Ferdinand – local 227\, Montréal\, Québec\, H4C 2S6\, Canada
CATEGORIES:Flamenco adultes
ATTACH;FMTTYPE=image/jpeg:https://laotraorilla.net/wp-content/uploads/2025/09/Vignette_Cours_Adultes-1200.jpg
ORGANIZER;CN="La Otra Orilla":MAILTO:info@laotraorilla.net
END:VEVENT
BEGIN:VEVENT
DTSTART;TZID=America/New_York:20260328T121500
DTEND;TZID=America/New_York:20260328T133000
DTSTAMP:20260424T104428
CREATED:20251208T210014Z
LAST-MODIFIED:20251208T213121Z
UID:10000796-1774700100-1774704600@laotraorilla.net
SUMMARY:Flamenco adultes - cours de castagnettes - seguiriya | Hiver 2026
DESCRIPTION:avec Timmy González
URL:https://laotraorilla.net/activite/flamenco-adultes-cours-de-castagnettes-seguiriya-hiver-2026/2026-03-28/
LOCATION:Studio La Lola\, 137\, Saint-Ferdinand – local 227\, Montréal\, Québec\, H4C 2S6\, Canada
CATEGORIES:Flamenco adultes
ATTACH;FMTTYPE=image/jpeg:https://laotraorilla.net/wp-content/uploads/2025/09/Vignette_Cours_Adultes-1200.jpg
ORGANIZER;CN="La Otra Orilla":MAILTO:info@laotraorilla.net
END:VEVENT
BEGIN:VEVENT
DTSTART;TZID=America/New_York:20260328T110000
DTEND;TZID=America/New_York:20260328T120000
DTSTAMP:20260424T104428
CREATED:20251208T211639Z
LAST-MODIFIED:20251208T212911Z
UID:10000843-1774695600-1774699200@laotraorilla.net
SUMMARY:Flamenco enfants - EL TACONEO - 7 à 11 ans - sevillanas | Hiver 2026
DESCRIPTION:avec Timmy González
URL:https://laotraorilla.net/activite/flamenco-enfants-el-taconeo-7-a-11-ans-sevillanas-hiver-2026/2026-03-28/
LOCATION:Studio La Lola\, 137\, Saint-Ferdinand – local 227\, Montréal\, Québec\, H4C 2S6\, Canada
CATEGORIES:Flamenco enfants
ATTACH;FMTTYPE=image/jpeg:https://laotraorilla.net/wp-content/uploads/2025/09/Vignette_Cours_Enfants-1200.jpg
ORGANIZER;CN="La Otra Orilla":MAILTO:info@laotraorilla.net
END:VEVENT
END:VCALENDAR